BEGIN:VCALENDAR
VERSION:2.0
PRODID:-//Torrington Livestock Market - ECPv6.15.20//NONSGML v1.0//EN
CALSCALE:GREGORIAN
METHOD:PUBLISH
X-WR-CALNAME:Torrington Livestock Market
X-ORIGINAL-URL:https://torringtonlivestock.com
X-WR-CALDESC:Events for Torrington Livestock Market
REFRESH-INTERVAL;VALUE=DURATION:PT1H
X-Robots-Tag:noindex
X-PUBLISHED-TTL:PT1H
BEGIN:VTIMEZONE
TZID:America/Denver
BEGIN:DAYLIGHT
TZOFFSETFROM:-0700
TZOFFSETTO:-0600
TZNAME:MDT
DTSTART:20240310T090000
END:DAYLIGHT
BEGIN:STANDARD
TZOFFSETFROM:-0600
TZOFFSETTO:-0700
TZNAME:MST
DTSTART:20241103T080000
END:STANDARD
BEGIN:DAYLIGHT
TZOFFSETFROM:-0700
TZOFFSETTO:-0600
TZNAME:MDT
DTSTART:20250309T090000
END:DAYLIGHT
BEGIN:STANDARD
TZOFFSETFROM:-0600
TZOFFSETTO:-0700
TZNAME:MST
DTSTART:20251102T080000
END:STANDARD
BEGIN:DAYLIGHT
TZOFFSETFROM:-0700
TZOFFSETTO:-0600
TZNAME:MDT
DTSTART:20260308T090000
END:DAYLIGHT
BEGIN:STANDARD
TZOFFSETFROM:-0600
TZOFFSETTO:-0700
TZNAME:MST
DTSTART:20261101T080000
END:STANDARD
END:VTIMEZONE
BEGIN:VEVENT
DTSTART;VALUE=DATE:20250827
DTEND;VALUE=DATE:20250828
DTSTAMP:20260424T222819
CREATED:20250716T163627Z
LAST-MODIFIED:20250828T154056Z
UID:4051-1756252800-1756339199@torringtonlivestock.com
SUMMARY:Wednesday\, August 27th - Feeder Special
DESCRIPTION:TORRINGTON LIVESTOCK MARKETS \nWednesday\, August 27th\, 2025\nFeeder & Calf Special\nStarting at 10:00am\nCattle Country Video \nLot 8400   Carpenter Cattle   400 Yearling Steers. 85% Blk/Bwf; 12% Red/Rwf; 3% Char. Base Wt: 750 lbs.. 2-way Slide: .16. Wt Stop: 25 lbs. Located: Cunningham\, KS. Delivery: 9/1/25 to 9/15/25. Origin: Purchased from KS\, MS\, OK. Feed: Native Grass. Shots: Pyramid 5+Presponse\, Vision 7/Somnus\, Inforce 3\, Synanthic Wormer\, Revalor G Implants. Weigh: Early am gather\, sort for loads\, weigh on buyer’s pre-weighed trucks w/a 2%. Comments: Nice set of green steers. Could go back to grass or green chop. Option on next lot. Rep: Jeff Ward 307-399-9863. \n  \nLot 8401   Carpenter Cattle   400 Yearling Steers. 85% Blk/Bwf; 12% Red/Rwf; 3% Char. Base Wt: 750 lbs.. 2-way Slide: .16. Wt Stop: 25 lbs. Located: Manhattan\, KS. Delivery: 9/1/25 to 9/15/25. Origin: Purchased from KS\, MS\, OK. Feed: Native Grass. Shots: Pyramid 5+Presponse\, Vision 7/Somnus\, Inforce 3\, Synanthic Wormer\, Revalor G Implants. Weigh: Early am gather\, sort for loads\, weigh on buyer’s pre-weighed trucks w/a 2%. Comments: Nice set of green steers. Could go back to grass or green chop. Rep: Jeff Ward 307-399-9863. \n  \nLot 8402   Carpenter Cattle   400 Yearling Steers. 99% Blk/Bwf; 1% Red/Rwf. Base Wt: 850 lbs.. 2-way Slide: .16. Wt Stop: 25 lbs. Located: Cunningham\, KS. Delivery: 9/1/25 to 9/15/25. Origin: Purchased from WY & MT. Feed: Native Grass. Shots: Pyramid 5+Presponse\, Vision 7/Somnus\, Inforce 3\, Synanthic Wormer\, Revalor G Implants. Weigh: Early am gather\, sort for loads\, weigh on buyer’s pre-weighed trucks w/a 2%. Comments: Nice set of northern black steers. Rep: Jeff Ward 307-399-9863. \nwww.cattlecountryvideo.com \n  \nFeeders \nRiehle Ranch   340 Blk Strs\, 900#\, Complete Modified Live Vac. Program\, Poured with Ivermectin and Implanted with Revalor G this spring\, Coming off grass\, Home Raised \n****18 Blk Hfrs\, 850#\, PTO @ ranch off their Replacements\, Complete Vac. Program\, Bangs Vac.\, Poured with Ivermectin this Spring\, Coming off grass\, Home Raised \nBanner Ranch   120 Hereford Strs\, 800#\, Complete Vac. Program\, Ivomec this Spring\, No Implants\, High Elevation\, Coming off grass\, Home Raised \n****70 Hereford-x Hfrs\, 650-700#\, Spayed\, Complete Vac. Program\, Ivomec this Spring\, No Implants\, High Elevations\, Coming  off grass\, Home Raised \nBrian & JeriLynn Currier   132 Blk/Rd Strs\, 1000#\, Full Vac. Program\, Coming off grass\, 1-iron. Home Raised \n****40 Blk/Rd Hfrs\, 900#\, PTO @ ranch on Aug. 28 off their Replacements\, Full Vac. Program\, 1-iron\, Coming off grass\, Home Raised \nOchsner-Roth Cattle Co.   147 Blk/Bwf Hereford Hfrs\, 1000-1050#\, Complete Vac. Program\, Coming off grass\, Been on a Mineral Program \nSno-Shoe Ranch/John & Will Grant   90 Hereford/Blk/Bwf Strs\, 850-900#\, Home Raised\, Branding & Weaning Shots: Fusoguard\, Vira Shield 6\, Pinkeye\, 7-way w/Somnus\, No Implants\, Poured\, Knife Cut\, Coming off grass\, High Elevation \n*****30 Hereford/Blk/Bwf Hfrs\, 800-850#\, Guarantee Open\, Home Raised\, Branding & Weaning Shots:  Fusoguard\, Vira Shield 6\, Pinkeye\, 7way w/Somnus\, No Implants\, Bangs Vac.\, Poured\, Coming off grass\, High Elevation \nBurks Wagon Tongue Ranch Co.   65 Blk/Bwf few Rd Strs\, 1100#\, Complete Vac. Program\, Coming off grass \n****37 Blk/Bwf few Rd Hfrs\, 900#\, Guaranteed Open\, Complete Vac. Program\, Coming off grass \nMonty & Barb Finley   46 Blk Hfrs\, 890-900#\, Spayed\, Complete Vac. Program as Calves\, Spring Shots: Modified Live Vac. Program\, Implanted with Synovex\, Coming off grass\, Home Raised\, 1-iron \n****18 Blk Strs\, 890-925#\, Complete Vac. Program as Calves\, Spring Shots:  Modified Live Vac. Program\, Implanted with Synovex\, Coming off grass\, Hme Raised\, 1-iron \nLazy HK LLC   46 Char-x Strs & Hfrs\, 650-900#\, Branding and Weaning Shots:  Pyramid 5\, 8-way\, Steers are Knife Cut\, Heifers Ran Open\, Coming off grass \nForshee Land & Livestock   38 Blk/Rd Hfrs\, 800#\, PTO @ ranch (2x)\, Received a Lutalyse Shot\, Complete Vac. Program\, Coming off grass\, Summered at 10\,000#\, Strictly LT Leachman Genetics \nLarry Rose   33 Hereford Strs\, 900-950#\, 3 Rounds of Modified Live Vac. Program\, No Implants\, Coming off grass\, 1-iron\, Home Raised \nWEBO Angus & Kathleen Jackson Ranch   18 Blk Angus Hfrs\, 850-900#\, PTO @ ranch (ultra-sound)\, A Full Modified Live Vac. Program\, Coming off grass\, Home Riased \n***12 Blk Angus Hfrs\, 750#\, Spayed\, Full Modified Live Vac. Program\, Coming off grass\, Home Raised \n****6 Blk Angus Strs\, 850#\, Full Modified Live Vac. Program\, Coming off grass\, Home Raised \n****2 Blk Angus Strs\, 1200+#\, 2 yr olds\, Full Modified Live Vac. Program\, Coming off grass\, Home Raised \nTravis & Shelly Rodewald   25 Blk Hfrs\, PTO @ ranch\, Complete Vac. Program\, Pre-breeding Shots\, Wormed and Poured in the Spring\, Coming off grass\, Bunk Broke\, 1-iron\, Home Raised \nCottonwood Ranch   25 Blk/Bwf Strs\, 900-950#\, Complete Vac. Program\, Coming off Grass \nBaer Livestock   23 Fancy Hereford Strs\, 1000#\, Complete Vac. Program\, Spring Shots:  Pyramid 5\, Vision 7\, Poured with Ivermax\, Wormed with Long Range\, Coming off grass\, Purchased at Torrington Livestock Markets; the Big End of Paul and Nancy Landeck calves \nTim Gifford   18 Mostly Blk Strs\, 800#\, Complete Vac. Program\, Coming off grass\, No Implants\, Knife Cut \nMcGill Ranch   17 Blk Angus Hfrs\, 950#\, Guaranteed Open (PTO @ ranch off their Replacements)\, Complete Vac Program\, No Implants\, Bangs Vac.\, Coming off grass\, Home Raised\, 1-iron\, High Elevation \nDoug\, Kim\, Cole & Jackie DesEnfants   13 Blk/Bwf Hfrs\, 850-1000#\, Ultra-sounded Open @ rnach\, Complete Vac. Program\, Coming off grass\, Home Raised \nMike & Valorie Heatherly   12 Blk Hfrs\, 950#\, PTO @ ranch on Sept. 2 off their Replacements\, Complete Vac. Program\, Coming off grass \nOdessa & Kolby Eddy   8 Blk Angus Hfrs\, 800-850#\, PTO @ ranch (ultra-sound)\, A Full Modified Live Vac. Program\, Coming off grass\, Home Riased \n****1 Hereford Hfr\, 825#\, PTO @ ranch (ultra-sounded)\, Full Modified Live Vac. Program\, Coming off grass\, Home Raised \n****3 Hereford/Rwf Strs\, 750-800#\, Full Modified Live Vac. Program\, Coming off grass\, Home Raised \nCasey Epler/Bonnie Bath   7 Blk Strs\, 850#\, Complete Vac. Program\, Coming off short grass been supplemented with hay and cake\, home Raised \nHummel Cattle Co.   1 Blk Angus Hfrs\, 950#\, Guaranteed Open (PTO @ ranch off their Replacements)\, Complete Vac Program\, No Implants\, Bangs Vac.\, Coming off grass\, Home Raised\, 1-iron\, High Elevation \n  \nCalves \nSAREC/Jim Hageman   69 Blk Strs & Hfrs\, 225-550#\, Weaned 60 days\, Bunk Broke\, Been on a Light Grower Ration\, Pre-cond. Shots on Aug. 8: Alpha CD\, Express 5\, Wormed with Ivermectin \nLittle Rock Livestock   30 Mx Strs & Hfrs\, 400#\, Branding Shots:  7-way\, 5-way\, Coming off cows \n  \nMANY MORE CONSIGNMENTS BY SALE DAY \nCheck out www.torringtonlivestock.com for more consignments and to view sales and bid online!!! \nFOR MORE INFORMATION CALL 307-532-3333
URL:https://torringtonlivestock.com/event/wednesday-august-27th-feeder-special/
END:VEVENT
END:VCALENDAR