BEGIN:VCALENDAR
VERSION:2.0
PRODID:-//Torrington Livestock Market - ECPv6.15.20//NONSGML v1.0//EN
CALSCALE:GREGORIAN
METHOD:PUBLISH
X-WR-CALNAME:Torrington Livestock Market
X-ORIGINAL-URL:https://torringtonlivestock.com
X-WR-CALDESC:Events for Torrington Livestock Market
REFRESH-INTERVAL;VALUE=DURATION:PT1H
X-Robots-Tag:noindex
X-PUBLISHED-TTL:PT1H
BEGIN:VTIMEZONE
TZID:America/Denver
BEGIN:DAYLIGHT
TZOFFSETFROM:-0700
TZOFFSETTO:-0600
TZNAME:MDT
DTSTART:20240310T090000
END:DAYLIGHT
BEGIN:STANDARD
TZOFFSETFROM:-0600
TZOFFSETTO:-0700
TZNAME:MST
DTSTART:20241103T080000
END:STANDARD
BEGIN:DAYLIGHT
TZOFFSETFROM:-0700
TZOFFSETTO:-0600
TZNAME:MDT
DTSTART:20250309T090000
END:DAYLIGHT
BEGIN:STANDARD
TZOFFSETFROM:-0600
TZOFFSETTO:-0700
TZNAME:MST
DTSTART:20251102T080000
END:STANDARD
BEGIN:DAYLIGHT
TZOFFSETFROM:-0700
TZOFFSETTO:-0600
TZNAME:MDT
DTSTART:20260308T090000
END:DAYLIGHT
BEGIN:STANDARD
TZOFFSETFROM:-0600
TZOFFSETTO:-0700
TZNAME:MST
DTSTART:20261101T080000
END:STANDARD
END:VTIMEZONE
BEGIN:VEVENT
DTSTART;VALUE=DATE:20250903
DTEND;VALUE=DATE:20250904
DTSTAMP:20260424T210057
CREATED:20250717T193404Z
LAST-MODIFIED:20250910T153753Z
UID:4069-1756857600-1756943999@torringtonlivestock.com
SUMMARY:Wednesday\, September 3rd - Labor Day Feeder Special
DESCRIPTION:TORRINGTON LIVESTOCK MARKETS \nWednesday\, September 3rd\, 2025\nAnnual Labor Day Special\nFeeder & Calf Special\nStarting at 9:00 AM MT \nFeeders \nRiehle Ranch   340 Blk Strs\, 900#\, Complete Modified Live Vac. Program\, Poured with Ivermectin and Implanted with Revalor G this spring\, Coming off grass\, Home Raised \n****18 Blk Hfrs\, 850#\, PTO @ ranch off their Replacements\, Complete Vac. Program\, Bangs Vac.\, Poured with Ivermectin this Spring\, Coming off grass\, Home Raised \nCole Robinson   280 Mostly Hfrs few Strs\, 700-800#\, Guaranteed Open\, Complete Modified Live Vac. Program \nBanner Ranch   124 Hereford Strs\, 800#\, Complete Vac. Program\, Ivomec this Spring\, No Implants\, High Elevation\, Coming off grass\, Home Raised \n****74 Hereford-x Hfrs\, 650-700#\, Spayed\, Complete Vac. Program\, Ivomec this Spring\, No Implants\, High Elevations\, Coming  off grass\, Home Raised \nBrian & JeriLynn Currier   132 Blk/Rd Strs\, 1000#\, Full Vac. Program\, Coming off grass\, 1-iron. Home Raised \n****40 Blk/Rd Hfrs\, 900#\, PTO @ ranch on Aug. 28 off their Replacements\, Full Vac. Program\, 1-iron\, Coming off grass\, Home Raised \nOchsner-Roth Cattle Co.   147 Blk/Bwf /Hereford Hfrs\, 1000-1050#\, Complete Vac. Program\, Coming off grass\, Been on a Mineral Program \nSno-Shoe Ranch/John & Will Grant   90 Hereford/Blk/Bwf Strs\, 850-900#\, Home Raised\, Branding & Weaning Shots: Fusoguard\, Vira Shield 6\, Pinkeye\, 7-way w/Somnus\, No Implants\, Poured\, Knife Cut\, Coming off grass\, High Elevation \n*****30 Hereford/Blk/Bwf Hfrs\, 800-850#\, Guarantee Open\, Home Raised\, Branding & Weaning Shots:  Fusoguard\, Vira Shield 6\, Pinkeye\, 7way w/Somnus\, No Implants\, Bangs Vac.\, Poured\, Coming off grass\, High Elevation \nJoss Limited LLC   116 Hereford Strs\, 850-1000#\, Complete Vac. Program\, Coming off grass\, Producer All Natural\, Home Raised \nBurks Wagon Tongue Ranch Co.   65 Blk/Bwf few Rd Strs\, 1100#\, Complete Vac. Program\, Coming off grass \n****37 Blk/Bwf few Rd Hfrs\, 900#\, Guaranteed Open\, Complete Vac. Program\, Coming off grass \nMonty & Barb Finley   46 Blk Hfrs\, 890-900#\, Spayed\, Complete Vac. Program as Calves\, Spring Shots: Modified Live Vac. Program\, Implanted with Synovex\, Coming off grass\, Home Raised\, 1-iron \n****18 Blk Strs\, 890-925#\, Complete Vac. Program as Calves\, Spring Shots:  Modified Live Vac. Program\, Implanted with Synovex\, Coming off grass\, Hme Raised\, 1-iron \nTravis & Shelly Rodewald   58 Blk Hfrs\, PTO @ ranch; Ultra-sound on Aug. 27\, Complete Vac. Program\, Pre-breeding Shots\, Wormed and Poured in the Spring\, Coming off grass\, Bunk Broke\, 1-iron\, Home Raised \nElm Creek Ranch   51 Mx Hfrs\, 625-725#\, Complete Vac. Program\, Coming off grass \nKellie & Gene Roberts   50 Mx Strs\, 800-850#\, Complete Vac. Program\, Coming off grass \nLazy HX LLC   46 Char-x Strs & Hfrs\, 650-900#\, Branding and Weaning Shots:  Pyramid 5\, 8-way\, Steers are Knife Cut\, Heifers Ran Open\, Coming off grass \nCPAP Inc.   45 Blk Strs & Hfrs\, 850-950#\, Heifers are Spayed\, Complete Vac. Program\, Coming off grass \nWEBO Angus & Kathleen Jackson Ranch   18 Blk Angus Hfrs\, 850-900#\, PTO @ ranch (ultra-sound)\, A Full Modified Live Vac. Program\, Coming off grass\, Home Riased \n***12 Blk Angus Hfrs\, 750#\, Spayed\, Full Modified Live Vac. Program\, Coming off grass\, Home Raised \n****6 Blk Angus Strs\, 850#\, Full Modified Live Vac. Program\, Coming off grass\, Home Raised \n****2 Blk Angus Strs\, 1200+#\, 2 yr olds\, Full Modified Live Vac. Program\, Coming off grass\, Home Raised \nLarry Rose   33 Hereford Strs\, 900-950#\, 3 Rounds of Modified Live Vac. Program\, No Implants\, Coming off grass\, 1-iron\, Home Raised \nBlackmore Ranch   32 Mostly Red few Blk/Rwf Hfrs\, 850-950#\, Guaranteed Open (PTO @ ranch on Aug. 29)\, Complete Vac. Program\, No Implants\, Bangs Vac.\, Coming off grass\, Been on a Complete Salt & Mineral Program \nCastle Peak    31 Mx Hfrs\, 575-675#\, Spayed or Open Hfrs\, 575-675#\, Complete Vac. Program\, Coming off grass \nO 5 Livestock /Buzz Orton   30 Mostly Blk (2 Rd) Strs & Hfrs\, 750-775#\, Heifers are Guaranteed Open\, Coming off grass\, 3 Rounds of Modified Live Vac. Program\, Wormed before going to grass\, Originated from Joe & Anne Campbell as calves \nGrant Ranch   30 Blk Hfrs\, 800-850#\, PTO @ ranch\, Complete Vac. Program\, Coming off grass\, Home Raised\, High Elevation \nMoore Land & Livestock   27 Blk Hfrs\, 950#\, PTO @ ranch on Sept. 2\, Complete Vac. Program\, Coming off grass\, Home Raised\, 1-iron \nCottonwood Ranch/Bradyn Bruegger   27 Blk/Bwf Strs\, 900-950#\, Complete Vac. Program\, Coming off Grass \nLoren & Shirley Isbell   24 Mostly Hfrs few Strs\, 700-1000# (mostly 825-950#)\, Heifers are Guaranteed Open\, Complete Modified Live Vac. Program in the Spring\, Poured Late July \nBaer Livestock   23 Fancy Hereford Strs\, 1000#\, Complete Vac. Program\, Spring Shots:  Pyramid 5\, Vision 7\, Poured with Ivermax\, Wormed with Long Range\, Coming off grass\, Purchased at Torrington Livestock Markets; the Big End of Paul and Nancy Landeck calves \nRawhide Ranch   22 Mostly Blk Hfrs\, 775#\, Guaranteed Open\, Complete Vac. Program \nBohlander Ranch Company   19 Blk Hfrs\, 850#\, PTO @ ranch\, Branding and Weaning Shots:  Vista Once SQ\, Vision 7 w/Somnus\, Home Raised\, 1-iron \nTim Gifford   18 Mostly Blk Strs\, 800#\, Complete Vac. Program\, Coming off grass\, No Implants\, Knife Cut \nMcGill Ranch   17 Blk Angus Hfrs\, 950#\, Guaranteed Open (PTO @ ranch off their Replacements)\, Complete Vac Program\, No Implants\, Bangs Vac.\, Coming off grass\, Home Raised\, 1-iron\, High Elevation \nFour R Farms   15 Blk/Rd Hfrs\, 650#\, Guaranteed Open\, Complete Vac. Program\, Coming off grass \nDoug\, Kim\, Cole & Jackie DesEnfants   13 Blk/Bwf Hfrs\, 850-1000#\, Ultra-sounded Open @ ranch\, Complete Vac. Program\, Coming off grass\, Home Raised \nMike & Valorie Heatherly   12 Blk Hfrs\, 950#\, PTO @ ranch on Sept. 2 off their Replacements\, Complete Vac. Program\, Coming off grass \nOdessa & Kolby Eddy   8 Blk Angus Hfrs\, 800-850#\, PTO @ ranch (ultra-sound)\, A Full Modified Live Vac. Program\, Coming off grass\, Home Raised \n****1 Hereford Hfr\, 825#\, PTO @ ranch (ultra-sounded)\, Full Modified Live Vac. Program\, Coming off grass\, Home Raised \n****3 Hereford/Rwf Strs\, 750-800#\, Full Modified Live Vac. Program\, Coming off grass\, Home Raised \nTurtle Rock Ranch   11 Hereford/Blk/Bwf Strs & Hfrs\, 800-850#\, Complete Vac. Program\, Coming off grass\, Bunk Broke \nTyler Espinosa   11 Red Hfrs\, 775-800#\, Open\, Complete Vac. Program\, Coming off grass \nDr. Joe Skavdahl   10 Mx Hfrs\, 950-1000#\, PTO @ ranch\, Complete Vac. Program\, Coming off grass \nLevi & Sarah Kosmicki   10 Blk (1 Red) Hfrs\, 900-950#\, PTO @ ranch\, Complete Vac. Program\, Coming off grass \nCasey Epler/Bonnie Bath   7 Blk Strs\, 850#\, Complete Vac. Program\, Coming off short grass been supplemented with hay and cake\, home Raised \nStephen Queen   5 Mx Strs\, 700-800#\, Complete Vac. Program\, Coming off grass \nJulie & Justin Gentle   4 Herford/Red Angus (1 Blk) Hfrs\, 900#\, PTO @ ranch\, Complete Modified Live Vac. Program\, Coming off grass\, Free Choice Salt & Mineral\, Home Raised \nHummel Cattle Co.   1 Blk Angus Hfrs\, 950#\, Guaranteed Open (PTO @ ranch off their Replacements)\, Complete Vac Program\, No Implants\, Bangs Vac.\, Coming off grass\, Home Raised\, 1-iron\, High Elevation \nAndy Gaukel   1 Blk Str\, 950-1000#\, Complete Vac. Program\, Coming off grass \nDylan Hager   1 Blk Hfr\, 975#\, PTO @ ranch on Sept. 2\, Complete Vac. Program\, Coming off grass \n  \nCalves \nSAREC/Jim Hageman   69 Blk Strs & Hfrs\, 225-550#\, Weaned 60 days\, Bunk Broke\, Been on a Light Grower Ration\, Pre-cond. Shots on Aug. 8: Alpha CD\, Express 5\, Wormed with Ivermectin \nSilver Spur Operating   69 Mx Strs & Hfrs\, 225-600#\, Branding and Pre-cond. Shots:   Vista Once\, Vision 7\, Wormed\, Coming off cows \nFluffy Fields Ranch  35 Mx Strs & Hfrs\, 350-600#\, Branding Shots \nLittle Rock Livestock   30 Mx Strs & Hfrs\, 400#\, Branding Shots:  7-way\, 5-way\, Coming off cows \nWalkin M Ranch   3 Hereford/Char-x Hfrs\, 450-600#\, Weaned a long time\, 2 Rounds of Shots\, Bunk broke\, Grass Hay and sone Corn \nAndy Gaukel   2 Blk Strs\, 700#\, Branding & Pre-cond. Shots\, Producer All Natural \nMANY MORE CONSIGNMENTS BY SALE DAY \nCheck out www.torringtonlivestock.com for more consignments and to view sales and bid online!!! \nFOR MORE INFORMATION CALL 307-532-3333 \nPrint Sale Bill
URL:https://torringtonlivestock.com/event/wednesday-september-3rd-labor-day-feeder-special/
END:VEVENT
END:VCALENDAR