BEGIN:VCALENDAR
VERSION:2.0
PRODID:-//Torrington Livestock Market - ECPv6.15.20//NONSGML v1.0//EN
CALSCALE:GREGORIAN
METHOD:PUBLISH
X-ORIGINAL-URL:https://torringtonlivestock.com
X-WR-CALDESC:Events for Torrington Livestock Market
REFRESH-INTERVAL;VALUE=DURATION:PT1H
X-Robots-Tag:noindex
X-PUBLISHED-TTL:PT1H
BEGIN:VTIMEZONE
TZID:America/Detroit
BEGIN:DAYLIGHT
TZOFFSETFROM:-0500
TZOFFSETTO:-0400
TZNAME:EDT
DTSTART:20240310T070000
END:DAYLIGHT
BEGIN:STANDARD
TZOFFSETFROM:-0400
TZOFFSETTO:-0500
TZNAME:EST
DTSTART:20241103T060000
END:STANDARD
BEGIN:DAYLIGHT
TZOFFSETFROM:-0500
TZOFFSETTO:-0400
TZNAME:EDT
DTSTART:20250309T070000
END:DAYLIGHT
BEGIN:STANDARD
TZOFFSETFROM:-0400
TZOFFSETTO:-0500
TZNAME:EST
DTSTART:20251102T060000
END:STANDARD
BEGIN:DAYLIGHT
TZOFFSETFROM:-0500
TZOFFSETTO:-0400
TZNAME:EDT
DTSTART:20260308T070000
END:DAYLIGHT
BEGIN:STANDARD
TZOFFSETFROM:-0400
TZOFFSETTO:-0500
TZNAME:EST
DTSTART:20261101T060000
END:STANDARD
END:VTIMEZONE
BEGIN:VEVENT
DTSTART;VALUE=DATE:20250905
DTEND;VALUE=DATE:20250906
DTSTAMP:20260424T210152
CREATED:20250717T193432Z
LAST-MODIFIED:20250910T153820Z
UID:4071-1757030400-1757116799@torringtonlivestock.com
SUMMARY:Friday\, September 5th - All Classes
DESCRIPTION:TORRINGTON LIVESTOCK MARKETS \nFriday\, September 5th\, 2025\n All Classes\nStarting at 9:00 am MDT with Weigh-ups;\nPairs \nCarter Groene   1 Blk Cow Pair\, 4 yr old\, Heifer Calf at Side\, Not Exposed back to bull \n  \nBreds \nMontgomery Livestock   46 Mx Cows\, SS-ST\, Bred to Blk Bulls\, CF:  March 24 for 60 days \n  \nFeeders \nDG Livestock   170 Mostly Blk few Red/Char Hfrs\, 600-700#\, Guaranteed Open\, Complete Vac. Program \nIrvine Ranch   28 Blk Hfrs\, 900-1000#\, PTO @ ranch on Sept. 2\, Complete Vac. Program\, Coming off grass \nDeGering Livestock   24 Blk Hfrs\, 900-1000#\, PTO @ ranch b y Dr. Smylie\, Complete Vac. Program\, No Implants\, Coming off grass\, Home Raised \nBrad Lang   8 Blk Hfrs\, 775#\, Open \nJace Jackman   7 Crossbred Strs & Hfrs\, 300-600# \n  \nWeighups \nJason DeBerard   44 Mx Cows \n****1 Bull   \nIrvine Ranch   11 Mx Cows/Bulls \nGerald Sterkel   9 Blk Cows \nSims Cattle Co.   7 Mx Bulls \nWaddle Limousin Cattle   6 Mx Cows/Bull (cows are exposed back to bulls) \nJoe Johnson Co.   6 Blk Bulls \nTwo Creek Land & Livestock   6 Red Bulls \nShannon Bruegger   5 Bulls \nP O Ranch   5 Bulls \nForshee Land & Livestock   4 Mx Bulls \nSam Rosengreen   4 Mx Bulls \nA J Bar Ranch/David Johnson   3 Bulls \nLazy HX LLC   3 Mx Cows \nCody Smith   3 Bulls \nBrian Zerbe   2 Bulls \nCastle Peak Ranch   2 Blk Bulls \nMcGill Ranch   2 Blk Bulls \nHarding Ranch   2 Bulls \nFlying Heart Ranch   2 Blk Bulls \nAustin Alarid   1 Bull \nCarroll or Christine Soward  1 Bull \nJordan Reed   1 Blk Bull \nJ & D Cattle Co.   1 Blk Bull \nDavid Delancey   1 Corr. Bull \nWyoherz LLC   1 Blk Bull \nMark Swanson   1 Bull \nMANY MORE CONSIGNMENTS BY SALE DAY \nCheck out www.torringtonlivestock.com for more consignments and to view sales and bid online!!! \nFOR MORE INFORMATION CALL 307-532-3333
URL:https://torringtonlivestock.com/event/friday-september-5th-all-classes/
END:VEVENT
END:VCALENDAR