BEGIN:VCALENDAR
VERSION:2.0
PRODID:-//Torrington Livestock Market - ECPv6.15.20//NONSGML v1.0//EN
CALSCALE:GREGORIAN
METHOD:PUBLISH
X-WR-CALNAME:Torrington Livestock Market
X-ORIGINAL-URL:https://torringtonlivestock.com
X-WR-CALDESC:Events for Torrington Livestock Market
REFRESH-INTERVAL;VALUE=DURATION:PT1H
X-Robots-Tag:noindex
X-PUBLISHED-TTL:PT1H
BEGIN:VTIMEZONE
TZID:America/Denver
BEGIN:DAYLIGHT
TZOFFSETFROM:-0700
TZOFFSETTO:-0600
TZNAME:MDT
DTSTART:20240310T090000
END:DAYLIGHT
BEGIN:STANDARD
TZOFFSETFROM:-0600
TZOFFSETTO:-0700
TZNAME:MST
DTSTART:20241103T080000
END:STANDARD
BEGIN:DAYLIGHT
TZOFFSETFROM:-0700
TZOFFSETTO:-0600
TZNAME:MDT
DTSTART:20250309T090000
END:DAYLIGHT
BEGIN:STANDARD
TZOFFSETFROM:-0600
TZOFFSETTO:-0700
TZNAME:MST
DTSTART:20251102T080000
END:STANDARD
BEGIN:DAYLIGHT
TZOFFSETFROM:-0700
TZOFFSETTO:-0600
TZNAME:MDT
DTSTART:20260308T090000
END:DAYLIGHT
BEGIN:STANDARD
TZOFFSETFROM:-0600
TZOFFSETTO:-0700
TZNAME:MST
DTSTART:20261101T080000
END:STANDARD
END:VTIMEZONE
BEGIN:VEVENT
DTSTART;VALUE=DATE:20250917
DTEND;VALUE=DATE:20250918
DTSTAMP:20260424T205931
CREATED:20250717T193657Z
LAST-MODIFIED:20250922T015312Z
UID:4077-1758067200-1758153599@torringtonlivestock.com
SUMMARY:Wednesday\, September 17th - Feeder Special
DESCRIPTION:TORRINGTON LIVESTOCK MARKETS \nWednesday\, September 17th\, 2025\nFeeder & Calf Special\nStarting at 8:00am\nFeeders \nBarney Ranches   500 Mx Strs\, 735-910#\, Complete Vac. Program\, No Implants\, Coming off grass\, Home Raised \n****190 Mx Hfrs\, 725-875#\, Given a Lutalyse Shot @ barn\, Complete Vac. Program\, No Implants\, Coming off grass\, Home Raised \nEmerald Dreams Corp.   388 Mx Strs & Hfrs\, 850-1000#\, Complete Vac. Program\, Coming off grass \nHeifers are PTO or Spayed \nJim Morrison   370 Mostly Char English-x few Red/Rwf Strs & Hfrs\, 900-1050#\, Complete Vac. Program\, Coming off grass\, Heifers are Spayed\, All Purchased thru Torrington Livestock Markets \nJohn Reisz   151 75 % Blk/25% Char/Rd Strs\, 800-850#\, Complete Modified Live Vac. Program\, Coming off grass\, Green \n****72 75% Blk/25% Char/Rd Strs\, 650-700#\, Complete Modified Live Vac. Program\, Coming off grass\, Green \nCade Shutter   189 Mx Strs & Hfrs\, 680-800#\, Complete Vac. Program\, Coming off grass \nHeifers are PTO or Spayed \nLefty Lemaster   150 Mx Strs\, 900-1000#\, Complete Vac. Program\, Complete Mineral Program\, Coming off grass \nWinecup Gamble/MT   141 Mx Hfrs\, 780#\, Complete Modified Live Vac. Program\, Coming off grass\, Heifers Ran Open\, Age & Sourced\, NHTC\, BeefCare thru IMI Global \nPV Cattle   100 Mx Hfrs\, 800-950#\, Complete Modified Live Vac. Program\, Coming off grass\, Heifers Ran Open\, Age & Sourced\, NHTC\, BeefCare thru IMI Global \nBarry & Ryan Hayden/Hayden Maycock Trust   78 Char-x Strs\, 700-750#\, Complete Modified Live Vac. Program\, Shots before going to grass: Bovi-Shield Gold 5\, Ultrabac 7\, Coming off grass \nQ Creek Land & Livestock   75 Mx Strs & Hfrs\, 800-850#\, Complete Modified Live Vac. Program\, Coming off grass\, Heifers Ran Open\, Age & Sourced\, NHTC\, BeefCare thru IMI Global \nBox E Cattle Co.   70 Blk Angus Hfrs\, 825-850#\, Spayed\, Shots as Calves: Vista Once (2x)\, Vision 7 (2x)\, Spayed end of March\, Implanted with Revolar G\, Poured on June 26\, Home Raised \nD & W Livestock   70 Mx Hfrs\, 850-1000#\, Complete Vac. Program\, Coming off grass \nArchie & Lesa Chant   60 Blk Strs & Hfrs\, 850-900#\, Heifers PTO @ ranch on Sept. 15 off their Replacements\,illi Complete Vac. Program\, Coming off grass \nCastle Peak Ranch   60 Mx Hfrs\, 950-1000#\, PTO @ ranch on Sept. 14 off their Replacement Heifers\, Complete Vac. Program\, Coming off grass\, Home Raised\, High Elevation \nJarrard Livestock   59 Mx Strs & Hfrs\, 775-800#\, Heifers are PTO @ ranch\, Complete Vac. Program\, Coming off grass\, Home Raised \nIvan Eddy   52 Blk/Bwf (4 Rwf) Strs\, 1000#\, Complete Vac. Program as Calves\, Spring Shots and Poured before going to grass\, No Implants\, Home Raised\, Coming off grass\, Bunk Broke \nM & M Ranch   51 Longhorn-x Strs\, 820-850#\, All Shots\, Been on Feed for 70 days \nForshee Land & Livestock   50 Blk/Rd Hfrs\, 800#\, PTO @ ranch (2x)\, Received a Lutalyse Shot\, Complete Vac. Program\, No Implants\, Coming off grass\, Summered at 10\,000#\, Strictly LT Leachman Genetics \nFlying Diamond Ranch   49 Mx Strs & Hfrs\, 760-800#\, Heifers are Spayed\, Complete Vac. Program\, No Implants\, Coming off grass\, Sired by Diamond Peak Angus Bulls\, Dams are of Reyes (MR Angus) Genetics \nBob Swift   35 Blk/Bwf/Hereford Hfrs\, 900-950#\, PTO @ ranch\, Complete Vac. Program\, Coming off grass\, Home Raised \nDewey Hageman Family Trust   35 Blk (24 hd)/Char-x Hfrs\, 850-950#\, PTO @ ranch off their Replacements\, Complete Vac. Program\, Coming off grass \nDT Livestock/Drake Jorns   35 Blk/Rd Hfrs\, 825-875#\, Spayed\, Complete Vac. Program\, Coming off grass \nPipestone Ranch   34 Mx Strs/Bulls\, 650-950#\, All Shots\, Coming off grass \nWade Phipps   33 Mx Strs & Hfrs\, 900-950#\, Heifers are PTO @ ranch\, 2 Rounds of Shots: Vision 7\, Vista Once\, Coming off grass \nP & T Livestock   30 Mx Strs & Hfr (1 hd)\, 750-800#\, Complete Vac. Program\, Coming off grass \nCrow Valley Ranch   30 Blk Hfrs\, 1050#\, PTO @ ranch on 9/15\, Preg check at barn on 9/16\, Complete Vac. Progarm\, Spring Shots before going to grass: Bovi-Shield Gold 5 + VL5\, Vision 7\, Long Range\, Poured w/Ivomex \nJacob Sorensen   27 Mostly Blk (2Rd) Strs & Hfrs\, 600-800#\, 2 Rounds of Shots\, Wormed\, Poured\, Revalor G before going to grass\, Coming off grass \nDakota & Jocelyn Forkner   25 Blk Hfrs\, 850#\, PTO @ ranch on Aug. 4\, Full Vac. Program\, Coming off grass \nMiddleton Land Co.  25 Mostly Blk Strs\, 700#\, No Shots\, Coming off grass\, Knife Cut\, Home Raised\, Producer All Natural \nGrindstone Cattle Co./Maggie Miler   24 Mx Strs\, 700-800#\, Complete Vac. Program\, Coming off grass \nLampert Cattle Co.   23 Blk/Bwf Strs\, 900-1000#\, Complete Vac. Program\, Coming off grass \nLaurel Leaf   23 Mx Strs & Hfrs\, 850-950#\, Heifers are Spayed\, Complete Vac. Program\, Coming off grass \nLankister Livestock   23 Blk Angus Strs & Hfrs\, 625-750#\, Heifers are Spayed\, Complete Vac. Program\, Coming off grass \nBar Diamond Cattle   22 Mx Hfrs\, 850-950#\, Spayed\, Complete Vac. Program\, Coming off grass \nMuleshoe Land & Cattle   21 Blk Hfrs\, 900-950#\, Ultra-Sound Open @ ranch\, Branding Shots: Vista Once\, Vision 7\, Pre-cond. Shots: Vista Once\, Vision 7 w/Somnus\, Had Spring Shots and Poured w/Cleanup at Preg Check\, Coming off grass \nBethany Krein   21 Blk Strs\, 850-950#\, Complete Vac. Program\, Springs Shots before going to grass\, Coming off grass \nHardgrass Inc  20 Blk Hfrs\, 800-875#\, Complette Vac Program\, Ran Open/ Guaranteed Open \nGarson Ranch   19 Mx Strs & Hfrs\, 700#\, Guaranteed Open\, Complete Vac. Program\, Coming off grass\, Producer All Natural \nA Cross A Livestock   16 Blk/Char-x Mostly Strs few Hfrs\, 700-850#\, Complete Vac. Program\, Coming off grass\, Home Raised/Family Brands\, High Elevation\, Producer All Natural \nBen Hanson   15 Mx Hfrs\, 800-900#\, Spayed\, Complete Vac. Program\, Coming off grass \nCullen Ranch   15 Blk (1 Red/1 Bwf) Hfrs\, 775=800#\, PTO @ ranch on 9/10\, Complete Vac. Program\, Coming off grass \nCheyenne Cattle Co.   15 Mx Strs\, 775-800#\, Complete Vac. Program\, Coming off grass \nAndy Stellpflug   14 Mx Hfrs\, 1050-1100#\, PTO @ ranch on 9/12\, Complete Vac. Program\, Coming off grass \nBrian Zerbe   14 Blk Hfrs\, 950-1000#\, PTO @ ranch off their Replacements on 9/9\, Complete Vac. Program\, Coming off grass\, Home Raised \nTim Redmon   14 Blk SimAngus Hfrs\, 950#\, PTO @ ranch on Sept. 8 (ultra-sounded by a Licensed Vet)\, Complete Vac. Program\, Booster Shots in the Spring before going to grass\, Bangs Vac\, Home Raised\, 1-iron\, High Elevation (running up to 10\,000’) \nMatt Dockery   14 Blk Hfrs\, 850#\, PTO @ ranch\, Complete Vac. Program\, Coming off grass \nBrad & Shirley Churchill   13 Blk/Char-x Strs & Hfrs\, 950-1050#\, Heifers are PTO @ ranch\, Complete Vac. Program\, Complete Vitaferm Mineral Program\, Coming off grass \, Home Raised\, Note: 93% Choice & Prime Carcass History \nBroken Arrow Livestock   12 Char-x Hfrs\, 900-950#\, Spayed\, Complete Vac. Program\, Coming off grass \nEly Ranch  10 Mx Strs & Hfrs\, 700-900\, hfrs pto at ranch \nTom Hadley   9 Mx Strs & Hfrs\, 625-650#\, Hay Fed\, Branding Shots: 7-way w/Somnus\, Bovi-Shield Gold One Shot\, Pre-cond. Shots: Bovi-Shield Gold One Shot\, 7-way w/Somnus\, Weaning Shots: 7-way w/Somnus \nBryan & Linda Sidwell   7 Blk Hfrs\, 925-950#\, Ultra-sounded Open on 9/8\, Complete Vac. Program\, Coming off grass \nDennis Birdsall   7 Hereford Hfrs\, 900#\, PTO @ ranch off their Replacements\, Complete Vac. Program\, Bangs Vac\, Coming off grass \nOverland Ranch   6 Mx Strs & Hfrs\, 950-1050#\, All Shots \nLaura Harimon   6 Blk Angus Hfrs\, 750#\, Guaranteed Open\, Complete Vac. Program\, Bangs Vac.\, No Implants\, Home Raised\, Coming off grass \nBridle Bit Ranch   6 Blk/Bwf  Angus Hfrs\, 1000#\, PTO @ ranch off their Replacements\, Complete Vac. Program\, Coming off grass\, Home Raised\, AI sired \nBroken Arrow Livestock   5 Mx Hfrs\, 800-900#\, Spayed\, Complete Vac. Program\, Coming off grass \nCross Ranch   5 Mx Hfrs\, 800-900#\, PTO @ ranch\, Complete Vac. Program\, Coming off grass \nT Bench Land & Livestock   5 Blk Strs\, 850#\, Complete Vac. Program\, Coming off grass \nSteve Cushman   5 Hereford Strs\, 1100#\, Complete Vac. Program\, Coming  off grass \nDan Cathcart   4 Blk/Corr.-x Strs & Hfrs\, 600-900#\, Complete Vac. Program\, Coming off grass\, No Horns\, Heifer is Open \nDan Starkson   3 Mx Strs\, 1000#\, Coming off grass\, Branding and Weaning Shots: Bovi-Shield  Gold\, 7-way\, Also at Weaning:  Valzban\, Pinkeye\, In January: IBR Booster\, Poured w/Ivomec\, Before going to Grass: Implanted with Revalor G\, Decotmax Injectable Wormer \nLeander Hopkins   2 Mx Hfrs\, 850-1000#\, PTO @ ranch\, Complete Vac. Program\, Coming off grass \nMonty & Barb Finley  4 Blk Hfrs 950#\, PTO @ ranch\, Complete Vac. Program\, coming off grass \, 1-iron \nScott Kleemeyer   1 Blk Angus Hfr\, 1100#\, PTO @ ranch\, Complete Vac. Program\, Coming off grass \n  \nWeaned Calves \nThane Ashenhurst   75 Red few Blk Strs & Hfrs\, 450-500#\, Weaned for 30 days\, Hay Feed\, Been on Lick Tubs\, 2 Rounds of Shots:  Inforce 3\, UltraChoice 7\, One Shot BVD \nB G Livestock   41 Mx Strs & Hfrs\, 550-800#\, Weaned 120+ days\, Been on a Grower Rations\, 3 Rounds of Shots\, Poured\, Calves were Born in November/December \nRoxie Adams   8 Blk Bull/Hfr Calves\, 500-550#\, Weaned on Sept. 8\, Hay Fed\, Producer All Natural \nWill Jurek   7 Mx Strs & Hfrs\, 600-700#\, Weaned 45 days\, Bunk Broke\, Fed Hay with 1# of grain\, 2 Rounds of Shots:  Covexin 8\, One Round of Shots: Vira Shield 6    \nBruce Schneider   5 Mx Strs/Hfr Calves\, 650#\, Weaned 60+ days\, Running out\, Hay Fed\, Branding Shots: 7-way \nLee Carpenter   4 Blk/Bwf Strs\, 700#\, Weaned 35 days\, Running out on grass supplemented with Hay\, 2 Rounds of Shots:  7-way\, Nasalgen \nJanet Shatto   4 Red/Blk Angus Strs\, 700-800#\, Weaned 180 days\, 3 Rounds of Shots:  One Shot Ultra 7\, Bovi-Shield Gold One Shot\, Coming off grass and Sweet Feed and a lot of love. \n  \nCalves \nMonty & Clark Anderson   60 Mx Strs & Hfrs\, 500#\, Branding Shots \nCharles Maike   30 Mx Strs & Hfrs\, 400-500#\, Branding Shots:  Ultra Choice 6\, 7-way \nRooster Ranch   26 Hereford/Bwf Strs & Hfrs\, 500#\, Branding Shots: Vista Once\, Vision 7\, Coming off cows \nMike Ridenour   16 Mx Hfr/Bull Calves\, 500#\, No Shots\, Coming off cows \nBarb Becker   7 Blk Strs & Hfrs 400-525# \nEly Ranch    1 Str 250# \nMANY MORE CONSIGNMENTS BY SALE DAY \nCheck out www.torringtonlivestock.com for more consignments and to view sales and bid online!!! \nFOR MORE INFORMATION CALL 307-532-3333
URL:https://torringtonlivestock.com/event/wednesday-september-17th-feeder-special/
END:VEVENT
END:VCALENDAR