BEGIN:VCALENDAR
VERSION:2.0
PRODID:-//Torrington Livestock Market - ECPv6.15.20//NONSGML v1.0//EN
CALSCALE:GREGORIAN
METHOD:PUBLISH
X-ORIGINAL-URL:https://torringtonlivestock.com
X-WR-CALDESC:Events for Torrington Livestock Market
REFRESH-INTERVAL;VALUE=DURATION:PT1H
X-Robots-Tag:noindex
X-PUBLISHED-TTL:PT1H
BEGIN:VTIMEZONE
TZID:America/Denver
BEGIN:DAYLIGHT
TZOFFSETFROM:-0700
TZOFFSETTO:-0600
TZNAME:MDT
DTSTART:20240310T090000
END:DAYLIGHT
BEGIN:STANDARD
TZOFFSETFROM:-0600
TZOFFSETTO:-0700
TZNAME:MST
DTSTART:20241103T080000
END:STANDARD
BEGIN:DAYLIGHT
TZOFFSETFROM:-0700
TZOFFSETTO:-0600
TZNAME:MDT
DTSTART:20250309T090000
END:DAYLIGHT
BEGIN:STANDARD
TZOFFSETFROM:-0600
TZOFFSETTO:-0700
TZNAME:MST
DTSTART:20251102T080000
END:STANDARD
BEGIN:DAYLIGHT
TZOFFSETFROM:-0700
TZOFFSETTO:-0600
TZNAME:MDT
DTSTART:20260308T090000
END:DAYLIGHT
BEGIN:STANDARD
TZOFFSETFROM:-0600
TZOFFSETTO:-0700
TZNAME:MST
DTSTART:20261101T080000
END:STANDARD
END:VTIMEZONE
BEGIN:VEVENT
DTSTART;VALUE=DATE:20250919
DTEND;VALUE=DATE:20250920
DTSTAMP:20260424T210151
CREATED:20250717T193725Z
LAST-MODIFIED:20250922T015324Z
UID:4079-1758240000-1758326399@torringtonlivestock.com
SUMMARY:Friday\, September 19th - All Classes
DESCRIPTION:TORRINGTON LIVESTOCK MARKETS \nFriday\, September 19th\, 2025\n All Classes\nStarting at 9:30 am MDT with Weigh-ups;\nPairs \nBraeden & Gary Stuglerberg   1 Cow Pair\, Mx Ages \n  \nBreds \nShaffer Livestock   24 Mx Cows\, Mx Ages\, Bred to Hereford or Blk Bulls\, CF: March \nHomestead Acres   22 Mx Cows\, SM-ST\, Bred to Blk Bulls\, CF: July/August \nJames Werning   6 Mx Cows\, 3-4 yr olds\, Bred to Highland Bull\, CF: March 1 \nBraeden & Gary Stuglerberg   3 Mx Cows\, Mx Ages\, CF: Mx \n  \nBred Heifers \nShaffer Livestock   20 Mx Hfrs\, Bred to Sitz & Split Diamond Bulls\, CF: March \nEmerald Dream   7 Blk Hfr\, CF: Feb-May\, Mx Vac. \n  \nFeeders \nTyler Kimzey   6 Mx Strs & Hfrs\, 750# \n****3 Blk Strs & Hfrs\, 450# \nDon Towns   6 Hereford Bulls\, 575-600# \nSims Cattle Co.   6 Blk Yearling Bulls\, 750-800# \nSkeleton Springs Ranch   5 Blk Hfrs\, 800# \nWes Crozier   1 Calf\, 350-450# \n  \nWeighups \nAlvaro Baeza   20 Mx Cows \nBerry Ranch   19 Mx Cows/Hfretts \nBraeden & Gary Stuglerberg   15 Mx Cows \nBob Swift   7 Mx Cows \nAlbert & Marjory Hildebrand   7 Mx Cows/Bulls \nRichard Cross   7 Mx Cows/Bulls \nXL Angus Ranch   6 Mx Cows/Bulls \nRoberts Ranch LLC   3 Mx Cows \nHomestead Acres   2 Mx Cows \nBarney Ranches   2 Mx Hfretts \nWes Crozier   2 Mx Hfrs\, 3 yr olds \nBrian Zerbe   2 Blk Bulls \nSkeleton Springs Ranch   2 Mx Cows \nColten Rodeman   1 Cow \nMike Ridenour   1 Cow \nHarvat Cattle & Hay   1 Bull \nKelly Artery   1 Bull \nMark Park   1 Blk Bull \nMonty Stokes   1 Cow \nRooster Ranch   1 Hereford Bull \nWilliam Gutierrez   1 Hereford Cow \nEly Ranch   1 Blk Bull \nJarrard L/S   1 Blk Cow \nDempsey Hansen   1 Blk Cow \nTyler Kimzey   1 Bull \nMANY MORE CONSIGNMENTS BY SALE DAY \nCheck out www.torringtonlivestock.com for more consignments and to view sales and bid online!!! \nFOR MORE INFORMATION CALL 307-532-3333
URL:https://torringtonlivestock.com/event/friday-september-19th-all-classes/
END:VEVENT
END:VCALENDAR