BEGIN:VCALENDAR
VERSION:2.0
PRODID:-//Torrington Livestock Market - ECPv6.15.20//NONSGML v1.0//EN
CALSCALE:GREGORIAN
METHOD:PUBLISH
X-ORIGINAL-URL:https://torringtonlivestock.com
X-WR-CALDESC:Events for Torrington Livestock Market
REFRESH-INTERVAL;VALUE=DURATION:PT1H
X-Robots-Tag:noindex
X-PUBLISHED-TTL:PT1H
BEGIN:VTIMEZONE
TZID:America/Denver
BEGIN:DAYLIGHT
TZOFFSETFROM:-0700
TZOFFSETTO:-0600
TZNAME:MDT
DTSTART:20240310T090000
END:DAYLIGHT
BEGIN:STANDARD
TZOFFSETFROM:-0600
TZOFFSETTO:-0700
TZNAME:MST
DTSTART:20241103T080000
END:STANDARD
BEGIN:DAYLIGHT
TZOFFSETFROM:-0700
TZOFFSETTO:-0600
TZNAME:MDT
DTSTART:20250309T090000
END:DAYLIGHT
BEGIN:STANDARD
TZOFFSETFROM:-0600
TZOFFSETTO:-0700
TZNAME:MST
DTSTART:20251102T080000
END:STANDARD
BEGIN:DAYLIGHT
TZOFFSETFROM:-0700
TZOFFSETTO:-0600
TZNAME:MDT
DTSTART:20260308T090000
END:DAYLIGHT
BEGIN:STANDARD
TZOFFSETFROM:-0600
TZOFFSETTO:-0700
TZNAME:MST
DTSTART:20261101T080000
END:STANDARD
END:VTIMEZONE
BEGIN:VEVENT
DTSTART;VALUE=DATE:20250926
DTEND;VALUE=DATE:20250927
DTSTAMP:20260424T210151
CREATED:20250717T193830Z
LAST-MODIFIED:20251001T023708Z
UID:4083-1758844800-1758931199@torringtonlivestock.com
SUMMARY:Friday\, September 26th - All Classes
DESCRIPTION:TORRINGTON LIVESTOCK MARKETS \nFriday\, September 26th\, 2025\n All Classes\nStarting at 8:00 am MDT with Weigh-ups;\nBred Heifers \nBosen Land & Livestock   60 Blk/Bwf Hfrs\, Bred to Blk Angus Bulls: SAV Final Answer 0035\, Basin Advance 3134\, Mohnen Substantial 372\, Home Raised or Purchased from neighbors as calves\, Weaning shots: Vista Once SQ\, Ultrabac 8\, Dectomax Pour On\, Spring Shots before going to grass:  Ultrabac 8\, Poured with Ivomec View Video \nLittle Creek Ranch   3 Mx Hfrs\, CF:  March\, Mx Vac. \nJason Cole   1 Hereford Hfr\, CF: Mx \n  \nPairs \nDomeck Ranch   1 Blk Cow Pair\, ST\, Bangs Vac. \nBob Clark   1 Milk Cow Pair\, 5 yr old\, Calf at side 400-450#\, Fresh\, Been Hand Milk Only\, (Note: can be hand milk by an adult but recommends no young person as she moves around to much) \n  \nBreds \nHerb Wilber   9 Mx Cows\, 3-SM\, CF: Mx\, Red Tag \nDomeck Ranch   6 Mx Cows\, Mx Ages\, CF: Mx \nJason Cole   3 Hereford Cows\, 3 yr-7 yr olds\, CF: Mx \n  \nFeeders \nVan Tassel Ranch   12 Mx Strs\, 900-975#\, Complete Vac. Program\, Coming off grass \nIsenberger-Litton Livestock   6 Blk Hfrs\, 800#\, PTO @ ranch \nVowers Ranch   4 Red Hfrs \nL-G Land & Cattle   1 Str\, 800# \nKruse Livestock  1 Lhx Str 600# \n  \nCalves \nChild Land & Livestock   17 Blk Strs\, 500-550#\, Branding Shots:  Inforce 3\, Bovi-Sheild Gold One Shot\, Vision 7/Somnus\, Pre-cond. Shots: Bovi-Shield Gold One Shot\, Vision 7/Somnus\, Poured \nJim Bentley   2 Mx Strs\, 475#\, Branding Shots\, Knife Cut \n  \nWeighups \nBummer Livestock   65 Mx Cows \nCowan Ranch   34 Mx Hfretts\, 1100#\, 2 yr olds \n****20 Mx Cows\, 1425# \nSilver Spur Cattle Co.   28 Mx Cows \n****14 Mx Bulls \nFitzhugh Ranch   38 Mx Cows/Bull \nOchsner-Roth Cattle Co.   35 Mx Cows \nDiamond Tail Ranch   35 Mx Cows \nPetersen/Lynde   30 Mx Cows \nShepard Farms   30 Mx Cows \nK & K Livestock   24 Mx Cows \nMill Iron Diamond Ranch   22 Mx Cows \nJake & Lorrie Reed   22 Mx Cows \nLyman Ranch   15 Mx Cows/Hfretts/Bulls \nTom Dixon   13 Mx Bulls \nL-G Land & Cattle LLC   9 Mx Bulls \nDale Andreen   8 Mx Cows/Bull \nMarsh-Ellis Ranch   8 Red Cows \nFlag Ranch   8 Blk Cows \nKennedy Ranch   7 Mx Bulls \nDr. Brent Kaufman   6 Blk Cows \nJerry Sterkel   6 Blk/Rd Cows \nJ Y Ranch   5 Mx Cows \nTriangle 2 Cattle Co.   5 Mx Cows \nKruse Livestock   5 Bulls \nGood Cattle Co.   4 Mx Cows \n****1 Bull\, 4 yr old \nBurke Pallesen   3 Mx Cow/Bulls \nClayton Johnke   3 Mx Cows \nM & M Cattle LLC   3 Mx Bulls \nDomeck Ranch   2 Mx Bulls \nMiles Land & Livestock   2 Mx Cows \nRichard Cross   2 Bulls \nJon Keil   2 Blk Bulls \nRed Ranch LLC   2 Blk Bulls \nDave Foreman   1 Blk Bull \nRyan Roher   1 Bull \nKevin Nickel   1 Blk Bull \nKruse Cattle   1 Bull \nRobert Clark   1 Cow \nMagoon Ranch   1 Bull \nDog Plummer   1 Bull \nPatrick Jacobsen 1 Blk Bull \nVan Tassell Ranch   1 Bull \nShelagh Thompson   1 Bull \nMANY MORE CONSIGNMENTS BY SALE DAY \nCheck out www.torringtonlivestock.com for more consignments and to view sales and bid online!!! \nFOR MORE INFORMATION CALL 307-532-3333
URL:https://torringtonlivestock.com/event/friday-september-26th-all-classes/
END:VEVENT
END:VCALENDAR