BEGIN:VCALENDAR
VERSION:2.0
PRODID:-//Torrington Livestock Market - ECPv6.15.20//NONSGML v1.0//EN
CALSCALE:GREGORIAN
METHOD:PUBLISH
X-ORIGINAL-URL:https://torringtonlivestock.com
X-WR-CALDESC:Events for Torrington Livestock Market
REFRESH-INTERVAL;VALUE=DURATION:PT1H
X-Robots-Tag:noindex
X-PUBLISHED-TTL:PT1H
BEGIN:VTIMEZONE
TZID:America/Denver
BEGIN:DAYLIGHT
TZOFFSETFROM:-0700
TZOFFSETTO:-0600
TZNAME:MDT
DTSTART:20240310T090000
END:DAYLIGHT
BEGIN:STANDARD
TZOFFSETFROM:-0600
TZOFFSETTO:-0700
TZNAME:MST
DTSTART:20241103T080000
END:STANDARD
BEGIN:DAYLIGHT
TZOFFSETFROM:-0700
TZOFFSETTO:-0600
TZNAME:MDT
DTSTART:20250309T090000
END:DAYLIGHT
BEGIN:STANDARD
TZOFFSETFROM:-0600
TZOFFSETTO:-0700
TZNAME:MST
DTSTART:20251102T080000
END:STANDARD
BEGIN:DAYLIGHT
TZOFFSETFROM:-0700
TZOFFSETTO:-0600
TZNAME:MDT
DTSTART:20260308T090000
END:DAYLIGHT
BEGIN:STANDARD
TZOFFSETFROM:-0600
TZOFFSETTO:-0700
TZNAME:MST
DTSTART:20261101T080000
END:STANDARD
END:VTIMEZONE
BEGIN:VEVENT
DTSTART;VALUE=DATE:20251013
DTEND;VALUE=DATE:20251014
DTSTAMP:20260424T192112
CREATED:20250717T194333Z
LAST-MODIFIED:20251014T224333Z
UID:4095-1760313600-1760399999@torringtonlivestock.com
SUMMARY:Monday\, October 13th - Calf Special with Hereford Section
DESCRIPTION:TORRINGTON LIVESTOCK MARKETS \nMonday\, October 13th\, 2025\nExpecting 5000-5500 hd—Starting at 9:00 am MDT\nHereford Section \nTodd & Cindy Jones   200 Blk/Red/Rwf/Hereford Strs & Hfrs\, 425-475#\, Branding Shots: 8-way\, Vira Shield\, Woremed\, CattleActive\, No Implants\, Coming from the High Desert in Wyoming \nSnyder Family   174 Hereford Strs & Hfrs\, 500-500#\, Branding Shots: 7-way\, No Implants\, Born:  Mid-March thru Mid-May\, Home Raised\, Sired by Van Newkirk\, Mrnak\, Beery Hereford Bulls \nRuss & Karen Wedemeyer   110 50% Hereford/50% Bwf Strs & Hfrs\, 475-500#\, Branding Shots: Ultrabac 7\, Fly Tags\, Pre-cond. Shots (9/13): Vista Once SQ\, Ultrabac 7\, No Implants\, Home Raised \nDonald & Susan Black   57 Hereford\, Rd\,Rwf\, Blk\, Bwf\, Strs & Hfrs 500-550#\, Branding Shots: Bovi Shield Gold 5\, 8 way\, No Implants\, Producer All Natural\, (All Calves Sired by Hereford Bulls) \nJack & Janet Hurdsman   18 Hereford\, Rd\, Rwf\, Blk\, Bwf Strs & Hfrs 500-550#\, Branding shots: Bovi Shield Gold 5\, 8-way\, No Implants. Producer All Natural\, (All Calves Sired by Hereford Bulls) \nTy & Lauri Battershell   13 Hereford Strs\, 450-600#\, Branding Shots: Bovi-Shield Gold One Shot\, One Shot Ultra 8\, Pinkeye\, Pre-cond. Shots (Aug. 15): Bovi-Shield Gold One Shot\, One Shot Ultra 8\, Poured \nSidwell Herefords   3 Hereford Bull Calves\, 700-750#\, Branding Shots: Cattlemaster Gold\, Vision 8/Somnus\, Fall Shots: Two Rounds of Cattlemaster Gold\, Vision 8/Somnus\, Inforce 3 & Poured w/ Cylence\, Weaned 21 days \n****1 Hereford Str\, 450#\, Branding Shots: Cattlemaster Gold\, Vision 8/Somnus\, Precond Shots: Cattlemaster Gold\, Vision 8/Somnus\, Inforce 3 & Poured w/ Cylence \nLouise Anderson   2 Hereford Strs\, 650#\, Branding Shots: Vira Shield 6\, Vision 7 w/Spur\, Coming off cows \n  \nCalves \n88 Ranch Land & Livestock   310 Blk Strs & Hfrs\, 500-550#\, Branding Shots: Vista Once\, Pyramid 5+Presponse SQ\, Vision 7 Somnus + Spur\, Steers are Knife Cut\, Producer All Natural\, Home Raised \nWilliam & Mary Strauch   250 Blk/Bwf Strs & Hfrs\, 450-550#\, Branding Shots: Vision 7\, Pyramid 5+Presponse\, Pre-cond. Shots: Pyramid 5+Presponse\, Vision 7\, Valcor Injectable\, High Elevation\, Sired by Low PAP Tested Bulls \nBath Brothers   250 Blk/Bwf (2 Rd) Strs & Hfrs\, 500#\, Branding Shots\, Pre-cond. Shots (Sept. 13): Vista\, 7-way w/Somnus\, No Implants\, Steers are Knife Cut\, High Altitude\, Producer All Natural \nRocky Top LLC/Pennington & Hall   230 Blk/Bwf Strs & Hfrs\, 400-500#\, Branding Shots: Multimin\, Nasalgen\, Vista Once SQ\, Vision 7 Somnus\, Pre-Cond. Shots: Vista Once SQ\, Nasalgen PMH\, Poured w/ Ivermectin\, No Implants\,  Sired by: Reyes\, Grandview\, Ochsner-Roth\, WEBO Angus\, & G-H Bulls \nJoe & Lindey Bright   200 Blk/Bwf/Hereford Strs & Hfrs\, 450-475#\, Branding Shots:  Ultra Bac 8\, Cattlemaster Gold\, Longe Range Injectable\, No Replacements Kept \nSlow & Easy Ranch   108 Blk/Bwf Strs\, 400-500#\, Shots at Birth: Calf Guard\, Branding Shots: Ultra Choice 7\, Bovi-Shield Gold 5\, Dectomax\, Producer All Natural\, High Altitude\, Coming off cows \n****62 Blk/Bwf Strs\, 400-500#\, Shots at Birth: Calf Guard\, Branding Shots: Ultra Choice 7\, Bovi-Shield Gold 5\, Dectomax\, Producer All Natural\, High Altitude\, Coming off cows \n(Note:  Dams are Blk Angus/Bwf Cows\, Sires are Thomas Angus:  Surety\, Acclaim\, Enhance\, Weight Up\, Home Town\, McConnell Angus:  America\, Rainmaster\, Sitz Essential\, KT BLK Nebraska) \nRoth Land & Cattle   165 Red/Rwf Strs & Hfrs\, 450-550#\, Shots at Birth: Inforce 3\, Bar-Vac CD/T\, Multimin\, Branding Shots: Bovi-Shield One Shot w/Pasteurella\, Ultra Choice 7\, Multimin\, Pre-cond. Shots (Sept. 19): Bovi-Shield Gold 5\, Ultra Choice 7\, Dectomax Pour On\, No Implants\, Enrolled in Angus Access with EID Tags and Certification of Compliance (19842)\, Verified traceable to Red Angus Bloodlines\, Source Verified to the ranch of origin\, Group Age Verified\, Sired by Bulls from Wedel Beef Genetics (AI’D)\, Clean-up with Premium Red Angus Bulls \nJohn Thayer   150 Blk/Bwf Strs & Hfrs\, 500-600#\, Branding and Pre-cond. Shots:  5 +Presponse SQ\, Vision 7\, Steers are Knife Cut\, Home Raised\, Producer All Natural \nMatt Livestock   150 Blk/Bwf few Char-x Strs & Hfrs\, 375-475#\, Shots at Birth: 7-way\, Multimin 90\, Branding Shots: Pyramid 5\, 7-way\, Nuplura\, Pre-cond. Shots (Sept. 6): Pyramid 5\, 7-way w/Somnus\, Nuplura\, Poured w/Clean-up\, Steers are Knife Cut\, Home Raised \nHiser Ranch   150 Blk Strs & Hfrs\, 500-550#\, Branding Shots and Pre-cond. Shots: Pyramid 5+Presponse\, Vision 7 w/Somnus\, High Altitude\, Steers are Knife Cut \nRuben Roman   150 Red Strs & Hfrs\, 400-650#\, Complete Vac. Program\, Producer All Natural \nBob & Bev Yeik   140 Blk Strs & Hfrs\, 500-600#\, Branding Shots: Pyramid 5 +Presponse SQ\, Vison 7 w/Somnus\, No Implants\, Steers are Knife Cut\, Producer All Natural \nBrushy Creek Ranch   135 Mx Strs & Hfrs\, 450-550#\, Branding Shots: Pyramid 5+Presponse SQ\, Vision 7 Somnus+Spur\, Pre-cond. Shots: Pyramid 5+Presponse SQ\, Vision 7 Somnus+Spur\, Steers are Knife Cut\, Home Raised\, Producers All Natural \nTom Beck   90 Blk Hfrs\, 425-475#\, Branding Shots: Vision 7\, Coming off cows \n****23 Blk Strs\, 450-500#. Branding Shots: Vision 7\, Coming off cows \nLamb Luck Livestock   112 Mostly Blk few Red Strs & Hfrs\, 450-550#\, Weaned for 40 days.\, Been on a Grower Ration\, Bunk Broke\, Branding and Pre-cond. Shots \nJimmy/Amy Johnson & Family   110 Blk/Bwf Strs & Hfrs\, 500-600#\, Branding Shots: Nasalgen\, Pyramid 5+Presponse\, Vision 7 w/Somnus+Spur\, Pre-cond. Shots (9/13): Pyramid 5+Presonse\, Vision 7 w/Somnus+Spur\, No Implants\, Steers are Knife Cut\, Home Raised \nRandy Crozier   100 Blk/Bwf Strs & Hfrs\, 500-600#\, Branding Shots: Ultra Choice 8\, Bovi-Shield Gold\, No Implants\, Been on a Complete Vac. Program\, Home Raised\, Running over 6000’\, Calves Born: March 5 thru May 10 \nCochran Ranch   100 Red Angus Strs & Hfrs\, 450#\, Shots at Birth & Branding: 7-way\, Pre-cond. Shots (Sept. 20): Bovi-Shield Gold 5\, Ultrabac 8\, No Implants\, Producer All Natural \nDakota & Jocelyn Forkner   95 Blk/Bwf few Red Strs\, 490#\, Branding and Pre-cond. Shots: Vista Once\, 7-way\, Implanted\, Knife Cut \nLMD Livestock/Leroy Danise   95 Mostly Blk SimAngus Strs & Hfrs\, 450-550#\, Branding Shots: Vista Once\, 8-way\, Sired by Fully Loaded Genetics \nRed Ranch\, LLC   95 Blk Strs & Hfrs\, 480#\, Branding Shots: 7-way\, BoviShield Gold 5\, Wormed with Valbazen & Poured with Clean Up \nFrank Carlson   85 Char-x Strs & Hfrs\, 475-525#\, Branding Shots: Bovi-Shield Gold 5\, 7-way\, Pre-cond. Shots: Bovi-Shield Gold 5\, 7-way\, No Implants \nDavid\, Terri & Kellie Hinman   82 Blk Strs & Hfrs\, 550-600#\, Shots at Birth: Inforce 3\, C & D\, Multimin\, Branding Shots: Inforce 3\, Ultra Choice 7\, One Shot BVD\, Pre-cond. Shots (Sept. 22): Inforce 3\, Ultra Choice 7\, One Shot BVD\, Vita Drench\, Steers are Knife Cut\, Slick (no brands)\, NO Replacements Kept\, Producer All Natural\, Sired by Blk Angus Bulls \nNorman Streeter   79 Blk/Bwf Strs & Hfrs\, 485-585#\, Branding and Pre-cond. Shots:  Pyramid 5+Pesponse\, Vision 7 w/Spur\, No Implants\, Steers are Knife Cut \nJosh & Sara “Brook” Fitzsimmons   77 Angus (Blk/Bwf) Strs & Hfrs\, 530-630#\, Shots at Birth: Alpha 7\, Type A\, Branding Shots: Vision 7\, Pyramid 5 +Presponse\, Pre-cond. Shots: Vision 7 w/Somnus+Spur\, Vista 5 LV\, Pro Bac 4\, Multimin\, High Altitude (out of PAP Tested Bulls)\, Home Raised\, Coming off cows \nPierre and Stacey Etchemendy   75 Red/Char-x few Blk Strs & Hfrs\, 550#\, Branding Shots: Visin 7 Somnus + Spur\, Pre-cond. Shots: Vision 7 Somnus + Spur\, No Implants\, Steers are Knife Cut\, Home Raised \nBrad/Brice & Brandon Hill   75 Blk/Bwf Hfrs\, 525-600#\, Branding Shots: Bovi-Shield Gold One Shot\, Vision 7/Somnus\, Pre-cond. Shots (Sept. 13): Pyramid 5+Presponse SQ\, Vision 7/Somnus\, No Implants\, No Replacements Kept\, Sired by Booth Cherry Creek Bulls \nHeine Ranch   71 Blk/Bwf Strs & Hfrs\, 540=550#\, Branding Shots: UltraBac 7\, Pre-cond. Shots (9/13): UltraBac 7\, Vira Shield 6\, No Implants \nKrakow Ranch/Gerald Krakow   65 Blk Strs & Hfrs\, 450-500#\, Branding Shots: Bovi-Shield Gold One Shot\, Ultrabac 7\, No Implants\, Steers are Knife Cut\, First Calf Born: April 20\, Been on a Salt/Mineral Program\, Eating grass and hay along side of moms \nNate Reisdorger   51 Mostly Blk (3-4 Red) Strs & Hfrs\, 300-600#\, Branding Shots: Pyramid + Presponse SQ\, 7-way\, Long Range Wormer\, Pre-cond. Shots: Pyramid 5 + Presponse SQ\, 7-way\, Poured with Ivermec\, Steers are Knife Cut \nRea Strock   50 Red Angus Strs & Hfrs\, 500#\, Branding Shots: Vista Once\, Vision 7\, Steers are Knife Cut\, Producer All Natural \nPJ Cattle Company   45 Blk/Bwf few Rd Strs & Hfrs\, 475-550#\, Weaned 30 days\, Bunk Broke\, Been on Grass Hay and Calf Creep\, Branding Shots: Vision 7 Somnus w/Spur\, Pyramid 5+Presponse\, Pre-cond. Shots (Aug. 30): Vision 7 w/Somnus w/Spur\, Pyramid 5+Presponse\, No Implants\, Steers are Knife Cut\, Home Raised \nBrad & Heather Reese   40 Blk/Bwf Strs & Hfrs\, 350-550#\, Branding Shots: 7-way w/Somnus\, Vira Shield 6\, No Implants\, Steers are Knife Cut \nDon Cox   40 Blk Strs & Hfrs\, 540-600#\, Branding Shots\, Pre-cond. Shots: Bovi-Shield Gold 5\, Ultrabac 7\, Poured\, No Implants\, Heifers are Bangs Vac.\, Producer All Natural\, AI’d Sired or Sired by Powder River Angus Bulls \nDoug Plummer   31 Mostly Blk few Rd Strs & Hfrs\, 490-550#\, Branding Shots\, Pre-cond. Shots (9/2): Vista Once SQ\, Vision 7 Somnus +Spur\, Poured with Cydectin\, No Implants \nHorse Creek Angus LLC   30 Blk Angus Str/Hfr & Bull Calves\, 500-750#\, Branding Shots: Bovi-Shield Gold 5 One Shot\, Inforce 3\, Ultrabac 7/Somubac\, Pre-cond. Shots: Bovi-Shield Gold 5 One Shot\, Inforce 3\, Ultrabac 7/Somnbac\, Booster Shots: Bovi-Shield Gold 5\, Ultrabac 7/Somubac\, Dectomax Pour On\, Calves are out of our Registered Angus Cow Herd and Horse Creek Angus Clean up Bulls with some A.I. Sired by Resilient and Spickler Bulls architect\, Armstrong\, Wrangler and Right Time\, Heifers are Replacement Quality\, Producer All Natural \nTroy Brandemuehl   30 Blk Angus Strs & Hfrs\, 525-540#\, Branding Shots: Vision 7 Somnus \nMike & Jana Wiedman   30 Blk/Bwf Strs & Hfrs\, 525-600#\, Branding Shots: Vision 7 Somnus\, Pyramid 5 +Presponse\, Pre-cond. Shots: Vision 7 Somnus\, Pyramid 5+Presponse\, Pour on\, No Implants\, Steers are Knife Cut\, Producer All Natural \nBruce Nelson   25 Blk/Bwf/Rd Strs & Hfrs\, 550-600#\, 2 Rounds of Shots: Bovi-Shield Gold One Shot \nHigh Lonesome Ranch/Charles & Susan Brennecke   25 Blk Angus/Angus-x Strs & Hfrs\, 500-750#. Branding Shots: Ultrabac 7\, Bovi-Shield Gold One Shot\, Inforce 3\, Pre-cond. Shots: Bovi-Shield Gold One Shot\, Ultrabac 7\, Inforce 3\, Booster Shots: Bovi-Sheild Gold One Shot\, Ultrabac 7\, Dectomax Pour On\, Home Raised\, Producer All Natural\, Heifers are Replacement Quality \nHigh Road Land Co.   23 Blk/Bwf Strs & Hfrs\, 540-575#\, Branding Shots: Nasalgen 3 PMH\, Vision 7\, Safeguard Oral\, Pre-cond. Shots: Vista Once SQ\, Vision 7+Somnus \nFred Kirchefer   16 Blk/Bwf Strs & Hfrs\, 660#\, BarVac CD&T @ Birth\, Branding Shots: Alpha 7 & Vista Once\, Strs are Knife Cut \nJoey Danise   16 Mostly Blk SimAngus Strs & Hfrs\, 450-550#\, Branding Shots: Vista Once\, 8-way\, Sired by Fully Loaded Genetics \nPatrick McGuire   14 Blk Strs\, 600#\, Branding Shots\, Pre-cond. Shots (Aug. 20): UltraChoice 7\, Bovi-Shield Gold 5 \nAndrea Yaffe/Prairie Posse   12 Bwf Strs\, 450-550#\, Branding Shots: Bovi-Shield Gold 5\, Vision 7 Somnus +Spur\, Pre-cond. Shots: Bovi-Shield Gold 5\, Vision 7 Somnus + Spur\, Poured \nHardy Ranch LLC   10 Blk/Bwf Strs & Hfrs\, 475-550#\, Weaned for 45 days\, Hay Fed\, Shots at Birth: Vision 7\, CD\, Branding Shots: Nasalgen\, Vision 7 Somnus+Spur\, Pre-cond. Shots: Vista 1\, Vision 7 Somnus+Spur\, Home Raised\, High Altitude \nKenneth Chadwick   8 Mx Strs & Hfrs\, 485-525#\, Branding Shots \nShane Cole   8 Blk/Rd Angus Strs\, 500#\, Branding Shots: 7-way \nJamie Hyche   8 Blk Strs & Hfrs\, 540-600#\, Branding Shots\, Pre-cond. Shots: Bovi-Shield Gold 5\, Ultrabac 7\, Poured\, No Implants\, Producer All Natural\, AI’d Sired or Sired by Powder River Angus Bulls \nRyan Stewart   8 Blk Strs & Hfrs\, 550-600#\, Branding Shots: 7-way\, Nasaglen 3 PMH \nDavid Gamblin   7 Red Strs & Hfrs\, 550#\, Branding and Pre-cond. Shots: Bovi-Shield Gold One Shot\, Ultra Choice 7\, Steers are Knife Cut \nRocky Fiader   4 Blk Strs & Hfrs\, 475-550#\, Branding Shots: Pyramid 5+Presponse\, Vision 7 w/Spur\, Pre-cond. Shots; Pyramid 5+Presponse\, Vision 7 w/Somnus\, High Elevation\, Home Raised \nMANY MORE CONSIGNMENTS BY SALE DAY \nCheck out www.torringtonlivestock.com for more consignments and to view sales and bid online!!! \nFOR MORE INFORMATION CALL 307-532-3333
URL:https://torringtonlivestock.com/event/monday-october-13th-calf-special/
END:VEVENT
END:VCALENDAR