BEGIN:VCALENDAR
VERSION:2.0
PRODID:-//Torrington Livestock Market - ECPv6.15.20//NONSGML v1.0//EN
CALSCALE:GREGORIAN
METHOD:PUBLISH
X-WR-CALNAME:Torrington Livestock Market
X-ORIGINAL-URL:https://torringtonlivestock.com
X-WR-CALDESC:Events for Torrington Livestock Market
REFRESH-INTERVAL;VALUE=DURATION:PT1H
X-Robots-Tag:noindex
X-PUBLISHED-TTL:PT1H
BEGIN:VTIMEZONE
TZID:America/Denver
BEGIN:DAYLIGHT
TZOFFSETFROM:-0700
TZOFFSETTO:-0600
TZNAME:MDT
DTSTART:20240310T090000
END:DAYLIGHT
BEGIN:STANDARD
TZOFFSETFROM:-0600
TZOFFSETTO:-0700
TZNAME:MST
DTSTART:20241103T080000
END:STANDARD
BEGIN:DAYLIGHT
TZOFFSETFROM:-0700
TZOFFSETTO:-0600
TZNAME:MDT
DTSTART:20250309T090000
END:DAYLIGHT
BEGIN:STANDARD
TZOFFSETFROM:-0600
TZOFFSETTO:-0700
TZNAME:MST
DTSTART:20251102T080000
END:STANDARD
BEGIN:DAYLIGHT
TZOFFSETFROM:-0700
TZOFFSETTO:-0600
TZNAME:MDT
DTSTART:20260308T090000
END:DAYLIGHT
BEGIN:STANDARD
TZOFFSETFROM:-0600
TZOFFSETTO:-0700
TZNAME:MST
DTSTART:20261101T080000
END:STANDARD
END:VTIMEZONE
BEGIN:VEVENT
DTSTART;VALUE=DATE:20251015
DTEND;VALUE=DATE:20251016
DTSTAMP:20260424T191926
CREATED:20250717T194403Z
LAST-MODIFIED:20251020T203734Z
UID:4097-1760486400-1760572799@torringtonlivestock.com
SUMMARY:Wednesday\, October 15th - Feeder Special with Red Angus Section
DESCRIPTION:TORRINGTON LIVESTOCK MARKETS \nWednesday\, October 15th\, 2025\nFeeder & Calf Special;\nIncluding a Red Angus Section & Longhorn Section\nStarting at 9:00am\nRed Angus Section \nBroken Heart Ranch   80 Red Angus/Hereford F 1-x Strs & Hfrs\, 585-600#\, Branding Shots: Pyramid 5\, 7-way\, Pre-cond. Shots: Pyramid 5\, 7-way\, No Implants\, NO Replacements kept\, Producer All Natural\, Home Raised\, Sired by K2 Red Angus Bulls \nDennis & Donna Miller   70 Red Angus Strs & Hfrs\, 475-575#\, Branding Shots: 7-way\, No Implants\, Sired by Schuler Red Angus Bulls\, Home Raised\, Coming off cows \nSand Mountain Cattle Co./Doug Carlson   31 Red Strs & Hfrs\, 350-600#\, Weaned 19 days\, Free Choice Hay and Protein Tubs\, Branding and Pre-cond. Shots: Endovac Beef\, Vsiion 7\, Vista 5\, Producer All Natural (except for #2180 and 2280)\, Red Angus Feeder Certified \nMichael Imig   30 Red/Rwf Angus Strs & Hfrs\, 510-550#\, Shots at Birth: Alpha 7\, Multimin\, Branding Shots: Vista Once\, Pre-cond. Shots (Sept. 10): Vista Once\, Vision 7 w/Somnus\, No Implants\, Steers are Knife Cut \nCarlson Land & Livestock/Jackie & Brooke Carlson   20 Red Angus Strs/Hfrs & Bull (1 hd) Calves\, 400-500#\, Weaned 24 Days\, Hay Fed\, Branding Shots: Vision 7\, Home Raised \n  \nLonghorn Section selling between Noon & 1pm \nMcIntosh Ranch/Ellen Fox   140 Longhorn Strs & Hfrs\, 175-385\, Branding Shots: Vision 7 w/Spur\, Producer All Natural\, Home Raised \n  \nFeeders \nFarner Cattle Co.   210 Mx Hfrs few Strs\, 675-800#\, Complete Vac. Program\, Spayed or PTO in July \nRafter JM   82 Mx Hfrs\, 700-750#\, Guaranteed Open or Spayed\, Complete Vac. Program \nDee Norell   75 Mostly Blk few Rd/Char Strs & Hfrs\, 700-800#\, Heifers are Spayed or Guarnteed Open\, 2 Rounds of Cattle Master Gold 5\, Ultrabac 8\, Coming off grass\, Green\, High Elevation \nSims Cattle Co.   72 Blk/Rd Hfrs\, 700#\, PTO @ ranch\, Complete Vac. Program\, Coming off grass \nVern Black   70 Mx Strs & Hfrs\, 800#\, Heifers are Spayed\, Complete Vac. Program \nLankister Livestock   60 Blk Angus Hfrs\, 900#\, PTO @ ranch on Oct. 9 off their Replacements\, Complete Vac. Program\, Pre-breeding Shots: Express FP5/VL5 \nSandstone Ranches   26 Mx Hfrs\, 750-800#\, Spayed or Open\, Complete Vac. Program\, Coming off grass \n****9 Mx Strs\, 825#\, Complete Vac. Program\, Coming off grass \nDavid Sherrod   16 Red Angus Hfrs\, 1000-1050#\, PTO @ ranch off their Replacements\, Complete Vac. Program\, Coming off grass\, Home Raised \nRobin Taylor   15 Blk Hfrs\, 800-875#\, PTO @ ranch\, Complete Vac. Program\, Coming off grass \nTurtle Rock Ranch   12 Blk/Bwf Hfrs\, 900#\, PTO @ ranch off their Replacements\, Complete Vac. Program\, Coming off grass \nJoel & Cody Tremain   11 Blk Hfrs\, 800#\, PTO @ ranch of their Replacements\, Complete Vac. Program\, Coming off grass \nL-G Land & Cattle   11 Mx Roping Strs & Hfrs\, 750-900#\, All Shots\, Coming off grass \nY-Hart Livestock/Brace & Linda Rhamy   10 Blk Angus Hfrs\, 1100#\, PTO @ ranch\, Complete Vac. Program\, Coming off grass \nTim Anderson   3 Mx Strs & Hfrs\, 700#\, Complete Vac. Program\, Coming off grass \nMike Ridenour   2 Blk Strs\, 800#\, Complete Vac. Program\, Coming off grass \nPatricia Hardin   2 Blk Hfrs\, 850#\, Complete Vac. Program\, Coming off grass \nHeart Bent Arrow   1 Str\, 800#\, Complete Vac. Program\, Coming off grass \n14 Ranch   1 Blk Hfr\, 750#\, Complete Vac. Program\, Coming off grass \nBob & Bev York   1 Blk Hfr\, 750#\, Complete Vac. Program\, Coming off grass \nBruce Nelson   1 Roan Hfr\, 700#\, Complete Vac. Program\, Coming off grass \n  \nWeaned Calves \nTerry Huntington   90 99% Blk Strs & Hfrs\, 460-525#\, Weaned 45 days\, Running out on native grass\, Branding and Pre-cond. Shots: 8-way\, Ultrabac One Shot\, No Implants \n  \nPre-cond. Calves \nIndian Meadows Ranch   100 98% Blk Angus Strs\, 500-600#\, Branding Shots:  Bovi-Shield Gold One Shot\, Vision 7\, Inforc 3\, Dectomax Injectable Wormer\, Pre-cond. Shots:  Bovi-Shield Gold One Shot\, Vision 7 Somnus+Spur\, Inforce 3\, No Implants\, Knife Cut\, Free Choice Mineral\, Coming off cows\, 90% are Sired by Feed Efficiency Registered Blk Angus Bulls \n****170 98% Blk Angus Hfrs\, 450-600#\, Branding Shots:  Bovi-Shield Gold One Shot\, Vision 7\, Inforc 3\, Dectomax Injectable Wormer\, Pre-cond. Shots:  Bovi-Shield Gold One Shot\, Vision 7 Somnus+Spur\, Inforce 3\, No Implants\, Free Choice Mineral\, Coming off cows\, 90% are Sired by Feed Efficiency Registered Blk Angus Bulls\, NO Replacements Kept \nBridle Bit Cattle Co.   160 Blk/Bwf Strs & Hfrs\, 500-600#\, Branding and Pre-cond. Shots: 7-way w/Somnus\, Pyramid 5+Presponse\, Implanted w/Synovex\, Steers are Knife Cut\, Home Raised \nScissors Ranch   164 Blk Strs\, 550-650#\, Branding Shots and Pre-cond. Shots: Bovi-Shield One Shot\, Vision 7 w/Somnus\, Implanted with Ralgro at Branding \nCharchalis Farms/Nick & Ann Charchalis   85 Blk Angus Strs & Hfrs\, 500-650#\, Branding Shos: Covexin 8\, Titanium 5\, Pre-cond. Shots: Vision 7 Somnus w/Spur\, Steers are Knife Cut\, Sired by Diamond Peak & 5 Bar Angus Genetics \nGilbert Ramirez   80 Mx Strs\, 450#\, Branding Shots: 7-way w/Somus\, Pre-cond. Shots: 7-way w/Somnus\, No Implants\, Knife Cut \nNesvik Cattle Co.   40 Blk/Bwf Strs\, 500-550#\, Branding Shots\, Pre-cond. Shots: 20/20 Vision 7 w/Spur\, Vista Once\, No Implants\, Steers are Knife Cut \nCody & Cory Clark   35 Blk/Bwf Strs & Hfrs\, 500-600#\, Branding Shots: 7-way\, Pre-cond. Shots: Vista Once\, 7-way\, Pour On\, Steers are Knife Cut \nSusie Tadewald   12 Blk/Bwf Strs & Hfrs\, 450-500#\, Branding and Pre-cond. Shots: Vision 7\, vista Once \nMike & Tina Christinck   10 Blk/Bwf Strs & Hfrs\, 425-525#\, Branding Shots: Ultrabac 7/Somubac\, One Shot BVD\, Inforce\, Pre-cond. Shots: Ultrabac 7/Somubac\, Bovi-Shield Gold One Shot\, Steers are Knife Cut \n  \nCalves \nBrad & Heather Reese   80 Blk/Bwf Strs\, 350-550#\, Branding Shots: 7-way w/Somnus\, Vira Shield 6\, No Implants\, Steers are Knife Cut \nRoss Allen   30 Mx Strs & Hfrs\, 500-550#\, Branding Shots: UltraBac 8\, Vira Shield 6\, Steers are Knife Cut\, No Implants \nL-G Land & Cattle   30 Mx Strs & Hfrs\, 300-600#\, Branding Shots: Vista Once\, 7-way. Poured \nNate Begger   7 Mx Strs & Hfrs 475-500#\, No Shots\, Steers are Banded \nAlta Land & Cattle    5 Blk Strs & Hfrs\, 525# \nChristy Whiting   4 Blk Strs & Hfrs\,600# \n  \n MANY MORE CONSIGNMENTS BY SALE DAY \nCheck out www.torringtonlivestock.com for more consignments and to view sales and bid online!!! \nFOR MORE INFORMATION CALL 307-532-3333
URL:https://torringtonlivestock.com/event/wednesday-october-15th-feeder-special/
END:VEVENT
END:VCALENDAR