BEGIN:VCALENDAR
VERSION:2.0
PRODID:-//Torrington Livestock Market - ECPv6.15.20//NONSGML v1.0//EN
CALSCALE:GREGORIAN
METHOD:PUBLISH
X-WR-CALNAME:Torrington Livestock Market
X-ORIGINAL-URL:https://torringtonlivestock.com
X-WR-CALDESC:Events for Torrington Livestock Market
REFRESH-INTERVAL;VALUE=DURATION:PT1H
X-Robots-Tag:noindex
X-PUBLISHED-TTL:PT1H
BEGIN:VTIMEZONE
TZID:America/Denver
BEGIN:DAYLIGHT
TZOFFSETFROM:-0700
TZOFFSETTO:-0600
TZNAME:MDT
DTSTART:20240310T090000
END:DAYLIGHT
BEGIN:STANDARD
TZOFFSETFROM:-0600
TZOFFSETTO:-0700
TZNAME:MST
DTSTART:20241103T080000
END:STANDARD
BEGIN:DAYLIGHT
TZOFFSETFROM:-0700
TZOFFSETTO:-0600
TZNAME:MDT
DTSTART:20250309T090000
END:DAYLIGHT
BEGIN:STANDARD
TZOFFSETFROM:-0600
TZOFFSETTO:-0700
TZNAME:MST
DTSTART:20251102T080000
END:STANDARD
BEGIN:DAYLIGHT
TZOFFSETFROM:-0700
TZOFFSETTO:-0600
TZNAME:MDT
DTSTART:20260308T090000
END:DAYLIGHT
BEGIN:STANDARD
TZOFFSETFROM:-0600
TZOFFSETTO:-0700
TZNAME:MST
DTSTART:20261101T080000
END:STANDARD
END:VTIMEZONE
BEGIN:VEVENT
DTSTART;VALUE=DATE:20251027
DTEND;VALUE=DATE:20251028
DTSTAMP:20260424T173623
CREATED:20250717T194633Z
LAST-MODIFIED:20251104T041839Z
UID:4107-1761523200-1761609599@torringtonlivestock.com
SUMMARY:Monday\, October 27th - Bred Cow Special
DESCRIPTION:TORRINGTON LIVESTOCK MARKETS \nMonday\, October 27th\, 2025\nBred Cow Special\nStarting at 9:00 am MDT with Weigh-ups; Breds to sell at Noon\nComplete or Partial Dispersals \nX H Land & Livestock   170 Blk/Bwf Cows\, Coming 2’s to ST\, Bred to SimAngus/Angus Bulls\, CF: April 13th for 60 days\, Pre-breeding Shots: Bovilis Vista 5 VL5 CFP\, High Elevation\, All Home Raised\, Selling down only due to the dry conditions \nBlackford Shorthorn Ranch   15 Shorthorn Pairs\, Mx Ages\, Bred to BF Old School 7M ET Reg.#4382320\, CF: Feb. 21 \n****2 Shorthorn Hfrs\, Bred to BF Old School 7M ET Reg.#4382320\, CF: Feb. 21 \n****2 Shorthorn Cows\, Mx Ages\, Bred to BF Old School 7M ET Reg.#4382320\, CF: Feb. 21 \n****2 Shorthorn Bulls \n                       Complete Dispersal of Entire Registered Shorthorn Herd – Information Sheet \n(Breeding Program Focused on $BMI & $FT balanced Miret Index and Feedlot Index\, Registrations are available upon request\, Check Pics & EPD’s) \nRooster Ranch   25 Blk/Bwf/Rd/Hereford Cows\, Complete Dispersal\, Mx Ages\, Bred to Hereford Bulls\, CF: March 9 \n  \nBreds \nBroken Arrow Livestock/Travis Krein   173 Blk/Red Cows\, Short Term\, Bred to Registered Blk Angus Bulls\, CF: March 25th thru May 25th \n3F LLC   67 Red Angus Cows\, Coming 3 yr olds (with second calf)\, Bred to Red Angus Bulls\, CF: March 15 for 60 days\, Poured w/Ivermectin\, Calves Weaned September 15 \nCaleb Taylor   55 Red/Ref/Hereford Cows\, Running Ages\, Bred to 2 Hereford Bulls/14 Red Angus Bulls\, CF: March 10\, Shots at Preg Check: 8-way\, Poured\, Home Raised\, High Elevation\, Gentle\, Selling only due to drought conditions \nBridget Downs   39 Cows\, Bred Blk Angus or Sim/Angus Bulls\, CF: March\, April-May\, Vibrio Lepto \nRyker Hyche   30 Mx Cows\, Coming 3 yr olds\, Bred to Red/Blk Angus Bulls\, CF: April 1 for 45 days \n****15 Mx Cows\, Mx Ages\, Bred to Red/ Bl Angus Bulls\, CF: April 1 for 45 days \nLankister Livestock   28 Blk Angus Cows\, 1000#\, Mx Ages\, Bred to M Diamond/Lisco Blk Bulls\, CF: April 22\, No Shots this Fall \nCorky Fosher   21 Blk/Bwf  Cows\, ST\, Bred to Registered Blk Bulls\, CF: March/April\, Poured and Preg-Guard Shot at Preg Check \nJhett Johnson   19 Red Cows\, CF: April-May \nTom Chant   18 Blk Cows\, Bred to Blk Angus Bulls\, CF: Jan 1 to Feb 15 \nHarding Ranch   13 Blk Cows\, CF: March-April \nLD Ranch   12 Blk Cows\, Bred to Blk Bulls\, CF: April 15th for 60 days\, Running Ages \nVowers Ranch   12 Hereford Cows\, Bred to Hereford Bulls\, CF: March-April \nLovitt Ranch/Craig & Amanda Lovitt   10 Blk Cows\, Bred to Black Bulls\, CF: March 10th \nJim Atkinson   9 Bwf Cows\, CF: April-June \nHancock Livestock/Charles Hancock   7 Blk Angus Cows\, 1300#\, Mx Ages\, Bred to Maternal Blk Angus Bull\, CF: March 1\, Shots; 8-way w/Somnus\, Vira Shield 6\, Pured w/Ivermectin\, Home Raised\, Been on a Complete Mineral an Vaccination Program since Birth\, Coming  from a pure breed Angus Program; selling as commercial; coming right out of the heart of our program \nKey Bar Ranch   6 Mx Cows\, 13 yr olds\, Bred to Blk Angus Bulls\, CF: Mid-April\, Shots: Vira Shield 6 VL5 w/Somnus\, Poured w/Ivermectin \nBerry Ranch   6 Mx Cows\, Mx Ages\, Bred to Blk Angus Bulls\, CF: March 10 \nLKH Ranch   6 Blk Angus Cows\, CF: March 9th \nL 3 Cattle Co.   3 Blk/Rd Cows\, 2’s coming 3’s\, Bred to Todd Platt Blk Angus Bulls\, CF: March 1 for 20 days\, \nShmidl Ranch   2 Shorthorn Cross/Blue Roan\, 900#\, Mx Ages\, Bred to Calving Ease Angus Bull\, CF: March 3\, Shots on Sept. 1: Bovi-Shield Gold FP5 VL5 \n****1 Shorthorn Cross/Red Roan\, 1200#\, Mx Ages\, Bred to Calving Ease Angus Bull\, CF: March 3\, Shots on Sept. 1: Bovi-Shield Gold FP5 VL5 \nGene Daly   3 Mx Cows\, SM-SS\, Bred to SimAngus Bull\, CF: March/April\, Shots: Vira Shield 6+VL5\, Ivomec \nClay Kelly   3 Blk Cows\, 2-4 yr olds\, Bred to Registered Blk Angus Cows\, CF: March/April\, Shots: Vira Shield 6+VL5H\, Poured at Preg Check \nClay Stecklein   2 Blk Cows\, Bred to Stevenson Angus Bull\, CF: March 10th for 45 days\, Complete Vac Program \nKyle Kerr   1 Blk Cow\, Mx Age\, Bred to Gelbv Balancer Bull\, CF: April \nWill Duncan   1 Bwf Cow\, 3YR\, Bred to Black Angus Bull\, CF: March\, Raised good bull calf last year \nKacy Hattan   1 Bwf Cow\, 3YR\, Bred to Blk Bull\, CF: April \nBattle Mountain   1 Bwf Cow\, ST\, CF: April \n  \nBred Heifers \nBosen Land & Livestock   187 Blk/Bwf Hfrs\, Bred to Christensen Genetics Blk Angus Bulls ex: LD Capitalist 316\, Basin Jameson 1076\, Sitz Resilient 10208\, CF: Feb. 10 for 90 days\, Home Raised or Purchased from neighbors as calves\, Weaning shots: Vista Once SQ\, Ultrabac 8\, Dectomax Pour On\, Spring Shots before going to grass:  Ultrabac 8\, Poured with Ivomec \nRoth Land & Cattle/Smith   10 Blk/Bwf Hfrs\, AI’d to ABS Full Force or Clean-up with Low Birth Weight Bulls\, CF: Feb 25 for 20 days\, Running out on grass\, Been on a Complete Mineral Program \nCoberly Creek Ranch LLLP   4 Sim/Angus Hfrs\, 950#\, Bred to Blk Angus Bulls “GAR Liberty 5352”\, Pre-breeding Shots: Vision 7\, Bovi-Shield Gold FP 5VL \nL3 Cattle   3 Blk/Red Hfr/3YR\, CF: March-May \nCraig Kennedy   1 Blk Hfr\, Bred to Blk Bulls\, CF: May \n  \nPairs \nTom Chant   24 Pairs \nMANY MORE CONSIGNMENTS BY SALE DAY \nCheck out www.torringtonlivestock.com for more consignments and to view sales and bid online!!! \nFOR MORE INFORMATION CALL 307-532-3333
URL:https://torringtonlivestock.com/event/monday-october-27th-bred-cow-special/
END:VEVENT
END:VCALENDAR