BEGIN:VCALENDAR
VERSION:2.0
PRODID:-//Torrington Livestock Market - ECPv6.15.20//NONSGML v1.0//EN
CALSCALE:GREGORIAN
METHOD:PUBLISH
X-WR-CALNAME:Torrington Livestock Market
X-ORIGINAL-URL:https://torringtonlivestock.com
X-WR-CALDESC:Events for Torrington Livestock Market
REFRESH-INTERVAL;VALUE=DURATION:PT1H
X-Robots-Tag:noindex
X-PUBLISHED-TTL:PT1H
BEGIN:VTIMEZONE
TZID:America/Denver
BEGIN:DAYLIGHT
TZOFFSETFROM:-0700
TZOFFSETTO:-0600
TZNAME:MDT
DTSTART:20240310T090000
END:DAYLIGHT
BEGIN:STANDARD
TZOFFSETFROM:-0600
TZOFFSETTO:-0700
TZNAME:MST
DTSTART:20241103T080000
END:STANDARD
BEGIN:DAYLIGHT
TZOFFSETFROM:-0700
TZOFFSETTO:-0600
TZNAME:MDT
DTSTART:20250309T090000
END:DAYLIGHT
BEGIN:STANDARD
TZOFFSETFROM:-0600
TZOFFSETTO:-0700
TZNAME:MST
DTSTART:20251102T080000
END:STANDARD
BEGIN:DAYLIGHT
TZOFFSETFROM:-0700
TZOFFSETTO:-0600
TZNAME:MDT
DTSTART:20260308T090000
END:DAYLIGHT
BEGIN:STANDARD
TZOFFSETFROM:-0600
TZOFFSETTO:-0700
TZNAME:MST
DTSTART:20261101T080000
END:STANDARD
END:VTIMEZONE
BEGIN:VEVENT
DTSTART;VALUE=DATE:20251029
DTEND;VALUE=DATE:20251030
DTSTAMP:20260424T173623
CREATED:20250717T194709Z
LAST-MODIFIED:20251104T041817Z
UID:4109-1761696000-1761782399@torringtonlivestock.com
SUMMARY:Wednesday\, October 29th - Feeder Special
DESCRIPTION:TORRINGTON LIVESTOCK MARKETS \nWednesday\, October 29th\, 2025\nFeeder & Calf Special\nStarting at 9:00am\nFeeders \nDunmire Ranch   260 Blk Hfrs\, 800-850#\, PTO (Ultra-sound) @ ranch on Oct. 27\, 3 Rounds of Shots as Calves: Enforce 3\, One Shot BVD\, Ultra Choice 7\, Bovi-Shield Gold 5\, Dectomax Injectable\, Shots before groing to grass: Bovi-Shield Gold 5\, Ultra Choice 7\, Ivomec Injectable\, Green\, Home Raised \nO D Cattle Co.   113 Red/Rwf/Blk Strs\, 950-1000#\, Complete Vac. Program\, Coming off grass\, Producer All Natural \n****50 Red/Rwf/Blk Hfrs\, 800-900#\, Heifers are Guaranteed Open\, Complete Vac. Program\, Coming off grass\, Producer All Natural \nLoren Heth   160 Red/Rwf/Blk/Bwf Strs & Hfrs\, 600-1000#\, 2 Rounds of Shots: 7-way/Somnus\, Nasalgen PMH\, BarVac CDT\, Pour On & Panacur at Booster\, Producer All Natural\, No Implants\, Home Raised \nPepper Fipps   50 Blk/Bwf Hfrs\, 900#\, Coming off Grass\, Home Raised or Purchased in WYO\, Shots: BoviShield Gold 5\, Staybred\, Pour On\, SafeGuard \nHarris Ranch   50 Blk/Bwf Hfrs\, 750-800#\, Complete Vac Program\, Ran Open\, Home Raised\, High Elevation\, PTO off Replacements \nTillard Bros   46 Blk Hfrs\, 900-1000#\, PTO on October 20th at Ranch\, Home Raised\, Off Grass \n****1 Blk Str\, 1000# \n****5 JerseyX Strs\, 700# \nClotes Land & Livestock   23 Mx Hfrs\, 650-700#\, Coming off grass \n****15 Mx Strs\, 900-925# \nPaul Foy   8 Blk Hfrs\, 850#\, Branding & Precond Shots: Pyramid 5 & 7-way \nDan Mack   4 Mx Strs & Hfrs \nIndian Meadows   3 Strs\, 800# \n  \nCalves \nLovercheck Land & Cattle   240 Blk Strs & Hfrs\, 525-625#\, 2 Rounds of Shots: Vision 7 w/Spur\, Pyramid 5+Presponse SQ\, Poured w/Ivermectin\, Been on a Full Mineral Program\, Steers are Knife Cut\, No Replacements Kept\, Heifers are Replacement Quality\, First Calf Born: Marach 15 (for 60 days) \nPeterson Livestock LLC   209 Blk Angus Strs & Hfrs\, 400=500#\, Branding Shots: Nasalgn 3 PMH\, Vista BVD CFP\, Vision 7 w/Spur\, Pre-cond. Shots: Vista Once SQ\, Vision 7 w/Spur\, No Implants\, Steers are Knife Cut\, High Altitude\, Home Raised\, Producer All Natural \nBG Ranches   200 Blk Strs & Hfrs\, 300-650#\, Branding Shots:  Vista Once\, Vision 7\, Pre-cond. Shots: Vista Once\, Vision 7 w/Somnus\, No Implants\, Been on a Mineral Program\, Started on Hay along side of moms\, High Desert Cattle \nRJS Ranches   200 Blk/Bwf few Rd Strs & Hfrs\, 450-600#\, Branding Shots: Inforce 3\, Bovi-Shield Gold One Shot\, 8-way\, Pre-cond. Shots: Cattle Master Gold FP5\, Bovi-Shield Gold One Shot\, 8-way w/Somnus.\, Poured\, No Implants\, Sired by Black Summit Sim Angus\, Booth Cherry Creek Blk Angus Bulls\, Durbin Creek Hereford Bulls\, Summered at 9500’ \nWhite Tail Ranch   200 Blk/Bwf/Char-x fe Hereford Strs & Hfrs\, 450-550#\, Branding Shots: Vista Once\, Vision 7\, Pre-cond. Shots: Vista Once SQ\, Vision 7 w/Somnus\, Poured w/Clean-up\, No Implants \nLittle Valley Ranch   200 Blk\, few Red Strs & Hfrs\, 450-600#\, Weaning Shots: Nasalgen 3 PMH\, Poured w/ Ivermax & SafeGuard Wormer\, Booster Shots: Pyramid 5 + Presponse & Vision 7/Somnus\, Weaned on 8/13. \nRound Rock Ranch   188 Blk few Red Strs & Hfrs\, 500-600#\, Branding Shots: Vision 7 Somnus +Spur\, Vista Once SQ\, Steers are Knife Cut\, Heifers are Replacement Quality\, No Replacements kept\, May/June Calves\, Slick Calves\, Producer All Natural \nNewkirk Ranch   170 Blk Strs & Hfrs\, 470-525#\, Shots at Birth: Vit. A & D\, Vision 7\, Branding Shots: Vira Shield 6+VL5\, Vision 7\, Implanted with Ralgro\, Pre-cond. Shots: Vision 7\, Pyramid 5+Presponse SQ\, Been on a Full Mineral Program\, High Altitude \nMagoon Ranch   137 Blk Strs & Hfrs\, 450-500#\, Branding Shots\, Pre-cond. Shots (will be called in) \nTravis & Morgan Shoults   60 Char-x/Red/Blk Strs\, 525-625#\, Branding Shots: Vision 7 w/Spur\, Pyramid 5+Presponse\, Pre-cond. Shots: Vision 7 w/Spur\, Pyramid 5\, Poured w/Cleanup\, Steers are Knife Cut\, Sired by Staircase Charolais and Red Angus Bulls \n****60 Char-x Hfrs\, 500-600#\, Branding Shots: Vision 7 w/Spur\, Pyramid 5+Presponse\, Pre-cond. Shots: Vision 7 w/Spur\, Pyramid 5\, Poured w/Cleanup\, Steers are Knife Cut\, Sired by Staircase Charolais and Red Angus Bulls \nLarry & Monica Wilson   120 Blk Angus Strs & Hfrs\, 500-600#\, Branding Shots: 7-way\, Bovi-Shield Gold 5\, No Replacements Kept\, Producer All Natural \nBelton-Massey   120 Blk/Bwf few Rd Strs & Hfrs\, 400-500#\, Branding Shots: Bovi-Shield Gold One Shot\, 7-way\, Implanted w/Ralgro\, Pre-cond. Shots (Oct. 11): Bovi-Shield Gold One Shot\, 7-way\, Steers are Knife Cut\, High Elevation\, Home Raised \nGrady Ely   110 Blk Strs & Hfrs\, 500-550#\, Weaned 30 days on Pasture \nJoanne & Trevor Schneider   100 Mostly Blk Strs & Hfrs\, 500-600#\, Branding Shots\, Pre-cond. Shots: Pyramid 5+Presponse SQ\, 7-way w/Somnus\, Poured w/Ivomec\, Steers are Knife Cut \nRuggles Ranch   100 Blk SimAngus Strs & Hfrs\, 475-525#\, Branding Shots\, Pre-cond. Shots: Vista Once SQ\, Vision 8 Somnus + Spur\, Implanted at Branding\, Home Raised\, Running at 7400’ \nPeak Ranch    100 Mostly Blk Strs & Hfrs\, 300-500#\, Branding Shots: ViraShield 6\, Polybac 8-way\, Precond Shots: Pyramid 5 & Polybac 8-way \nDavid Johnson   97 Angus & Hereford Strs & Hfrs\, Branding Shots: 8-way\, On Pasture \nRon Willey   95 Hfr\, Str & Bull Calves\, Mostly Blk\, 400-500#\, Branding Shots: Pyramid 5 + Presponse\, Precond Shots: Pyramid 5 + Presponse & Vision 7\, Weaned 2 weeks\, On Pasture & Grass Hay\, Producer All Natural \nPRH Bluegrass Ranch   90 Mostly Blk/Bwf Strs & Hfrs\, 400-500#\, Branding Shots: Bovi-Shield Gold One Shot\, 7-way w/Somnus\, Dectomax Injectable\, Pre-cond. Shots (Aug. 21): Bovi-Shield Gold One Shot\, 7-way w/Somnus\, Dectomax Injectable\, Home Raised\, High Elevation\, All Sired by Low PAP Bulls \nPaul Pieper   85 Mx Strs\, 550-650#\, 2 Rounds of Vision 7/Spur & Pyramid 5\, Bunk Broke \nGittaway Ranch   80 Mxd Strs & Hfrs\, 500#\, Branding Shots: BoviShield Gold 5 & Vision 7\, Producers All Natural\, Strs are Knife Cut \nCameron Carlson   65 Mx Strs & Hfrs\, 500-525#\, Branding Shots: Pyramid 5 +Presponse\, Alpha 7\, Multimin\, Pre-cond. Shots: Bovi-Shield Gold One Shot\, Vision 7 w/Somnus +Spur\, No Implants \nRalph Brokaw   55 Mostly Blk Strs\, 500-550#\, Branding & Precond Shots: Pyramid 5 & 7-way/Somnus \nSherri Herbst   46 Blk Strs & Hfrs\, 550-600#\, Two Rounds of Shots\, Weaned 2 weeks\, On Alfalfa Hay\, Producer All Natural \nHB Lee Family   46 Mx Strs & Hfrs\, 650-750#\, Branding Shots and Pre-cond. Shots: Vision 7 w/Spur\, Pyramid 5+Presponsse SQ\, Poured w/Ivermec\, No Implants\, No Replacements Kept\, High Elevation\, Home Raised\, \nRandy Montgomery   37 Blk Strs & Hfrs\, 430-440#\, 2 Rounds of Shots: Premier 5-way\, 7-way\, Weaned 60 days \nHales Ranch Trust   35 Bllk/Bwf Strs\, 450-525#\, Branding Shots: UltraBac 7 w/Somnvac\, Bovi-Shield Gold 5\, Pre-cond. Shots: UltraBac 7w/Somuvac\, Bovi-Shield Gold 5\, Ivomec\, No Implants\, Knife Cut\, April/May Calves \nL 3 Cattle Co.   33 Blk (1 Gray) Hfrs\, 560-590#\, Weaned since Sept. 12\, Bunk Broke\, Been on a Grower Ration\, Branding Shots: 7-way\, Pyramid +Presponse\, Valbazen\, Pre-cond. Shots (Aug. 12): 7-way\, Pyramid +Presponse\, Poured\, Replacement Quality\, Fancy set of heifers\, Sired by Todd Pratt Blk Bulls\, Running at 7500’ \nTillard Brothers   30 Mostly Blk Strs & Hfrs\, 500-650#\, Branding Shots: Vista Once & Vision 7/Somnus\, No Implants \nGary Spiegelberg   23 Strs & Hfrs\, 350-450#\, Branding Shots: Vision 8 & BoviShield Gold\, Precond Shots: Vision 8\, BoviShield Gold & Ivermectin Pour On \nDon Grenemyer   22 Mostly Blk Strs & Hfrs\, 350#\, Shots at Birth: 7-way\, Branding Shots: 7-way \nAngie Babcock Chavez   22 Blk/Red Sim Angus Strs & Hfrs\, 500-600#\, Branding Shots: IBRPI3\, 7-way/Somnus\, Precond Shots: IBRPI3 & 7-way/Somnus & Pour On\, Calves are Sired by Doug Booth Family Angus Bulls\, Blk Calves are March-April Calves\, Red Calves are June Calves \nRon Zavorka   18 Blk Strs\, 400-500#\, Branding Shots\, Weaned 2 weeks\, Producer All Natural \nFraiser Cattle   17 Blk/Red Strs & Hfrs\, 500#\, Full Vac Program\, Weaned 60 days\, Coming off Grass\, Producer All Natural\, Strs are Banded \nRosemarie Harding   16 Blk Strs & Hfrs\, 300-450#\, Branding Shots: Nasalgen & One Shot\, Mostly all Long-time weaned\, On Feed Millet & Grain\, No Implants\, Strs are Banded \nMike Cuin   15 Mx Strs & Hfrs\, 400-550#\, Branding and Pre-cond. Shots: Vista Once\, Vision 7\, Fly tags at Branding\, Steers are banded \nStrohecker Ranch   15 Blk Strs & Hfrs\, 420-625#\, Branding Shots\, Pre-cond. Shots: Ultra Choice 8\, FP5\, Home Raised \n James & Meghan Kortus   8 Blk Angus Strs & Hfrs\, 500-600#\, Producer All Natural\, On Grass & Full Mineral Program\, Sired by Bar X Ranch Bull \nBraeden Spiegelburg   10 Blk Strs & Hfrs\, 350-450#\, Branding Shots: Vision 8 & BoviShield Gold\, Precond Shots: Vision 8\, BoviShield Gold & Ivermectin Pour On \nKevin Nickel   7 Blk Angus Hfrs\, 600#\, Branding Shots: Pyramid 5\, Vision 7/Somnus & Multimin\, Precond Shots: Nasalgen & Multimin\, Weaned Sept 10 on Cake & Grass\, Producer All Natural \nLarry Steinle   5 Blk Strs & Hfrs\, 350-400#\, Precond Shots: 7-way/Somnus & Poured\, No Implants\, Weaning Rings used for last 7 days \nDan Mack   4 Mx Strs & Hfrs \nCheck out www.torringtonlivestock.com for more consignments and to view sales and bid online!!! \nFOR MORE INFORMATION CALL 307-532-3333
URL:https://torringtonlivestock.com/event/wednesday-october-29th-feeder-special/
END:VEVENT
END:VCALENDAR