BEGIN:VCALENDAR
VERSION:2.0
PRODID:-//Torrington Livestock Market - ECPv6.15.20//NONSGML v1.0//EN
CALSCALE:GREGORIAN
METHOD:PUBLISH
X-WR-CALNAME:Torrington Livestock Market
X-ORIGINAL-URL:https://torringtonlivestock.com
X-WR-CALDESC:Events for Torrington Livestock Market
REFRESH-INTERVAL;VALUE=DURATION:PT1H
X-Robots-Tag:noindex
X-PUBLISHED-TTL:PT1H
BEGIN:VTIMEZONE
TZID:America/Denver
BEGIN:DAYLIGHT
TZOFFSETFROM:-0700
TZOFFSETTO:-0600
TZNAME:MDT
DTSTART:20240310T090000
END:DAYLIGHT
BEGIN:STANDARD
TZOFFSETFROM:-0600
TZOFFSETTO:-0700
TZNAME:MST
DTSTART:20241103T080000
END:STANDARD
BEGIN:DAYLIGHT
TZOFFSETFROM:-0700
TZOFFSETTO:-0600
TZNAME:MDT
DTSTART:20250309T090000
END:DAYLIGHT
BEGIN:STANDARD
TZOFFSETFROM:-0600
TZOFFSETTO:-0700
TZNAME:MST
DTSTART:20251102T080000
END:STANDARD
BEGIN:DAYLIGHT
TZOFFSETFROM:-0700
TZOFFSETTO:-0600
TZNAME:MDT
DTSTART:20260308T090000
END:DAYLIGHT
BEGIN:STANDARD
TZOFFSETFROM:-0600
TZOFFSETTO:-0700
TZNAME:MST
DTSTART:20261101T080000
END:STANDARD
END:VTIMEZONE
BEGIN:VEVENT
DTSTART;TZID=America/Denver:20251103T090000
DTEND;TZID=America/Denver:20251103T190000
DTSTAMP:20260424T173640
CREATED:20251007T221432Z
LAST-MODIFIED:20251108T004632Z
UID:4467-1762160400-1762196400@torringtonlivestock.com
SUMMARY:Monday\, November 3rd\, 2025 - Calf Special
DESCRIPTION:TORRINGTON LIVESTOCK MARKETS \nMonday\, November 3rd – CALF SPECIAL\nStarting at 9:00am\nTAG Double H Cattle Co.   225 Weaned Blk Strs & Hfrs\, 350-500#\, Branding & Pre-cond. Shots: Pyramid 5\, Vision 7/Spur\, Weaning Shots: Bovi-Shield Gold One Shot\, On Hay Meadows and Mineral Tubs\, High Elevation Calves\, Hoffman/Flag Ranch/ Coleman Genetics \nMuleshoe Land & Cattle/Jason Taylor   150 Blk/Bwf few Red Strs & Hfrs\, 400-500#\, Branding Shots: Vision 7 Spur\, Vista Once SQ\, Pre-cond. Shots: Vision 7 Somnus\, Vista Once SQ\, No Implants\, Mid-April/May Calves\, Steers are Knife Cut \nWard Agri Business   140 Blk/Bwf Strs & Hfrs\, 600#\, Branding and Pre-cond. Shots: 5-way\, 7-way\, Steers are Knife Cut\, Producer All Natural \nMilton Moffett   120 Mostly Blk few Bwf\, 380-420#\, Branding Shots: Pyramid 5+Presponse\, Ultrabac 7\, Prouder All Natural \nCoxbill Farms   108 Blk Strs & Hfrs\, 500-600#\, No Shots\, Producer All Natural\, Slicks\, Been started on hay along side of mothers \nBarbara York   107 Blk Strs & Hfrs\, 550-650#\, Branding Shots\, Pre-cond. Shots: BarVac 7\, Pyramid 5+Presponse\, No Implants\, Knife Cut\, Producer All Natural\, Sired by Bushman Blk Angus Bulls \nUtopia Livestock/Mike Ackerman   105 Blk/Bwf Strs & Hfrs\, 525-550#\, Branding Shots: 7-way\, Vira Shield 6\, Poured w/Ivermectin\, Pre-cond. Shots: 7-way\, Vira Shield 6\, Poured w/Ivermectin\, Steers are Knife Cut \nBolton Livestock / Bar 7   100 Blk/Red & Char Strs & Hfrs\, 400-650#\, Branding Shots: 8-way\, Vista Once\, Pre-Cond. Shots: Bovi-Shield Gold One Shot\, UltraBac 8\, Pour-On\, March 1st Calves\, Diamond Peak Angus & Klinglesmith Charolais\, No Replacements Kept\, Past ADG of 3.5-3.6 lbs/day \nMorris Cronk   90 Mostly Bwf few Blk Strs & Hfrs\, 450-650#\, Shots at Birth: Alpha 7\, Branding Shots: Pyramid 5+Presponse\, Pre-cond. Shots: Nasalgen 3 PMH\, 7-way w/Somnus\, No Implants \nJon & KaDee Armstrong   90 Blk Strs & Hfrs\, 600-700#\, Shots at Birth: Alpha 7\, Branding Shots: Bovi-Shield Gold One Shot\, Pre-cond. Shots: Bovi-Shield Gold One Shot\, Vision 7 w/Somnus\, Poured w/Ivermectin\, No Implants\, Steers are Knife Cut\, Home Raised \nSidwell Herefords   85 Bwf/Hereford Strs & Hfrs\, 500-600#\, Branding Shots: Cattle Master Gold\, Vision 8 w/Somnus\, Pre-cond. Shots: Cattle Master Gold\, Vision 8 w/Somnus\, Back Poured w/Cylence\, Producer All Natural\, Heifers are Replacement Quality \nDiamon Land & Livestock   85 CharX (few Blks) Strs & Hfrs\, 575-650#\, Branding & Pre-cond. Shots: Vista Once SQ\, Vision 7/Somnus\, Knife Cut\, poured at Pre-Cond. \nCasey Rupert   85 Blk Strs\, 525#\, 7-way at Birth\, Branding Shots: 7-way\, Inforce 3\, One Shot BVD\, Precond Shots: One Shot BVD & 7-way\, No Implants \nGene & Shari Mohr   83 Blk/Bwf few Red Strs & Hfrs\, 500-550#\, Branding Shots: Bovi-Shield Gold\, Ultra Bac 7\, Inforce 3\, Pre-cond. Shots: Vista Once\, Vision 7 w/Spur\, Injectable Ivermectin\, No Implants\, Been on a Full Mineral Program\, Knife Cut \nTed & Will Myers   83 Blk/Bwf Strs & Hfrs\, 525-550#\, Branding Shots: Ultrabac 7/Somubac\, Precond Shots: Bovilis Vision 8/Somnus\, ViraShield 6+VL5 & Pour On Ivermectin\, High Altitude\, Home Raised on Mountain Pasture & Eating Hay \nJT Nunn   80 Blk/Rd Strs\, 400-775#\, Branding Shots: Pyramid 5+Presponse\, Ultra Bac 7 Somubac Valcor\, Pre-cond. Shots: Bovi-Shield One Shot\, Ultrabac 7/Somubac \nCole Coxbill   78 Blk Strs & Hfrs\, 500-600#\, No Shots\, Producer All Natural\, Slicks\, Been started on hay along side of mothers \nFrank Burke   75 Mostly Blk/Bwf Strs & Hfrs\, 500-650#\, Branding Shots: Pyramid 5+Presponse\, Vision 7\, Multimin\, Pre-cond. Shots: Vista Once\, Vision 7 Somnus\, MultiMin\, Poured \nHardin Stull   75 Blk/Bwf Strs & Hfrs\, 450-550#\, Branding and Pre-cond. Shots: Vision 7 w/Somnus\, Poured\, Producer All Natural \nRyan & Alexandria Vargas   74 Blk/Bwf/Rd Strs & Hfrs\, 450-550#\, Branding & Pre-cond. Shots: Vision 7 w/Somnus\, Inforce 3\, Nasalgen\, Steers are Knife Cut\, Been on a Mineral Program\, High Elevation\, Leroux Land & Cattle and Leachman High Altitude Genetics\, BQA Certified Family \nKen Johnston   70 Blk Strs & Hfrs\, 450-500#\, Branding Shots: Vision 7\, One Shot BVD\, Enforce 3\, Pre-cond. Shots: Vision 7 Somnus/Spur\, Titanium 5/Nuplura\, Poured w/Ivermax\, Steers are Banded\, Producer All Natural \nDouble 7 Cattle   70 Blk/Bwf Strs & Hfrs\, 450-600#\, Branding Shots: Vista Once SQ\, Vision 7\, No Implants\, High Desert Cattle (running at 7000’)\, Sired by Rousey Gold Strick\, Traveler and Connealy Comrade \nTim Eisenbarth   65 Blk Strs & Hfrs\, 475-625#\, Branding Shots: 7-way\, Pyramid 5+Presponse\, Knife Cut \nLevi & Sara Kosmicki   65 Blk/Bwf Strs\, 500-600#\, Branding Shots: Vista Once SQ\, 7-way\, Synovex C\, Pre-cond. Shots: Vista Once SQ\, 7-way w/Somnus\, Poured\, Knife Cut \nFrancis Ranch   64 Blk Strs & Hfrs\, 550-580#\, Branding and Pre-cond. Shots: Ultrabac 7 w/Somnus\, Bovi-Shield Gold One Shot\, MultiMin\, Steers are Knife Cut and Implanted with Synovex C\, Heifers Only are Producer All Natural \nMike Combridge   64 Mx Strs & Hfrs\, 450-600#\, Branding Shots: 8-way w/Somnus\, Bovi-Shield Gold\, Steers received a Tetanus Shot\, Pre-cond. Shots: 8-way w/Somnus\, Bovi-Shield Gold\, No Implants \nLance Crowther   63 Blk Strs & Hfrs\, 550-600#\, Weaned for 30 days\, Hay Fed\, Been on a Mineral Program\, Branding Shots\, Pre-cond. Shots: 8-way\, Bovi Shield Gold One Shot\, No Implants \nHelen Nicholls Trust   60 Blk Strs & Hfrs\, 400-600#\, Branding Shots: 7-way\, No Implants\, Producer All Natural \nAlps Land & Cattle   60 Blk/Bwf Strs & Hfrs\, 500-525#\, Branding Shots: Vira Shield 6\, Ultrabac 7w/Somnus\, Producer All Natural\, March/April Calves few Summer \nPaul Fornstom DVM   60 Blk Strs & Hfrs\, 475-550#\, Branding Shots: Pyramid 5+Presponse\, Vision 7\, Pre-cond. Shots: Pyramid 5+Presponse\, Vision 7\, Poured woth Brown box Ivomec\, Producer All Natural \nTom Dunlap   55 Blk/Bwf Strs & Hfrs\, 500-525#\, 3 Rounds of Shots: Vista Once\, Vision 7\, Nasalgen\, Back Poured\, No Implants\, Steers are Knife Cut\, Producer All Natural \nLeroy Krejic   55 Mx Strs & Hfrs\, 350-500#\, Branding Shots\, Pre-cond. Shots: Vision 7\, Pyramid 5+Presponse SQ\, Poured w/Ivomec\, No Implants\, Producer All Natural \nJerry & Becky Eller   51 Blk/Bwf few Rd Strs & Hfrs\, 300-500#\, Branding Shots: Pyramid 5+Presponse\, Vision 8 w/Somnus\, Pre-cond. Shots: Pyramid 5+Presponse\, Vision 8 w/Somnus \nGlenn Southwick   50 Blk/Strs & Hfrs\, 400-500#\, Branding Shots \nLeroux Land & Cattle   50 Blk/Bwf/Hereford Strs & Hfrs\, 500-600#\, Branding Shots: Vision 7 w/Spur\, Inforce 3 Pre-cond. Shots: Vision 7\, Vira Sheild 6\, High Altitude\, Herefords are Churchill Influence \nMeadowdale Land LLC.   49 Blk/BWF/a few Reds Strs & Hfrs\, 450-500#\, Branding Shots: Vision 7\, Nasalgen 3+PMH\, Fly Tags\, Pre-Cond. Shots: Vista Once SQ\, Vision 7/Somnus\, VitaFerm Mineral\, Knife Cut\, No Implants \nSteve and Cheryl Tracy   49 Blk Angus Strs & Hfrs\, 600#\, Branding Shots: Vision 7 w/Spur\, Inforce 3\, Nasalgen\, Pre-cond. Shots: Vision 7 w/Spur\, Inforce 3\, Naslagen\, Been on a Mineral Program\, 20+ years of Connealy Angus Genetics\, BQA Certified Family \nXH Land & Cattle   48 Blk/Bwf Strs & Hfrs\, 375-425#\, Shots at Birth: Ultrabac\, Nasalgen 3PMH\, Branding Shots: Vision 7 w/Spur\, Vista Once SQ\, Pre-cond. Shots: Vision 7 Somnus/Spur\, Vista Once SQ\, High Elevation\, Home Raised \nJosh Combridge   46 Mx Strs & Hfrs\, 450-600#\, Branding Shots: 8-way w/Somnus\, Bovi-Shield Gold\, Steers receimed a Tetanus Shot\, Pre-cond. Shots: 8-way w/Somnus\, Bovi-Shield Gold\, No Implants \nBlue Valley Ranch   43 Blk/Bwf Strs & Hfrs\, 300-425#\, Branding Shots:  Pyramid 5_Presponse\, Vision 7 w/Somnus+Spur\, Pre-cond. Shots: Pyramid 5+Presponse\, Vision 7 w/Somnus+Spur\, Home Raised\, High Elevation \nLynn & Robin Carter   40 Mx Strs & Hfrs\, 450-600#\, Branding Shots: Vision 7 w/Spur\, Pyramid 5+Presponse\, Pre-cond. Shots: Vision 7 w/Spur\, Pyramid 5+Presponse\, No Implants \nSilver Sage/Saratoga   40 Blk/Bwf Strs & HFrs\, 500-525#\, Branding and Pre-cond. Shots (will be called in)\, Home Raised\, High Elevation \nKerbs 4 Bar   40 Blk/Bwf Strs & Hfrs\, 400#\, Branding Shots: Pyramid 5\, Vision 7 w/Spur\, Pre-cond. Shots: Pyramid 5+Presponse SQ\, Vision 7 W/Somnus\, Fancy High Elevation Calves\, Home Raised\, Coming out  of dry conditions\, Eating grass hay along side of mothers \nRod Wagner   35 Mx Strs & Hfrs\, 500-600#\, Branding Shots: 7-way\, Steers are Knife Cut\, Sired by McClun Hereford or Blk Angus Bulls \nSteve Perry   33 Mx Strs & Hfrs\, 475-525#\, Shots at Birth: Alpha 7\, Inforce 3\, MultiMin\, Branding Shots: 7-way w/Presponse\, Pyramid 5\, Vista Once\, Pre-cond. Shots: Vision 7 w/Spur\, Inforce 3\, Pyramid 5\, Vista Once\, Poured w/Ivomec\, No Implants\, Steers are Knife Cut \nDon Judy   33 Blk Strs & Hfrs\, 500-600#\, Branding Shots: BoviShield Gold 5\, Ultrabac 7 & Inforce 3\, Pre-cond Shots: BoviShield Gold One Shot\, Vision 7/Somnus + Spur & Inforce 3\, Weaned since 10/10 on Grass Hay & Ranchers Choice Tubs \nMarcus Anderson   30 Blk Strs & Hfrs\, 490-580#\, Branding Shots\, Pre-cond. Shots: Bovi-Shield Gold 5\, 7-way\, Poured on Oct. 11\, Steers are Knife Cut\, Producer All Natural \nBrent Lerwick   28 Shorthorn Strs & Hfrs\, 475-500#\, Branding Shots: 5-way & 7-way\, Strs are Implanted \nDale Anderson   26 Blk/Bwf few Rwf Strs & Hfrs\, 500-550#\, Branding Shots: Bovi-Shield Gold One shot\, Vision 7 w/Spur\, No Implants \nAngie Babcock Chavez   22 Blk/Red Sim Angus Strs & Hfrs\, 500-600#\, Branding Shots: IBR PI3\, 7-way/Somnus\, Pre-cond Shots: IBR PI3 & 7-way/Somnus & Pour On\, Calves are Sired by Doug Booth Family Angus Bulls\, Blk Calves are March-April Calves\, Red Calves are June Calves \nRodger Schroeder   21 Blk Gelbv-x Strs\, 570#\, Weaned 35 days\, Running out on grass\, Vac. 34 Vaccine Program\, No Implants\, Knife Cut\, 1-iron \nChad Wanberg   19 Blk Strs & Hfrs\, 500-600#\, Branding Shots: BS Gold 5\, Ultrabac 7 & Inforce 3\, Pre-cond Shots: Bovi-Shield Gold One Shot\, Ultrabac 7 & Inforce 3\, Weaned 10/10 On Grass Hay & Ranchers Tubs \nJD Atkinson   18 Red Strs & Hfrs\, 475-550#\, Branding Shots: Vision 7\, Bovi-Shield Gold 5\, Heifers can be registered \nHendrick’s Ranch   10 F 1 Bwf/Rwf Strs & Hfrs\, 500#\, Weaned 45 days\, Bunk Broke\, Been on Alfalfa and Grain\, Pre-cond. Shots: Calf Guard Alpha 7\, Weaning Shots: Nasalgen 3\, Alpha 7\, Multimin\, Sired by Zeus\, a 4 yr old Registered Hereford Bull\, Upper Medium to Large Frame Blk Angus Cows \nPete & Carol Petersen   6 Blk Strs & Hfrs\, 300-375#\, Shots at Birth: Alpha 7\, Branding Shots: Inforce 3\, One Shot Ultra 7\, Clostridium Perfringens Type \, C & D Toxoid\, Pre-cond. Shots: Pyramid 5+Presponse\, Home Raised\, High Elevation \nJerry Scott   4 Mx Strs & Hfrs\, 400-500#\, Branding Shots: 7-way\, Pre-cond. Shots: 7-way \nKory Marie Hunt   4 Blk/Rwf Strs & Hfrs\, 300-500#\, Branding Shots: Bovi-Shield Gold One Shot\, Nasalgen\, Pre-cond. Shots (Sept.): Bovi-Shield Gold One Shot\, Vision 7 \nGarrett & Kodi Smith   2 Blk Hfrs\, 500#\, 2 Rounds of Shots: Pyramid 5\, Vision 7 \nEd & Mary Meyer   1 White Galloway Hfr\, 435#\, Weaned in October\, On Grass/Alfalfa Hay\, Cake/Grain once Weekly\, Home raised \nMANY MORE CONSIGNMENTS BY SALE DAY \nCheck out www.torringtonlivestock.com for more consignments and to view sales and bid online!!! \nFOR MORE INFORMATION CALL 307-532-3333
URL:https://torringtonlivestock.com/event/monday-november-3rd-2025-calf-special/
END:VEVENT
END:VCALENDAR