BEGIN:VCALENDAR
VERSION:2.0
PRODID:-//Torrington Livestock Market - ECPv6.15.20//NONSGML v1.0//EN
CALSCALE:GREGORIAN
METHOD:PUBLISH
X-WR-CALNAME:Torrington Livestock Market
X-ORIGINAL-URL:https://torringtonlivestock.com
X-WR-CALDESC:Events for Torrington Livestock Market
REFRESH-INTERVAL;VALUE=DURATION:PT1H
X-Robots-Tag:noindex
X-PUBLISHED-TTL:PT1H
BEGIN:VTIMEZONE
TZID:America/Denver
BEGIN:DAYLIGHT
TZOFFSETFROM:-0700
TZOFFSETTO:-0600
TZNAME:MDT
DTSTART:20240310T090000
END:DAYLIGHT
BEGIN:STANDARD
TZOFFSETFROM:-0600
TZOFFSETTO:-0700
TZNAME:MST
DTSTART:20241103T080000
END:STANDARD
BEGIN:DAYLIGHT
TZOFFSETFROM:-0700
TZOFFSETTO:-0600
TZNAME:MDT
DTSTART:20250309T090000
END:DAYLIGHT
BEGIN:STANDARD
TZOFFSETFROM:-0600
TZOFFSETTO:-0700
TZNAME:MST
DTSTART:20251102T080000
END:STANDARD
BEGIN:DAYLIGHT
TZOFFSETFROM:-0700
TZOFFSETTO:-0600
TZNAME:MDT
DTSTART:20260308T090000
END:DAYLIGHT
BEGIN:STANDARD
TZOFFSETFROM:-0600
TZOFFSETTO:-0700
TZNAME:MST
DTSTART:20261101T080000
END:STANDARD
END:VTIMEZONE
BEGIN:VEVENT
DTSTART;TZID=America/Denver:20251105T080000
DTEND;TZID=America/Denver:20251105T190000
DTSTAMP:20260424T173642
CREATED:20251007T221520Z
LAST-MODIFIED:20251108T004654Z
UID:4469-1762329600-1762369200@torringtonlivestock.com
SUMMARY:Wednesday\, November 5th\, 2025 - Feeder/Calf Special
DESCRIPTION:TORRINGTON LIVESTOCK MARKETS \nWednesday\, November 5th\, 2025\nFeeder & Calf Special\nStarting at 9:00am\nCattle Country Video – 11:00 am \nLot 1110   Ryker & Carrie Hyche    122 Open Yrlg Hfrs. 40% Blk\, 40% Red\, 10% Bwf\, 10% Rwf. Base Wt: 750 lbs. Wt Stop: 770 lbs. Slide: .16 cents. Located: Wheatland\, WY. Delivery: 11/6/25 to 11/10/25. Origin: Ranch Raised. Spring Shots: 7-way\, 5-way/Pasturells & Dectomax. Weigh: Early am gather\, trail 1.5 miles\, weigh on ground w/a 2%. Comments: Green\, open yearling heifers from replacements. Running on grass. May & June Calves. $800 Frt Adjustment. Rep: Ty Thompson 307-340-0770. \nwww.torringtonlivestock.com \nFeeders \nDoug Hatch   60 Blk\, few Red Strs & Spayed Hfrs\, 800#\, Off Grass\, No Implants\, Shots: Vista Once & Vision 7/Somnus \nPape Ranches Inc   70 Blk Hfrs\, 850#\, Guaranteed Open\, Calfhood Shots: Blackleg & Vista Once\, Coming off Grass\, High Altitude\, Bangs Vac\, Ranch Raised\, Home Raised\, Producer All Natural \nRoberts Ranch LLC   60 Blk Strs\, 750#\, Complete Vac. Program\, Coming off grass \nMike Massey   40 Mx Hfrs\, 800#\, PTO @ ranch\, Complete Vac. Program\, Coming off grass \nListowell Cattle Co   27 Strs\, 700-850#\, Home Raised\, Complete Vac Program\, Coming off Grass \nRomsa Brothers   20 Blk/Rd Strs\, 700#\, Complete Vac. Program\, Coming off grass \nHeward’s 25 Ranch   15 Mx Hfrs\, 800#\, Complete Vac. Program\, Coming off grass \nNathan Painter   9 Blk Strs\, 1000#\, Complete Vac. Program\, Coming off grass \nRon Flakus   8 Blk/Rd Strs & Hfrs\, 650-850#\, Heifers PTO @ ranch on Oct. 28\, Steers are Knife Cut\, Shots in April: Preguard 9\, Ultrabac/Somubac\, Bovillis PMH\, Ivermectin\, Safeguard\, Shots in August: Cattle Master Gold FP5\, Ultrbac/Somubac\, Bovillis PMH\, Shots in October: Vira Shield VL5\, Ivermectin\, SafeGuard\,  Coming off grass\, Home Raised \nMatthews Livestock   8 Mx Hfrs\, 775#\, Complete Vac. Program\, Coming off grass \nPaul Fornstorm\, DVM   4 Blk Strs & Hfrs\, 900-1100#\, Heifers are PTO @ ranch\, Complete Vac. Program\, Coming off grass\, Producer All Natural \nUniversity of Wyoming   4 Mx Hfrs\, 870#\, Open\, Complete Vac. Program \nQ Creek Land & Cattle   3 Mx Strs & Hfrs\, 800# \nKroenke Ranch Inc.   3 Blk Strs & Hfrs\, 800#\, Complete Vac. Program\, Coming off grass \nRudy Oliver   2 Corr. Bulls\, 800# \n****1 Str\, 700# \nPhil Kahler   1 Blk Str\, 850# \nChase Richards   1 Ylg Hfr\, 750-800# \nPaisley & Zach Johnson   1 Blk Hfr\, 900-1000#\, Bunk Broke\, Been on Grain \nZach Johnson   1 Red Str\, 1100#\, Bunk Broke\, Been on Feed \n  \nCalves \nOgallala Ranch/Josh Moore   325 Blk Strs & Hfrs\, 410-525#\, Branding Shots: Vision 7/Somnus & Vista Once SQ\, Precond Shots: Vision 7/Somnus & Vista Once SQ\, Poured w/ Saber\, Strs have had Ralgro & are knife cut \nPeterson Livestock LLC   156 Blk Angus Strs\, 400-500#\, Branding Shots: Nasalgen 3 PMH\, Vista BVD CFP\, Vision 7 w/Spur\, Pre-cond. Shots: Vista Once SQ\, Vision 7 w/Spur\, No Implants\, Knife Cut\, Home Raised\, High Altitude\, Producer All Natural \n****86 Blk Angus Hfrs\, 400#\, Branding Shots: Nasalgen 3 PMH\, Vista BVD CFP\, Vision 7 w/Spur\, Pre-cond. Shots: Vista Once SQ\, Vision 7 w/Spur\, No Implants\, Home Raised\, High Altitude\, Producer All Natural \nSeth\, Julea Brockman   160 Blk Strs & Hfrs\, 525-625#\, Branding Shots: One Shot BVD\, Inforce 3\, Ultra Choice 7\, Pre-cond Shots (Aug. 29): Bovi-Shield Gold One Shot\, Vision 7 Somnus w/Spur\, Ivermax Pour On \nVee Bar Ranch/Burco LLC   140 Blk/Bwf Strs & Hfrs\, 550#\, Branding Shots: Vision 8 & Vista Once\, Precond Shots: Vision 8\, Vista Once & Pour On\, High Altitude\, Summered at 10\,000 ft \nBench Y Livestock   140 Mostly Blk Strs & Hfrs\, 525-575#\, Branding Shots: Bovi-Shield Gold One Shot\, 8-way\, Pre-cond. Shots (Oct. 20): Vira Shield 6\, 8-way\, Sired by Arrow Crown Angus Bulls and Lake Livestock\, Blk-Sim Angus Bulls\, Producer All Natural \nRabou Ranch   120 Blk/Bwf Mostly Strs few Hfrs\, 450-550#\, Branding Shots: Bovi-Shield Gold One Shot\, Vision 7 w/Somnus\, Inforce 3\, Pre-cond. Shots: Bovi-Shield Gold  One Shot\, Ultrabac 7\, Poured w/Dectomax\, No Implants\, Steers are Knife Cut \nRobert Clausen   100 Blk Strs\, 500-550#\, Branding & Precond Shots: Pyramid 5+ Presponse & Vision 7\, Poured at Precond\, No Implants \nAlan Polzin/Erin Polzin   95 Blk Strs & Hfrs\, 500-600#\, Weaned Early Oct.\, Running out on Grass Pasture\, Lick Tubs & Salt\, Branding Shots: Ultra Bac 7\, Bovi-Shield\, Pre-cond. Shots & Booster Shots: Ultra Bac 7\, Bovi-Shield\, Poured\, Producer All Natural\, Sired by Sim Angus Bulls \nLadder Livestock   91 Blk/Bwf Strs & Hfrs\, 350-500#\, Branding Shots; Convexin 8\, Pyramid 5+Presponse SQ\, Pre-cond. Shots: Vision 7 w/Somnus\, Pyramid 5+Presponse\, Poured\, Steers are Knife Cut\, High Elevation\, Summered at 8000’\, Started on hay along side of mothers \nSmith Sheep Co.   90 Blk/Rd Strs & Hfrs\, 560-620#. Branding Shots and Pre-cond. Shots (Oct.13): Vision 7 w/Somnus\, Vista Once\, Poured\, No Implants\, Steers are Knife Cut\, Producer All Natural\, Been on Garlic Crystalix Barrels since branding \nKraft Ranches   90 Blk Strs & Hfrs\, 520-550#\, Two Rounds of Shots: Pyramid 5 & Vision 7 \nBootjack Cattle Co   90 Mostly Blk few Rd/Char-x Strs & Hfrs few Bull Calves\, 350-600#\, Branding Shots: Pyramid 5\, Vison 7 Somnus\, Multimin \nHill Land & Livestock   85 Blk Strs\, 325-425#\, Branding Shots: Pyramid 5+Presponse & Covexin 8\, Precond Shots: Pyramid 5+Presponse & Vision 7\, Mostly May-June Calves\, Green\, High Elevation \nScissors Ranch   80 Blk Strs\, 550#\, Branding & Precond Shots: BoviShield Gold One Shot & Vision 7/Somnus\, Ralgro at Branding \nRobert Crowder   71 Blk/Char Strs & Hfrs\, 400-500#\, Weaned since Oct. 1\, Grass Hay Only\, Branding Shots: 8-way\, Vista Once\, Poured w/Ivermectin\, Weaning Shots: Bovi-Shield Gold One Shot\, Ultra Bac 8\, Poured w/Ivermectin\, No Implants\, Steers are Knife Cut\, Producer All Natural\, Running at 9500’ \nScott & Bobbie Butcher   70 Bwf few Rd Strs\, 550#\, Branding Shots: 7-way\, bovi-Shield Gold\, Pre-cond. Shots: 7-way\, Bovi-Shield Gold\, Poured\, No Implants\, Knife Cut\, Producer All Natural \nRandy Cole   70 Mostly Blk Strs & Hfrs\, 450-550#\, Branding Shots: Vision 7 w/Somnus w/Spur\, Vista Once SQ\, Producer All Natural \nKern Ranch   54 Blk\, few Herf Strs & Hfrs\, 475-500#\, Branding & Precond Shots: Vision 8/Somnus & Vista Once\, Pour On at Precond\, Producer All Natural\, High Altitude\, 8500 ft\, Coming off Grass \nJenkins Creek Ranch   50 Saler-x Strs & Hfrs\, 400-600#\, Branding Shots\, Pre-cond. Shots: 7-way\, Vira Shield\, Steers are Knife Cut\, Producer All Natural \nJohn Montgomery   50 Blk/Red Strs & Hfrs\, 450-550#\, Branding Shots: BoviShield Gold & Ultrabac 8\, Precond Shots: BoviShield Gold & Ultrabac\, Strs are Knife Cut\, Producer All Natural\, High Altitude\, Run out on Hay Meadows \nJessica Norfleet/Chugwater Creek Ranch   40 Mostly Blk Strs & Hfrs\, 400-500#\, Branding Shots: BoviShield Gold & Vision 7\, June Calves \nScott Nelson   40 Mostly Blk Strs & Hfrs\, 250-500#\, Branding Shots: 20/20 Vision 7\, Vista Once SQ\, Nasalgen\, Pre-cond. Shots: Nasalgen\, Vista Once SQ\, Steers are Knife Cut \nBrad Reese   40 Blk few Red Strs\, 380-510#\, Branding Shots: 7-way\, Vira Shield 5 \nDillon Cole & Josie Janikowsky   35 Blk/Bwf\, few Red Strs & Hfrs\, 400-550#\, Branding Shots: Vista Once SQ\, Vision 7/Somnus + Spur \nCraig & Tyler Jones   35 Blk/Bwf Strs & Hfrs\, 450-500#\, Branding Shots: 7-way\, Vira Shield 6 \nPhil Kahler   29 Mostly Blk Strs & Hfrs\, 400-600#\, Branding & Precond Shots: Ultra Choice 7 & BoviShield Gold\, Strs are Knife Cut \nRoberta Herman   25 Angus/Hereford -x Strs & Hfrs\, 400-600#\, Weaned 14 days\, Bunk Broke\, Free Choice Hay\, Grain\, 20% Cake\, Branding Shots: Cattlemaster Gold FP5\, One Shot Ultra 7\, Multimin\, Pre-cond. Shots: Cattlemaster Gold LFP5\, One Shot Ultra 7\, Weaning Shots: Multimin\, \nMartin Aimone Ranch   23 Mx Strs & Hfrs\, 500#\, Branding Shots and Pre-cond. Shots: 8-way\, Bovi-Shield Gold One Shot \nLee Isenberger   22 Mx Strs\, 580#\, Weaned 14 days\, Hay Fed\, Branding Shots\, Pre-cond. Shots: Pyramid 5+Presponse\, Ultrabac 7 w/Somubac\, No Implants\, Knife Cut \nBroken Dipper LLC   21 Char Strs & Hfrs\, 500-600#\, Branding Shots: Vision 7 w/Somnus+Spur\, Moraxella Bovi Bacterin\, Sired by Staircase Char Bulls \nChris Aimone   20 Mx Strs & Hfrs\, 500#\, Branding Shots and Pre-cond. Shots: 8-way\, Bovi-Shield Gold One Shot \nZN Ranch   20 Blk Strs\, 450#\, Branding Shots \nRon Middaugh   17 Blk Angus Strs & Hfrs\, 500#\, Weaned 45 days\, Been on Grass//Alfalfa Hay Mix\, 20% Protein Tubs\, No Shots \nRalph Brokaw   16 Blk Hfrs\, 450-500#\, Branding Shots: 7-way\, Pyramid 5\, Pre-cond. Shots: 7-way w/Somnus\, Pyralmid 5\, No Implants \nFrank Elmore   12 Blk Angus Strs & Hfrs\, 350-550#\, Branding Shots: Vision w/Spur\, Vira Shield 6\, Poured\, No Implants\, April/May Calves \nDennis Johnson   7 Blk Strs & Hfrs\, 400-500#\, Weaned Early Oct.\, Running out on grass pasture\, Lick Tubs & Salt\, Branding Shots: Ultra Bac 7\, Bovi-Shield\, Pre-cond. Shots and Booster Shots: Ultra Bac 7\, Bovi-Shield\, Poured\, Sired by Blk Angus Bulls \nDallas Talbot   7 Blk Strs & Hfrs\, 400-500#\, Weaned Early Oct.\, Running out on grass pasture\, Lick Tubs & Salt\, Branding Shots: Ultra Bac 7\, Bovi-Shield\, Pre-cond. Shots and Booster Shots: Ultra Bac 7\, Bovi-Shield\, Poured\, Sired by Blk Angus Bulls \nEcho 7even Bison/Shawn Lamey   5 Blk Angus Strs & Hfrs\, 300-400#\, Weaned 90 days\, Running out on grass meadows\, 2 Rounds of Shots: Vision 7 \nMike Stephens   4 Blk Strs & Hfrs\, 650-700#\, Weaned 14 days\, Bunk Broke\, Been on Hay\, Grain & Cake\, Branding Shots: One Shot Ultra\, Inforce 3\, Pre-cond. Shots (Oct. 4): One Shot Ultra\, Inforce 3\, Steers are Knife Cut \nFrank Eathorne   3 Char-x Hfrs\, 450-600#\, No Shots\, Bangs Vac\, Producer All Natural \nChris Lindt   3 Mx Hfrs\, 600#\, Branding Shots \nNathan Jeggi   2 Mx Hfr Clvs\, 300# \nZach Johnson   1 Mx Bull Calf\, 450#\, Weaned a long time\, Bunk Broke\, Been on a Grower Ration \n \nMANY MORE CONSIGNMENTS BY SALE DAY \nCheck out www.torringtonlivestock.com for more consignments and to view sales and bid online!!! \nFOR MORE INFORMATION CALL 307-532-3333
URL:https://torringtonlivestock.com/event/wednesday-november-5th-2025-feeder-calf-special/
END:VEVENT
END:VCALENDAR