BEGIN:VCALENDAR
VERSION:2.0
PRODID:-//Torrington Livestock Market - ECPv6.15.20//NONSGML v1.0//EN
CALSCALE:GREGORIAN
METHOD:PUBLISH
X-ORIGINAL-URL:https://torringtonlivestock.com
X-WR-CALDESC:Events for Torrington Livestock Market
REFRESH-INTERVAL;VALUE=DURATION:PT1H
X-Robots-Tag:noindex
X-PUBLISHED-TTL:PT1H
BEGIN:VTIMEZONE
TZID:America/Denver
BEGIN:DAYLIGHT
TZOFFSETFROM:-0700
TZOFFSETTO:-0600
TZNAME:MDT
DTSTART:20240310T090000
END:DAYLIGHT
BEGIN:STANDARD
TZOFFSETFROM:-0600
TZOFFSETTO:-0700
TZNAME:MST
DTSTART:20241103T080000
END:STANDARD
BEGIN:DAYLIGHT
TZOFFSETFROM:-0700
TZOFFSETTO:-0600
TZNAME:MDT
DTSTART:20250309T090000
END:DAYLIGHT
BEGIN:STANDARD
TZOFFSETFROM:-0600
TZOFFSETTO:-0700
TZNAME:MST
DTSTART:20251102T080000
END:STANDARD
BEGIN:DAYLIGHT
TZOFFSETFROM:-0700
TZOFFSETTO:-0600
TZNAME:MDT
DTSTART:20260308T090000
END:DAYLIGHT
BEGIN:STANDARD
TZOFFSETFROM:-0600
TZOFFSETTO:-0700
TZNAME:MST
DTSTART:20261101T080000
END:STANDARD
END:VTIMEZONE
BEGIN:VEVENT
DTSTART;TZID=America/Denver:20251107T080000
DTEND;TZID=America/Denver:20251107T200000
DTSTAMP:20260424T173813
CREATED:20251007T221559Z
LAST-MODIFIED:20251114T012757Z
UID:4471-1762502400-1762545600@torringtonlivestock.com
SUMMARY:Friday\, November 7th\, 2025 -  All Classes
DESCRIPTION:TORRINGTON LIVESTOCK MARKETS \nFriday\, November 7th\, 2025\n All Classes\nStarting at 8:00 am MDT with Weigh-ups\nBreds/Pairs \nLadder Livestock   46 Cows\, Bred to Jorgensen Bulls\, CF: June-July \n****11 Heifers\, Bred to Jorgensen Bulls\, CF: June-July \nWoodford Ranch   48 Mx Cows\, Mx Ages\, CF: Mx \nBates Creek Cattle Co.   40 Blk Cows\, Mx Ages\, Bred to Blk Angus Bulls: Ellingson\, GDAR\, Talkington\, 21 Angus & Cattle Mt\, Hereford Bulls: Ochsner\, Ward\, Largent\, Berry Bulls\, CF: March/April\, \nOrchard Ranch   40 Mx Cows\, Mx Ages\, CF: Mx \nTerry Huntington & Nathan Jeggi   9 Mx Cows\, Mx Ages\, CF: Mx \nBonham Ranch   8 Red/Rwf Cows\, ST\, Solid Red Cows Bred to Hereford Bulls/ Rwf Cows Bred to Red Angus Bulls\, CF: April May \nLee Isenberger   5 Blk Cows\, ST\, Bred to Blk Bulls\, CF: March 20 \nRon Wille   4 Mx Cows\, Mx Ages\, CF: Mx \nT A Ranch   1 Cow\, Mx Age\, Bred to SimAngus Diamond Peak Bull\, CF: Mx \nDalles Ranch   1 Cow Pair\, Mx Age \n  \nBred Heifers \nBates Creek Cattle Co.   30 Blk Hfrs\, Bred to Blk Angus Bulls: Ellingson\, GDAR\, Talkington\, 21 Angus & Cattle Mt\, Hereford Bulls: Ochsner\, Ward\, Largent\, Berry Bulls\, CF: March/April\, \n  \nFeeders/Calves \nCarl Hickey   60 Mx Strs & Hfrs\, 350-400#\, 2 Rounds of Shots\, Heifers are Bangs Vac. \nMark Massey   55 Mx Hfrs\, 850# \nBates Creek Cattle Co.  16 Blk Hfrs\, 800#\, PTO @ ranch\, Complete Vac. Program\, Coming off grass \n****5 Strs & Hfrs\, Weaned 45 days \nOgallala Ranch   11 Open Hfrs\, 1200# \nAlvin Manning   9 Open Hfrs \nHoward Deselmes   6 Blk Strs\, 400-560#. Alpha 7 at Birth\, Branding Shots: One Shot BVD\, Inforce 3\, Precond Shots: BoviShield Gold One Shot\, Ultrabac 7\, Inforce 3 & Dectomax\, Weaning Shots: BoviShield Gold 5\, BeefCare\, NHTC\, Veg Fed\, Verified Natural thru IMI \n  \nWeighups \nOrchard Ranch   135 Mx Cows/Hfretts \nWoodford Ranch   57 Mx Hfretts \n****34 Mx Young Cows \nBates Creek Cattle Co.   82 Blk Cows \nCarl Hickey   60 Mx Cows \nDalles Ranch   55 Mx Cows/Bulls \nLadder Livestock   54 Open Cows \nBox E Cattle Co.   50 Mx Cows \nKing Ranch/Mark Eisele    45 Open Cows \nMiller Estate Co   33 Blk Hfrettes\, Open\n****16 Cows\, Open \nThe Window Sash   45 Mx Cows \nJohnson Bros/Mark Johnson   40 Blk/Bwf\, few Red \nPeterson Livestock    40 Cows \nSmith Sheep Co    40 Open Cows \nBlue Valley Ranch   35 Mx Cows \nOgallala Ranch   33 Cows\, Open or Exposed \nWarren Ranch   31 Mx Cows \nCarbon Creek Cattle   19 Open Cows\n****11 Open Hfettes \nLee Isenberger   30 Blk Cows \nSlow & Easy Ranch   27 Cows\, Exposed to Bulls on July 1st \n****1 Bull \nWP Livestock   27 Blk/Bwf Hfrettes \nDoug Moore/Frank Martinez   16 Cows\n****10 Bulls \nConor Dwyer   26 Mx Fat Strs\, 1800-2000# \nRon Wille   22 Mx Cows \nScissors Ranch   20 Blk Cows \nT A Ranch   17 Mx Cows/Bulls \nBonham Ranch   14 Red Cows/Bulls \nSeth Brockman   13 Mx Cows/Bulls \nMatt Kay   13 Mx Cows \nPete & Carol Petersen   12 Cows \nJay Middleswarth   10 Open Cows \nMiddleswartj Herefords   10 Hereford Cows \nTerry Huntington & Nathan Jaggi   9 Mx Cows \nBrian & Christine Nusbaum   8 Mx Cows \nJesse & Mallory Cecil   7 Open Cows \nMJ Ranches   6 Cows \nBrent Lerwick   4 Mx Bulls/Cow \nC & S Limmer Livestock   4 Blk Bulls \nMartin Aimone Ranch   3 Mx Cows \nFish & Cross Ranch LLC   3 Blk Bulls \nRobert Bishop   4 Cows \nTyler Lauch   4 Mx Cows \nTye Reed   3 Cows \nGlen Alameda   2 Mx Cow/Bullfish \nBo Alameda   2 Mx Cow/Bull \nCraig Lowham   1 Cow \nMaria Carlton   1 Cow \nAndy & Jessie Anderson   1 Cow \n  \n MANY MORE CONSIGNMENTS BY SALE DAY \nCheck out www.torringtonlivestock.com for more consignments and to view sales and bid online!!! \nFOR MORE INFORMATION CALL 307-532-3333
URL:https://torringtonlivestock.com/event/friday-november-7th-2025-all-classes/
END:VEVENT
END:VCALENDAR