BEGIN:VCALENDAR
VERSION:2.0
PRODID:-//Torrington Livestock Market - ECPv6.15.20//NONSGML v1.0//EN
CALSCALE:GREGORIAN
METHOD:PUBLISH
X-ORIGINAL-URL:https://torringtonlivestock.com
X-WR-CALDESC:Events for Torrington Livestock Market
REFRESH-INTERVAL;VALUE=DURATION:PT1H
X-Robots-Tag:noindex
X-PUBLISHED-TTL:PT1H
BEGIN:VTIMEZONE
TZID:America/Denver
BEGIN:DAYLIGHT
TZOFFSETFROM:-0700
TZOFFSETTO:-0600
TZNAME:MDT
DTSTART:20240310T090000
END:DAYLIGHT
BEGIN:STANDARD
TZOFFSETFROM:-0600
TZOFFSETTO:-0700
TZNAME:MST
DTSTART:20241103T080000
END:STANDARD
BEGIN:DAYLIGHT
TZOFFSETFROM:-0700
TZOFFSETTO:-0600
TZNAME:MDT
DTSTART:20250309T090000
END:DAYLIGHT
BEGIN:STANDARD
TZOFFSETFROM:-0600
TZOFFSETTO:-0700
TZNAME:MST
DTSTART:20251102T080000
END:STANDARD
BEGIN:DAYLIGHT
TZOFFSETFROM:-0700
TZOFFSETTO:-0600
TZNAME:MDT
DTSTART:20260308T090000
END:DAYLIGHT
BEGIN:STANDARD
TZOFFSETFROM:-0600
TZOFFSETTO:-0700
TZNAME:MST
DTSTART:20261101T080000
END:STANDARD
END:VTIMEZONE
BEGIN:VEVENT
DTSTART;VALUE=DATE:20251110
DTEND;VALUE=DATE:20251111
DTSTAMP:20260424T173822
CREATED:20251007T221726Z
LAST-MODIFIED:20251114T013145Z
UID:4473-1762732800-1762819199@torringtonlivestock.com
SUMMARY:Monday\, November 10th\, 2025 - Bred Cow Special
DESCRIPTION:TORRINGTON LIVESTOCK MARKETS \nMonday\, November 10th\, 2025\nBred Cow Special\nStarting at 8:00 am MDT with Weigh-ups\nBred Heifers to Sell at Noon – Video Lot & Bred Cows to Follow\nCattle Country Video \nLot 1120    Bootheel 7 Livestock   55 Bred Cows. Base Wt: 1350\, Location: Corrals 6 miles E of Lusk\, Wy. \, Slide: $1/lb. off @ 26 lbs under base wt. Breed: 90 % Blk; 10% BWF\, Origin: Raised/Purchased From E Wy\, Delivered: 11/10/2025 to 11/17/2025 Rep Option\, Feed: Native pasture\, supplement ground hay & silage\, Wt Var: Uneven\, Frame: Med-Large/ Flesh Med\, Shots: Vira Shield 6VL5HB\, Poured\, Weigh Up: Mid- morning gather\, load on buyer’s pre-weighed truck\, haul 6 miles and weigh on the truck straight. \, Other info: Black Angus (Ken Haas & TD Angus); on11/9/2025; by Jim Smylie; Expected Calving Date is 4/10/2026 to 5/25/2026. Comments: Fancy\, high volume and good frame Short Term cows\, Bulls in on July 4th for 45 days. $800 Freight Adjustment on all of them! Rep: Torrington Ty Thompson  (307)340-0770 \nwww.cattlecountryvideo.com \n  \n  \nComplete or Partial Dispersals \nKing Inc.   210 Blk few Bwf Cows\, Complete Dispersal\, A Big Portion are Coming 2 yr olds to 5 yr olds bal is 6 yr olds to 10 yr olds\, Bred to 75% Registered Fredricson Blk Angus Bulls (from Spearfish\, SD)\, 25% Bred to Registered Horn and Polled Herefords\, CF: April 9\, Shots: Vira Shield 6+VL5 \nLerwick Brothers   65 Bwf/Rwf Cows\, Complete Dispersal of Early Calvers\, SS-ST\, Bred to Char Bulls\, CF: Feb. 20 for 60 days\, Been on a Complete Modified Live Vac. Program\, Complete  Scour Guard Program but No Shots this Fall \nRassbach Ranch LLC   23 Blk Cows\, Complete Dispersal\, 3-6 yr olds\, Bred to Blk Bulls\, CF: April 1st \n  \nBred Heifers \nOchsner-Roth Cattle Co.   195 Blk Hfrs\, AI’d Bred to “B A R Dynamic “ Blk Angus Bull with Proven Calving Ease\, High Growth Performance and Excellent Weaning and Grid Indexes\, Ultra-sounded to CF: Feb. 8 \n****75 Blk Hfrs\, Bred to Low Birth Weight Blk Angus Bulls\, Ultra-sounded to CF: Feb. 10th thru February 28 \nAll Heifers are on a Complete Vaccine Program with Two Rounds of Bovi-Gold 5\, One Shot Pasteurella\, Multi-Min 90 and Ultrabac 7/Somnus when Weaned\, At Breeding they got Bovi-Gold FP+L5 HB \n7X Cattle   80 Blk Hfrs\, 1100-1150#\, AI’d Bred to Sitz Polaris\, CF: Feb. 26 \n****70 Blk Hfrs\, 1100-1150#. Bred to Blk Calving Ease Riverbend Bulls out of Idaho\, CF: March 18 for 30 days \nAll Received the following Shots: Nov. 7\, 2024: Bovi-Shield Gold One Shot\, Ultrabac 7/Somubac\, Poured\,  April 15\, 2025: Vira Shield 6+VL5\, Ultrabac 8\, Cattle Master Gold FP5\, Poured\, Sept. 24\, 2025: Vision 8\, Vira Shield 6+VL5\, Poured\, All off one ranch\, Running at 6500’ Elevation \nBen & Hallie Noland   50 Blk Hfrs\, 1000#\, Bred to Low Birth Wt\, Calving Ease Diamond Peak or Leachman Black Bull\, CF: March 1st for 30 days\, Shots: Three Rounds of Modified Live Vira Vaccine\, 7-way at Pre-breeding\, No Shots this Fall to leave ready for buyer’s vaccination program\, High Elevation\, run to 8500 ft in the sum3050 Blk Hfrs\, 1000#\, Bred to Low Birth Wt\, Calving Ease Diamond Peak or Leachman Black Bull\, CF: March 1st for 30 days\, Shots: Three Rounds of Modified Live Vira Vaccine\, 7-way at Pre-breeding\, No Shots this Fall to leave ready for buyer’s vaccination program\, High Elevation\, run to 8500 ft in the summer\, Home Raised\, One Iron\, Selling all Bred Hfrs due to drought \n****30 Bwf Hfrs\, 1000#\, Bred to Low Birth Wt\, Calving Ease Diamond Peak or Leachman Black Bull\, CF: March 1st for 30 days\, Shots: Three Rounds of Modified Live Vira Vaccine\, 7-way at Pre-breeding\, No Shots this Fall to leave ready for buyer’s vaccination program\, High Elevation\, run to 8500 ft in the sum3050 Blk Hfrs\, 1000#\, Bred to Low Birth Wt\, Calving Ease Diamond Peak or Leachman Black Bull\, CF: March 1st for 30 days\, Shots: Three Rounds of Modified Live Vira Vaccine\, 7-way at Pre-breeding\, No Shots this Fall to leave ready for buyer’s vaccination program\, High Elevation\, run to 8500 ft in the summer\, Home Raised\, One Iron\, Selling all Bred Hfrs due to drought \n****8 Red/Rwf Hfrs\, 1000#\, Bred to Low Birth Wt\, Calving Ease Diamond Peak or Leachman Black Bull\, CF: March 1st for 30 days\, Shots: Three Rounds of Modified Live Vira Vaccine\, 7-way at Pre-breeding\, No Shots this Fall to leave ready for buyer’s vaccination program\, High Elevation\, run to 8500 ft in the sum3050 Blk Hfrs\, 1000#\, Bred to Low Birth Wt\, Calving Ease Diamond Peak or Leachman Black Bull\, CF: March 1st for 30 days\, Shots: Three Rounds of Modified Live Vira Vaccine\, 7-way at Pre-breeding\, No Shots this Fall to leave ready for buyer’s vaccination program\, High Elevation\, run to 8500 ft in the summer\, Home Raised\, One Iron\, Selling all Bred Hfrs due to drought \nSpringfield Ranch   51 Red Angus Hfrs\, 1000#\, Bred to Schuler Red Angus\, Ken Haas Angus or M Diamond Angus Bulls\, CF: March 15th for 45 days\, Shots: Express FP5 VL5\, ScourGuard 4K\, Ultra Sabre\, Home Raised\, Completely developed on range conditions\, wintered on hay & cake\, Turned out with 1 Red Angus & 2 Angus Bulls; 2/3 chance of black calves \nShon Massey   45 Blk Hfrs\, AI’d to Fireball Angus Bull\, With Clean-up Blk Angus Bulls for 30 days\, CF: March 1\, Shots: First Round of Scour Boss\, Vira Shield 6\, PregGuard \nHeward Ranch   43 Mx Hfrs\, Bred to Ochsner-Roth Hereford or Blk Angus Bulls\, K2 Red Angus Bulls\, CF: April 1 for 45 days\, Shots:  Vira Shield 6+VL5\, Poured \nCody & Pam Chrisman/Fish Creek Flying W Ranches   40 Blk Hfrs\, 950-1000#\, Bred to Low PAP\, Calving Ease Sitz Genetics Blk Bulls\, CF: March 30th to May 1st\, Fancy set of Home Raised Heifers\, Running at 10\,000’ Elevation \n****10 Blk Hfrs\, 950-1000#\, Bred to Low PAP\, Calving Ease Bulls\, CF: March 30th to May 1st\, Fancy set of Home Raised Heifers\, Running at 10\,000’ Elevation \nPine Ridge Ranch LLC   40 Blk Hfrs\, Bred to Blk Bulls\, CF: March 15 for 45 days\, Originated off the Kimzey’s Ranches at Walden\, CO\, Home Raised\, 1-iron (never rebranded) \nUniversity of Wyoming   35 Mx Hfrs\, Bred to Hereford\, Blk & Rd Bulls\, CF: March/April\, Shots: Cattle Master 5\, Preg Guard this spring \nIrvine Ranch   29 Blk Hfrs\, Bred to Blk Bulls\, CF: End of March thru Mid-May\, Shots: Vibro-Leptro\, Vira Shield 6+VL5\, Safeguard Wormer\, Poured \nJD Slagowski   26 Blk Hfrs\, Bred to Low Birth Weight Leachman Blk Angus Bulls\, CF: Feb. 15\, Shots in the Spring: Bovi-Shield Gold+FP5\, Vision 8\, Booster Shots in Oct.: Bovi-Shield Gold +VL5\, Vision 9\, Poured\, Home Raised\, Born and Raised at 10\,000’ \nBates Creek Cattle Co.   22 Blk Hfrs\, Bred to Blk Angus Bulls: Ellingson\, GDAR\, Talkington\, 21 Angus & Cattle Mt\, Hereford Bulls: Ochsner\, Ward\, Largent\, Berry Bulls\, CF: Late \nSalisbury Livestock   11 Mx Heifers\, Bred to Jorgensen Bulls\, CF: June-July \n3 3 Livestock   8 Mx Hfrs\, Bred to Blk Bull\, CF: May/June \nRodgers Ranch   3 Blk Hfrs\, AI’d Bred to Blk Bull\, CF: March 10\, Complete Vac. Program\, Poured\, Home Raised\, High Elevation \n****1 Blk Hfr\, Bred to Blk Bull\, CF: April\, Complete Vac. Program\, Poured\, Home Raised\, High Elevation \nJeffery Gapter   3 Red Hfrs\, Bred to Red Bull\, CF: April \nCullen Ranch   1 Red Angus Hfr\, AI’d Bred to Red Angus Bull\, CF: March \nBayne Ranch   1 Mx Hfr\, Bred to Char Bull\, CF: Mid-June \n  \nBreds \nWarren Ranch   135 Blk/Bwf Cows\, ST\, Blk Cows Bred to Hereford Bulls\, Bwf Cows Bred to Blk Bulls\, CF: April 10 for 45 days \nSandstone Ranches   92 Mx Cows\, Mostly 7-10 yr olds\, Bred to Low Birth Registered Blk Angus Bulls\, CF: April 15 for 60 days\, Shots: Vision 7 Somnus/Spur\, Vira Shield 6+VL5\, Injectable Ivomec\, Home Raised 1-iron\, High Elevation \n7X Cattle   90 Blk Cows\, 3-6 yr olds\, bred to Split Diamond Blk Angus Bulls out of Dillon\, MT\, CF: March\, Shots: April 15\, 2025: Vira Shield 6+VL5\, Ultrabac 8\, Cattle Master Gold FP5\, Poured\, Oct. 16\, 2025: Vision 8\, Vira Shield 6+VL5\, Poured\, Ran at 5500’ Elevation \nHog Eye Ranch   90 Mx Cows\, Running Ages\, Bred to Blk Angus or SimAngux-x Bulls\, CF: April 15 thru May\, Shots:  Vira Shield 6+VL5\, Vision 7 w/Spur \nBates Creek Cattle Co.   80 Blk Cows\, Mx Ages\, Bred to Blk Angus Bulls: Ellingson\, GDAR\, Talkington\, 21 Angus & Cattle Mt\, Hereford Bulls: Ochsner\, Ward\, Largent\, Berry Bulls\, CF: March/April \nSims Cattle Co   70 Blk\, few Red Cows\, 1150#\, Bred to Sims Cattle Co Angus Angus/Gelb/Simm Bulls\, CF: April 24th\, Shots: Vista 5 VL5\, Good solid cows bred and raised at 7200 ft\, Coming from Closed Herd \nWard Agi Business   60 Blk few Red Cows\, Mx Ages\, Bred to Jorgenson Blk Angus Bulls\, CF: March 20th \nDr. Joe & Kristen Skavdahl   45 Mostly Blk Cows\, Running Ages\, Bred to Blk or Red Angus Bulls\, CF: March 10 for 60 days\, Fall Shots: 7-way\, Poured w/Ivomec\, Been on a Spring Modified Live Vac. Program\, Steers at weaning avg. 612#\, Heifers at weaning avg. 590# \nAlex Wheatcroft   45 Blk Cows\, ST\, Bred to Registered Hollow Top Blk Ang Bulls\, CF: March 29 for 60 days\, Poured the first week in October\, Running at 7000’\, Home Raised \nJessica Norfleet/Chugwater Creek Cattle Co   44 Blk Red Cows\, Mxd Ages\, Bred to Blk Bulls\, CF: May/June \nSilver Spur   43 Mx Cows\, Running Ages\, Bred to Blk/Rd or Char Bulls\, CF: May-July\, No Shots \nL D Ranch   40 Blk Cows\, ST\, Bred to Blk Bulls\, CF: April 15 for 60 days \nBoot Ranch/Richard Cross   40 Blk/Red Cows\, Bred to Beckton Red Angus or Franks Cattle & Genetics Blk or Red Bulls\, CF: Feb 22 thru April\, Full Vac Program every year\, ViraShield 6+VL5 this year\, will need ScourGuard Shot this year \nCU Ranch   40 Mx Cows\, Mx Ages Bred to Blk Bulls\, CF: April 1 \nRogers Ranch   30 Mostly Blk Cows\, Young Cows\, Bred to Blk Bulls\, CF: May/June few Early\, Complete Vac. Program\, Home Raised\, High Elevation \n****5 Blk Cows\, Mx Ages\, Bred to Blk Bulls\, CF: Feb.\, Complete Vac. Program\, Home Raised\, High Elevation \nMatt Allmaras   28 Red/Blk Cows\, Mx Ages\, Bred to G & GT Blk Bulls or Booth Cherry Creek Blk Bulls\, CF: April 1 \nSalisbury Livestock   27 Mx Ages Cows\, Bred to Jorgensen Bulls\, CF: June-July \nSidwell Herefords   25 Blk Cows\, Mx Ages\, Bred to Hereford Bull\, CF: Feb. 15\, Shots at Preg Check: Cattle Master 4+VL5\, Vision 8 w/Somnus\, Back Poured w/Cylence\, Selling due to Bryan’s passing and moving \nDiamond Cattle Co.   19 Red/Rwf Cows\, 3-4 yr olds\, Bred to Red Bull\, CF: May/June \nIrvine Ranch   18 Blk Cows\, Mx Ages\, Bred to Blk Bulls\, CF: Mx\, Shots: Vibro-Leptro\, Vira Shield 6+VL5\, Safeguard Wormer\, Poured \nSpringfield Ranch   17 Red Angus Cows\, 1200#\, Bred to Schuler Red Angus\, Ken Haas Angus or M Diamond Angus Bulls\, CF: March 15th for 45 days\, Shots: Express FP5 VL5\, Valbazen\, Home Raised\, Completely developed on range conditions\, wintered on hay & cake\, Turned out with 1 Red Angus & 2 Angus Bulls; 2/3 chance of black calves \nFred & Clara Wilson   14 Blk Cows\, ST\, Bred to Blk Bulls\, CF: March 25 \nWoodcock Realty Holdings   14 mx Cows\, 4 yr olds ST\, Bred to Lucky 7 Angus Bulls\, CF: March 24 for 75 days \nRoss & Dede Buckhaults   18 Blk Cows\, 4-6 yr olds\, Bred to G-H  & Ochsner-Roth Angus Blk Angus Bulls\, CF: March 1st for 60 days\, Poured this Fall\, Been on a Complete Vac. Program but NO Shots this Fall \nHammer Ranch   11 Mx Cows\, Mx Ages\, Bred to Blk Bulls\, CF: Late\, Shots in the Spring: Bovi-Shield Gold FP5\, Vision 8\, Shots in Oct.: Bovi-Shield Gold +VL5\, Vision 9\, Home Raised \nLovitt Ranch   10 Blk Cows\, ST\, Bred to Blk Bulls\, CF; March 1 \nScott & Bobbi Butcher   8 Blk/Bwf Cows\, ST\, Bred to Hereford Bulls\, CF: April\, Shots: One Shot\, Vira Shield 6VL5\, Scour Boss\, Wormed \nSAREC/Lingle   7 Blk/Bwf Cows\, Mx Ages\, Bred to Blk Bull\, CF: April/May\, Bangs Vac. \nTrevor Jenne   6 Blk/Bwf Cows\, ST\, Bred to SimAngus Bulls\, CF: March 15 for 60 days\, Shots: Cattle Master Gold\, Staybred VL5\, Dectomax Injectable Wormer\, Poured w/Clean-up \nHeward 25 Ranch   6 Mx Cows\, Mx Ages\, Bred to Ochsner-Roth Hereford & Blk Angus Bulls\, K2 Red Angus Bulls\, CF: April 20 for 45 days\, Shots: Vira Shield 6 +VL5\, Poured \nIsenberger-Litton Livestock   6 Blk Cows\, ST\, Bred to Blk Bull\, CF: April/May\, Bangs Vac. \nCasey Madsen   5 Mx Cows\, Mx Ages\, Bred to Shorthorn or Blk Bulls\, CF: March/April \nDave Gamblin   4 Red Cows\, SM\, Bred Black Angus Bulls\, CF: March/April\, Shots: Bovi Shield Gold\, Ultra Choice 7 \nKey Bar Ranch/Colby William   4 Mx Cow\, 13 yr olds\, Bred to Blk Bulls\, CF: Mid-March/April\, Shots:  Vira Shield 6+VL5 w/Somnus\, Poured w/Ivomec \nRoss Allen   4 Mx Cows\, ST\, Bred to Blk or Hereford Bull\, CF: April/May \nJeffery Gapter   2 Mx Cows\, 7 yr olds\, Bred to Blk Bull\, CF: April \nBrian Jacobsen   1 Hereford Cow\, Mx Age\, AI’d Bred to Hereford Bull\, CF: End of March \n****3 Blk Cows\, Mx Ages\, Bred to Blk Angus Bull\, CF: End of March \nBrock Hladkey   1 Mx Cow\, Mx Age\, Bred to Red Angus Bull\, CF: Feb/March\, Shots: Scour Boss\, Bovi-Shield Gold VL5\, Poured \nBart Gray   1 Mx Cow\, Mx Age\, Bred to Red Angus Bull\, CF: Feb/March\, Shots: Scour Boss\, Bovi-Shield Gold VL5\, Poured \nFred Kirchhefer   1 Mx Cow\, ST\, Bred to Blk Bull\, CF: April \n\nPairs \n5 W Livestock   18 Blk (2Rd) Cow Pairs\, Mostly 3-6 yr olds\, Calves at side: 200# \nKroenke Ranch   4 Mx Cow Pairs\, Mx Ages \nEloy Munoz   2 Blk Angus Cow Pairs\, 3 yr  olds coming 4’s\, Calves at side are month old \nRodgers Ranch   2 Blk Cow Pairs\, Mx Ages \nSarah Dalles   1 Blk Hfr Pair \nJustin Manning   1 Gray Cow Pair\, Mx Age \nDewey Hageman   1 Blk Cow Pair\, Mx Age \nMANY MORE CONSIGNMENTS BY SALE DAY \nCheck out www.torringtonlivestock.com for more consignments and to view sales and bid online!!! \nFOR MORE INFORMATION CALL 307-532-3333
URL:https://torringtonlivestock.com/event/monday-november-10th-2025-bred-cow-special/
END:VEVENT
END:VCALENDAR