BEGIN:VCALENDAR
VERSION:2.0
PRODID:-//Torrington Livestock Market - ECPv6.15.20//NONSGML v1.0//EN
CALSCALE:GREGORIAN
METHOD:PUBLISH
X-ORIGINAL-URL:https://torringtonlivestock.com
X-WR-CALDESC:Events for Torrington Livestock Market
REFRESH-INTERVAL;VALUE=DURATION:PT1H
X-Robots-Tag:noindex
X-PUBLISHED-TTL:PT1H
BEGIN:VTIMEZONE
TZID:America/Denver
BEGIN:DAYLIGHT
TZOFFSETFROM:-0700
TZOFFSETTO:-0600
TZNAME:MDT
DTSTART:20240310T090000
END:DAYLIGHT
BEGIN:STANDARD
TZOFFSETFROM:-0600
TZOFFSETTO:-0700
TZNAME:MST
DTSTART:20241103T080000
END:STANDARD
BEGIN:DAYLIGHT
TZOFFSETFROM:-0700
TZOFFSETTO:-0600
TZNAME:MDT
DTSTART:20250309T090000
END:DAYLIGHT
BEGIN:STANDARD
TZOFFSETFROM:-0600
TZOFFSETTO:-0700
TZNAME:MST
DTSTART:20251102T080000
END:STANDARD
BEGIN:DAYLIGHT
TZOFFSETFROM:-0700
TZOFFSETTO:-0600
TZNAME:MDT
DTSTART:20260308T090000
END:DAYLIGHT
BEGIN:STANDARD
TZOFFSETFROM:-0600
TZOFFSETTO:-0700
TZNAME:MST
DTSTART:20261101T080000
END:STANDARD
END:VTIMEZONE
BEGIN:VEVENT
DTSTART;TZID=America/Denver:20251112T080000
DTEND;TZID=America/Denver:20251112T210000
DTSTAMP:20260424T173821
CREATED:20251007T221804Z
LAST-MODIFIED:20251114T013206Z
UID:4475-1762934400-1762981200@torringtonlivestock.com
SUMMARY:Wednesday\, November 12th\, 2025 - Feeder/Calf Special
DESCRIPTION:TORRINGTON LIVESTOCK MARKETS \nWednesday\, November 12th\, 2025\nFeeder & Calf Special\nStarting at 8:00am\nFeeders \nReed Dayton   65 Mostly Blk Strs & Hfrs\, 750-900#\, Branding Shots: Vira Sield 6\, 8-way\, Poured w/Ivermectin\, Coming off grass\, Producer All Natural\, Running at 6500’ \nMalone Hemmert   65 Mostly Blk Strs & Hfrs\, 700-900#\, PTO @ barn\, Branding Shots: Cattle Master 4\, 7-way\, Pinkeye\, No Implants\, Steers are Knife Cut\, Producer All Natural\, Running at 6500-7000# \nBox X Ranch   54 Mx Strs & Hfrs\, 750-900#\, Complete Vac. Program\, Coming off grass \nMark Miller   54 Mx Strs & Hfrs\, 650#\, Complete Vac. Program\, Coming off grass \nBates Creek Cattle Co.   40 Blk/Bwf Strs\, 1000#\, Complete Vac. Program\, Coming  off grass\, No Antibiotics\, No Implants\, Verified by IMI Global: SAV\, NHTC\, VBN\, VGrassFed \n****32 Blk Hfrs\, 800-900#\, PTO @ barn or Aborted\, Complete Vac. Program\, Coming off grass\, Home Raised \nWoodford Ranch   25 Mx Hfrs\, 625-950#\, Guaranteed Open\, Complete Vac. Program\, Coming off grass \nPaul & Nancy Landeck   23 Herf/Few Bwf Hfrs\, 850-950#\, Ran Open\, Complete Vac. Program\, Coming off grass\, Home Raised \nShon Massey   19 Blk Hfrs\, 825-900#\, PTO @ barn or Aborted\, Complete Vac. Program\, Coming off grass \nLittle Creek Cattle   16 Mx Hfrs\, 800-875#\, Complete Vac. Program\, Coming off grass \nAaron Willson   10 Blk Strs\, 875#\, Complete Vac. Program\, Coming off grass \nFish Creek Ranch   8 Blk Hfrs\, 800#\, PTO @ barn or Aborted\, Complete Vac. Program\, Coming off grass \nDonnie Kroese   4 Blk Strs\, 900-950#\, Complete Vac. Program\, No Implants\, No Antibiotics\, Coming off grass \n  \nWeaned Calves \nBates Creek Cattle Co.   510 Blk/Bwf Strs\, 525-575# (approx. 50% Bwf)\, Weaned 45 days\, Running  out on Hay Meadows\, Branding Shots: Bovi-Sheild One Shot\, Vision 7\, Pre-cond. Shots: Bovi-Shield One Shot\, Weaning Shots: Inforce 3\, Vision 7\, All Natural (No Antibiotics\, No Implants)\, Verified by IMI Global: SAV\, NHTC\, VBN\, VGrassFed\, (approx. 445 all natural) \n****270 Blk/Bwf Hfrs\, 500-550# (235 hd of F-1 Cross)\, Weaned 45 days\, Running  out on Hay Meadows\, Branding Shots: Bovi-Sheild One Shot\, Vision 7\, Pre-cond. Shots: Bovi-Shield One Shot\, Weaning Shots: Inforce 3\, Vision 7\, All Natural (No Antibiotics\, No Implants)\, Verified by IMI Global: SAV\, NHTC\, VBN\, VGrassFed\, (approx. 225 all natural) \nAll Calves Sired by Blk Angus Bulls: Ellingson\, GDAR\, TAlington\, 21 ANLGus\, Cattle Mt.; Hereford Bulls: Ochsner-Roth\, Ward\, Largent\, Berry \n(Note: All the NOT All Natural will be sorted off and sold Separate) \nMark & Connie Kersting   200 Blk Strs & Hfrs\, 550-600#\, Weaned 60 days\, Running out on grass\, Branding Shots: Vision 7\, One Shot BVD\, Enforce 3\, Pre-cond. Shots: Vision 7 Somnus/Spur\, Titanium 5/Nuplura\, Poured w/Ivermax\, Steers are Banded\, Producer All Natural \nGary “Buzz” & Carol Oliver   138 Blk Strs & Hfrs\, 650-750#\, Weaned 45 days\, Bunk Broke\, Been on Hay & Silage\, Branding Shots:  Vision 7 w/Somnus\, Nasalgen\, Multimin\, Pre-cond. Shots (Sept. 28): Vision 7 w/Somnus\, Nasalgen\, Poured\, Producer All Natural \nBill Reffalt   130 Blk Strs & Hfrs\, 650-750#\, Weaned 45 days\, Bunk broke\, Been on Hay/Silage\, Branding Shots: Vision 7 w/Somnus\, Nasalgen\, Multimin\, Pre-cond. Shots (Sept. 28): Vision 7 w/Somnus\, Nasalgen\, Poured\, Producer All Natural \nJustin & Allison Briggs   70 Blk/Bwf Strs\, 450-550#\, Weaned since Aug. 15\, Bunk Broke\, Been on a Grower Ration (Ground Hay/Silage)\, Shots at Birth: Vision 7\, Multimin 90\, Branding Shots: Bovi-Shield Gold 5\, Vision 7 w/Somnus\, Multimin 90\, Pre-cond. Shots: Bovi-Shield Gold One Shot\, Vision 7 w/Somnus\, Multimin 90 \nRyan Swartzell   60 Mostly Blk Strs & Hfrs\, 450-525#\, Weaned 45 days\, Grass Hay Fed\, 2 Rounds of Shots: 7-way & Vista Once\, Wormed & Ivermectin Pour On \nPaul Harker   50 Blk / Piedmontese x Strs & Hfrs\, 550#\, Weaned 40 days\, Bunk Broke\, Been on a Light Grower Ration\, Branding & Weaning Shots: 8way\, Bovi Shiels Gold One Shot\, Ivomec Injectable at weaning\, No Implants\, Producer All Natural \nWoodbury Livestock   48 Mx Strs & Hfrs\, 490-500#\, Weaned 35 days\, Bunk Broke\, Been on Silage\, Complete Vacc Program\, Producer all Natural\, Knife Cut \nJhett Johnson   45 Red Strs & Hfrs\, 450-500#\, Complete Vac\, Weaned 60 Days\, Been on Silage\, Producer All Natural \nUniversity of Wyoming   45 Blk/Bwf/Rd/Rwf/Hereford Strs & Hfrs\, Weaned since Sept. 22\, Running out on Meadows supplemented with Lick Tubs\, Branding and Pre-cond. Shots: Bovi-Shield Gold 5\, Ultra Choice 7\, Feb-May Born Calves \nWade Payne   37 Mx Strs & Hfrs\, 550-600#\, Weaned 2 weeks\, Hay Fed\, Branding Shots: 8-way\, Pre-cond. Shots: Pneumonia\, EID Tagged \nDan Wedemeyer Ranch   35 Angus/Piedmontese -x Strs & Hfrs\, 565-585#\, Weaned 28 days\, Been on Native Grass Hay and Creep Feed\, Bunk Broke\, Branding Shots: Ultra Choice 7\, Inforce 3\, One Shot\, Weaning Shots: Ultra Choice 7\, Inforce 3\, One Shot\, No Implants\, High Altitude\, Home Raised\, Calves Bortn: April 15 thru June 3\, Producer All Natural \nFrontier Land   28 Blk/Bwf few Rd Strs & Hfrs\, 475-535#\, Weaned 45 days\, Bunk Broke\, Light Grower Ration\, 3 Rounds of Modified Live Vac. Program\, Poured\, No Implants\, Steers are Knife Cut\, Slick Calves \nMike & Valorie Heatherly   18 Blk/Char Strs & Hfrs\, 375-600#\, Weaned 45 days\, Bunk Broke\, Running out on Grass Meadows supplemented with Hay with Creep Feed\, Branding Shots: Ultra Choice 7\, Pyramid 5\, Pre-cond. Shots: Ultra Choice 7\, Pyramid 5 + Presponse SQ\, Weaning Shots: Presponse SQ \nIsaac Pulley   14 Blk  Strs & Hfrs\, 500#\, Weaned for 45 days\, Been on a Light Grower Ration\, Bunk Broke\, Branding & Weaning Shots: 8-way\, Bovi Shield Gold one shot\, Ivomec Injectable at weaning\, No Implants\, Producers All Natural \nMichelle Goertz   14 Blk Angus Strs & Hfrs\, 515-525#\, Weaned 5 days\, Grass/Wheat Hay Fed \nCraig Martin   10 Simmental/SimAngus Strs & Hfrs\, 600-700#\, Weaned 40 days\, Grass Hay Fed\, Shots at Birth: Alpha 7\, Multimin\, Branding Shots: Pyramid 5+Presponse\, Vision 7\, Poured\, Weaning Shots: Pyramid 5+Prespnse\, Vision 7 w/Somnus\, Poured w/Promectin\, Hotwire Brokke\, Complete ADM Mineral\, No Implnats\, Steers are Knife Cut\, (Note: All have ASA Numbers and can be Registered\, additional $100.00 for transfers upon request) \nWill Jurek   10 Blk Strs & Hfrs\, 375-500#\, Weaned for 45 days\, Bunk Broke\, Barley Hay\, Peas & 3 # of Corn\, Branding and Pre-cond. Shots: Vira Shield 6\, Covaxinate\, No Implants \nBetty Baker   9 Blk Angus Strs\, 450-610#\, Weaned 18 days\, Been on Corn and Oats with Crested Wheat Grass\, Branding shots: 7-way\, Weaning Shots: Ultra 7\, Bovi-Shield Gold 5\, Bunk Broke\, Producer All Natural \nRalph Baker   8 Blk Angus Strs\, 480-620#\, Weaned 18 days\, Been on Corn/Oats and Crested Wheat Grass\, Branding shots: 7-way\, Weaning Shots: Ultra 7\, Bovi-Shield Gold 5\, Bunk Broke\, Producer All Natural \n  \nPre-cond. Calves \nSnowden Cattle   290 Blk/Bwf/Red/Rwf Strs & Hfrs\, 400-600#\, Branding & Precond Shots: BoviShield Gold One Shot\, Ultrabac 8\, Implants at Branding\, Wormed at Precond\, Complete Mineral Program & Native Grass\, April-May Calves\, Sired by Leachman Genetics\, High Elevation\, 9000 ft \nT-A Land & Cattle/Tracy & Amy Terrell   250 Blk/Bwf/Rd/Rwf Strs & Hfrs\, 300-450#\, Branding Shots\, Pre-cond Shots (Oct. 14): Ultrabac 7\, Pyramid 5\, No Implants\, Been on a Complete Mineral Program and Native grass\, April/May Calves\, Sired by Diamond Peak Angus & Deberard Herefords\, Nice set of Calves: go anywhere or fit anyone’s program \nTroy & Judy Neiberger   239 Blk Angus Strs & Hfrs\, 450-500#\, Branding Shots\, Pre-cond. Shots (Nov. 1): Bovi-Shield Gold One Shot\, Ultra Choice 7\, Poured w/Clean-up \nRobbers Roost   150 Mostly Blk Strs\, 375-475#\, Branding Shots: 8-way\, Polybac\, Pyramid 5\, Pre-cond. Shots: 8-way\, Vira Shield 6\, Poly Bac\, Running at 6500’\, Home Raised \nOak Leaf Ranch    135 Mostly Blk Strs & Hfrs\, 525-625#\, Branding Shots: Vision 7\, Injectable Dectomax\, Pre-cond. Shots: Nasalgen 3 PMH\, Steers are Knife Cut\, Producer All Natural \nOtto Ranch   110 Blk \, few Bwf Strs & Hfrs\, 450-600#\, Branding & Pre-cond Shots: Vista Once SQ\, 7 way \nFlying Z Enterprises   96 Blk/Bwf few Rd/Rwf (10) Strs & Hfrs\, 480-530#\, Branding Shots: Ultrabac 7\, Inforce 3\, Bovi-Shield Gold\, Multimin 90\, Poured w/Ivomec\, Pre-cond. Shots (Oct. 5): Ultrabac 7\, Bovi-Shield Gold One Shot\, AI’D Sired by Top Performance Angus & SimAngus Bulls\, High Altitude(\, Laramie Plains) \nBrock & Bridget Beavers   79 Blk/Bwf Strs\, 500-600#\, Shots at Birth: Vision 7/Spur\, Branding Shots: Vision 7 w/Spur\, Nasalgen 3 PMH\, Pre-cond. Shots (Oct. 11): Vista Once SQ\,  No Implants\, April/May Calves\, Been on a Free Choice Salt & Mineral Program \nClausen Ranch   70 Blk Strs & Hfrs\, 475-550#\, Branding and Pre-cond. Shots: Pyramid 5+Presponse SQ\, Vision 7 w/Spur\, Poured\, No Implants\, Steers are Knife Cut \nJake Owens   25 Mx Strs\, 625#\, Branding Shots: Bovi-Shield Gold One Shot\, 7-way\, Pre-cond. Shots; Inforce 3\, 7-way\, Bovi-Shield Gold\, Poured\, Knife Cut \nWoodcock Realty Holdings   20 Blk/Bwf (1 Hereford) Strs & Hfrs\, 400-600#\, Branding and Pre-cond. Shots: Vista Once SQ\, 8-way w/Spur\, Multimin\, High Elevation \nHoward & Margret Funk   20 Blk/Bwf Strs & Hfrs\, 500-585#\, Branding and Pre-cond. Shots: Vista Once SQ\, 8-way w/Spur\, Multimin\, High Elevation \nCarolyn Johnson   14 Red Angus Strs\, 480-590#\, Been on a Pre Vac Program\, No Implants\, Producer All Natural \nFred & Betty Benson   12 Bwf Strs & Hfrs\, 500#\, Branding and Pre-cond. Shots: Vista Once SQ\, 8-way w/Spur\, Multimin\, High Elevation \n  \nCalves \nSpearhead Ranch/David Moore   170 Blk/Rd Angus Hfrs\, 400-420#\, Branding Shots: Vision 7 Somnus w/Spur\, Vista Once SQ\, No Implants\, Slick/unbranded\, May Calves\, Steers are Knife Cut \nMaryevelyn Krejci   155 Mostly Hereford few Blk/Bwf Strs & Hfrs\, 300-550#\, Branding Shots: Vision 7\, Poured\, No Implants\, Steers are Knife Cut \nMike Keener/JoAnne Jordon   111 Blk Strs & Hfrs\, 500-570#\, Shots at Birh: 7-way\, Branding Shots: 7-way\, Vira Shield 6\, Sired by Ochsner-Roth Bulls \nLazy HX LLC/Hank Davis   89 Mx Charolais-x Strs & Hfrs\, 525-575#\, Branding Shots: Pyramid 5\, 8-way\, Strs are Knife Cut \nAdene Kusma (Riley) 67 Mx Strs & Hfrs\, 400-500#\, Branding Shots: Ultra 7\, Vira Shield 6\, Ivermec Pour on\, Producers All Natural\, Home Raised \nLone I Ranch   64 Red Angus Strs\, 500-550#\, Branding Shots: Bar Vac & w/Somnus\, Nasalgen\, Producer All Natural\, Home Raised\, Knife Cut \nFlying Diamond Ranch   60 Blk Strs & Hfrs\, 490#\, Branding Shots: Bovi-Shield Gold 5\, 7-way/Blackleg\, Ivermectin Dewormer\, Sired by Diamond Peak and Reyes Bulls\, High Elevation \nPeter Anderson   55 Strs/ Hfrs\, 600#\, Branding Shots: 7-way\, No implants \nMcNees Livestock   50 Blk/Bwf/Red/Rwf Strs\, 500#\, Branding Shots: Vista 7\, No Implants\, Knife Cut\, High Altitude \nMorris Hochstedler   30 Blk Strs\, 575-600#\, Shots at Birth: CDT\, Multimin\, Branding Shots: Bar Vac CDT\, Pyramid 5+Presponse\, No Implants \nJames McCormick   11 Blk Strs & Hfrs\, 450-600#\, Branding Shots: Vision 7-way\, Producer All Natural \nLyle & Tori Vannest   4 Mx Strs & Hfr\, 450#\, Branding Shots:  Cattle Master Gold\, 8-way\, Steers are Knife Cut \n  \n  \nMANY MORE CONSIGNMENTS BY SALE DAY \nCheck out www.torringtonlivestock.com for more consignments and to view sales and bid online!!! \nFOR MORE INFORMATION CALL 307-532-3333
URL:https://torringtonlivestock.com/event/wednesday-november-12th-2025-feeder-calf-special/
END:VEVENT
END:VCALENDAR