BEGIN:VCALENDAR
VERSION:2.0
PRODID:-//Torrington Livestock Market - ECPv6.15.20//NONSGML v1.0//EN
CALSCALE:GREGORIAN
METHOD:PUBLISH
X-WR-CALNAME:Torrington Livestock Market
X-ORIGINAL-URL:https://torringtonlivestock.com
X-WR-CALDESC:Events for Torrington Livestock Market
REFRESH-INTERVAL;VALUE=DURATION:PT1H
X-Robots-Tag:noindex
X-PUBLISHED-TTL:PT1H
BEGIN:VTIMEZONE
TZID:America/Denver
BEGIN:DAYLIGHT
TZOFFSETFROM:-0700
TZOFFSETTO:-0600
TZNAME:MDT
DTSTART:20240310T090000
END:DAYLIGHT
BEGIN:STANDARD
TZOFFSETFROM:-0600
TZOFFSETTO:-0700
TZNAME:MST
DTSTART:20241103T080000
END:STANDARD
BEGIN:DAYLIGHT
TZOFFSETFROM:-0700
TZOFFSETTO:-0600
TZNAME:MDT
DTSTART:20250309T090000
END:DAYLIGHT
BEGIN:STANDARD
TZOFFSETFROM:-0600
TZOFFSETTO:-0700
TZNAME:MST
DTSTART:20251102T080000
END:STANDARD
BEGIN:DAYLIGHT
TZOFFSETFROM:-0700
TZOFFSETTO:-0600
TZNAME:MDT
DTSTART:20260308T090000
END:DAYLIGHT
BEGIN:STANDARD
TZOFFSETFROM:-0600
TZOFFSETTO:-0700
TZNAME:MST
DTSTART:20261101T080000
END:STANDARD
END:VTIMEZONE
BEGIN:VEVENT
DTSTART;TZID=America/Denver:20251114T080000
DTEND;TZID=America/Denver:20251114T200000
DTSTAMP:20260424T173640
CREATED:20251007T221843Z
LAST-MODIFIED:20251130T192436Z
UID:4477-1763107200-1763150400@torringtonlivestock.com
SUMMARY:Friday\, November 14th\, 2025 - All Classes
DESCRIPTION:TORRINGTON LIVESTOCK MARKETS \nFriday\, November 14th\, 2025\n All Classes\nStarting at 8:00 am MDT with Weigh-ups\nBred Cows/Heifers \nJohn Cory Vetere   30 Mx Cows\, Mx Ages\, Bred to Thomas Angus\, Lazy 3X: High Altitude Angus Bulls\, CF: Mx \n**** 20 Hfrs\, Bred to: Thomas Angus\, Lazy 3X High Altitude Angus Bulls\, CF: Mx \nCory J Vetere   24 Mx Cows\, Mx Ages\, Bred to Thomas Angus\, Lazy 3X : High Altitude Angus Bulls\, CF: Mx \nCourtney Lowham   3 Mx Cows\, Mx Ages\, Bred to Blk SimAngus Bulls\, CF: April \n****1 Mx Hfr\, Bred to Low Birth Weight Blk Angus Bull (son of SMC Elevate)\, CF: June \nKyle Lowham   3 Mx Cows\, Mx Ages\, Bred Blk SimAngus Bulls\, CF: June \nTodd Christensen   2 Irish Blk Hfrs\, Bred to Irish Blk VDW 2B\, CF: May 10\, Shots: Ultrabac 8\, Bovi-Shield Gold FP5-VL5 \nCody Snider   1 Mx Hfr\, Bred to Blk Bull\, CF: Mx\, Coming with 2nd Calf\, Poured\, Shots:  Bovi-Shield Gold \n  \nPairs \nRed Rock Ranch   1 Cow Pair\, Running Age\, September Calf at Side \nStephanie Orwick   1 Cow Pair\, Mx Age \n  \nFeeders \nClint Proffit   43 Mostly Blk Strs & Hfrs\, 400-500# \nNorth Slope Ranch   29 Strs & Hfrs\, 400-500# \nLyle Johnson  27 Strs & Hfrs\, 400-500# \nYR Ranch   8 Mx Strs & Hfrs\, 300-400# \nBo Bilek   5 Purebred Angus Hfrs\, 800-900#\, Complete Vac. Program\, Coming off grass \nCameron Page   1 Hfr Clv\, 400# \n  \nWeighups \nJack Creek Land & Cattle   120 Mx Cows \nP H Livestock   119 Mx Cows \nMule Track Corp.   118 Mx Cows/Hfretts \nRhys Partnership   113 Blk/Rd Hfretts \nBar Cross Ranch   101 Mx Hfretts \nBootjack Ranch   94 Mx Cows/Hfretts \nRed Rock Ranch   83 Mx Hfretts/Cows/Bulls \nHarris Ranch   74 Mx Cows/Hfretts \nWagonhound Ranch   37 Red Angus Hfretts\, 2’s coming 3’s \n****25 Red Angus Hfretts\, 3’s coming 4’s \n(Note: PTO @ ranch\, Been on a Modified Live Vac. Program\, High Elevation\, Home Raised\, Calves have been off for 45 days) \nEddie Wardell   59 Mx Cows/Hfretts/Bulls \nMcConkie Ranch   45 Mx Cows/Hfretts\, Home Raised\, Dry Since Oct. 10\, Allenburg Genetics\, Producer All Natural \nDilts Ranch   38 Mx Hfretts \n****6 Mx Cows/Bull \nBath Bros.   42 Mx Cows \nRJS   40 Mx Cows \nShepard Farms   40 Mx Cows \nJP Werner & Sons   40 Mx Cows\, Open/Exposed (Breds have Rib/Hip Marks\, CF: April 1 for 60 days) \nDouble S Ranch   40 Mx Cows \nJoe Bright   32 Mx Cows \nMowry Ranch   32 Mx Cows \nMaxfield Ranch   32 Mx Cows/Bulls \nYR Ranch   30 Mx Cows \n****1 Bull \nFlying Diamond Ranch   24 Mx Cows/Bull \nMatheson Ranch LLC   23 Mx Cows/Bulls \nFlying Diamond Ranch   20 Mx Cows \nTRH Ranch/Tom Hamilton   20 Mx Cows \nW W Cattle/Brian Wing   20 Mx Cows \nKyle Lowham   12 Mx Cows \n***7 Mx Hfretts \nDennis Brooks   18 Mx Cows \nCameron Page   10 Mx Cows \nMaryevelyn Krejci   9 Mx Cows \nCourtney Lowham   8 Mx Cows \nTyler Page   7 Mx Cows \n****1 Bull \nJack Nielsen   6 Mx Cows \nJordan Page   6 Mx Cows \nCory J Vetere   5 Mx Bulls \nCody Snider   3 Mx Cows \nJohn Cory Vetere   3 Mx Bulls \nFred & Clara Wilson   3 Blk Bulls \nRex & Paula Fritzler  1 Blk Angus Bull\, 6 ½ yr old\, Son of Hickok\, Been on a Safeguard Worming Program\, Poured w/Ultra-boss\, Electric Fence Broke \n****1 Blk Angus Bull\, 2 yr old\, Grandson of Hickok and S A V Rainfall\, Been on a Safeguard Worming Program\, Poured w/Ultra-boss\, Electric Fence Broke \nChase Lowham   2 Mx Cows \nWedemeyer Ranch   1 Cow \nSkyler Page   1 Cow \nStephanie Orwick   1 Cow \n  \n MANY MORE CONSIGNMENTS BY SALE DAY \nCheck out www.torringtonlivestock.com for more consignments and to view sales and bid online!!! \nFOR MORE INFORMATION CALL 307-532-3333
URL:https://torringtonlivestock.com/event/friday-november-14th-2025-all-classes/
END:VEVENT
END:VCALENDAR