BEGIN:VCALENDAR
VERSION:2.0
PRODID:-//Torrington Livestock Market - ECPv6.15.20//NONSGML v1.0//EN
CALSCALE:GREGORIAN
METHOD:PUBLISH
X-WR-CALNAME:Torrington Livestock Market
X-ORIGINAL-URL:https://torringtonlivestock.com
X-WR-CALDESC:Events for Torrington Livestock Market
REFRESH-INTERVAL;VALUE=DURATION:PT1H
X-Robots-Tag:noindex
X-PUBLISHED-TTL:PT1H
BEGIN:VTIMEZONE
TZID:America/Denver
BEGIN:DAYLIGHT
TZOFFSETFROM:-0700
TZOFFSETTO:-0600
TZNAME:MDT
DTSTART:20240310T090000
END:DAYLIGHT
BEGIN:STANDARD
TZOFFSETFROM:-0600
TZOFFSETTO:-0700
TZNAME:MST
DTSTART:20241103T080000
END:STANDARD
BEGIN:DAYLIGHT
TZOFFSETFROM:-0700
TZOFFSETTO:-0600
TZNAME:MDT
DTSTART:20250309T090000
END:DAYLIGHT
BEGIN:STANDARD
TZOFFSETFROM:-0600
TZOFFSETTO:-0700
TZNAME:MST
DTSTART:20251102T080000
END:STANDARD
BEGIN:DAYLIGHT
TZOFFSETFROM:-0700
TZOFFSETTO:-0600
TZNAME:MDT
DTSTART:20260308T090000
END:DAYLIGHT
BEGIN:STANDARD
TZOFFSETFROM:-0600
TZOFFSETTO:-0700
TZNAME:MST
DTSTART:20261101T080000
END:STANDARD
END:VTIMEZONE
BEGIN:VEVENT
DTSTART;TZID=America/Denver:20251117T080000
DTEND;TZID=America/Denver:20251117T170000
DTSTAMP:20260424T173623
CREATED:20251007T222056Z
LAST-MODIFIED:20251130T192449Z
UID:4479-1763366400-1763398800@torringtonlivestock.com
SUMMARY:Monday\, November 17th\, 2025 - Bred Cow Special
DESCRIPTION:TORRINGTON LIVESTOCK MARKETS \nMonday\, November 17th\, 2025\nBred Cow Special\nStarting at 9:00 am MDT with Weigh-ups\nBreds will start at Noon with the Ochsner Roth Heifers\nVideo Lot will sell at approximately 2:00\nCattle Country Video \nLot 1129   TA Land & Cattle WY LLC (Tracy & Amy Terrell)   220 Blk\, few Bwf Bred Heifers. Base Wt: 875 lbs. Located: Medicine Bow\, WY. Origin: Purchased from WY. Delivery: 11/19/2025 to 11/21/2025. Bred to: Low Birth Wt Angus Bulls from Diamond Peak Cattle. CF: 3/15/2026 to 5/1/2026. Shots on 10/20/25: ViraShield 6+VL5\, Vision 7 & Ivermectin. Weigh: Mid morning gather and weigh straight. Comments: summered at 8000 ft. Originated from the Falls Ranch in Wyoming & Montana. These cattle are coming off of dry conditions. These should grow into 1300 to 1350 lb cows. Buyer has the option of 1 to 4 loads. Rep: Michael Schmitt 307-532-1776. \nwww.torringtonlivestock.com \n  \nComplete or Partial Dispersals \nMatt Livestock   90 Blk/Bwf Cows\, Complete Dispersal of Wyoming Ranch Young Cows\, Mostly 3-4 yr olds few older\, Bred to C Spear Blk Angus Bulls (high performing growth bulls)\, CF: March 16 for 56 days\, Pre-breeding Shots: Vira Shield 6+VL5\, Safeguard\, Poured with Clean-up this Fall\, Calves off these cows; sold at Torrington Livestock Avg. 450-550# \nFrontier Land   59 Blk/Bwf Cows\, Complete Dispersal of April Calving Cows\, Coming 3 – 4\, 4-5 yr olds\, Bred to Register Blk Angus Bulls\, CF: April 15 for 30 days\, Spring Shots: Pre-guard\, Fall Shots: 7-way\, Poured \n****16 Blk/Bwf Cows\, Coming 3-4\, 4-5 yr olds\, Bred to Register Blk Angus Bulls\, CF: March 15 for 30 days\, Spring Shots: Pre-guard\, Fall Shots: 7-way\, Poured \nJerry Wilkinson   48 Blk/Bwf Cows\, Complete Dispersal\, 2-6 yr olds\, Bred to: Blk Angus Bulls\, CF: May 1st for 60 days\, Shots: Vira Shield 6+VL5HB \n  \nBred Heifers \nOchsner-Roth Cattle Co.   185 Bwf Hfrs\, AI’d Bred to “B A R Dynamic “ Blk Angus Bull with Proven Calving Ease\, High Growth Performance and Excellent Weaning and Grid Indexes\, Ultra-sounded to CF: Feb. 8 \n****74 Bwf Hfrs\, Bred to Low Birth Weight Blk Angus Bulls\, Ultra-sounded to CF: Feb. 10th thru February 28 \n****49 Blk/Bwf Hfrs\, Bred to Low Birth Weight Blk Angus Bulls\, Ultra-sounded to CF: March 1st thru March 31st \nAll Heifers are on a Complete Vaccine Program with Two Rounds of Bovi-Gold 5\, One Shot Pasteurella\, Multi-Min 90 and Ultrabac 7/Somnus when Weaned\, At Breeding they got Bovi-Gold FP+L5 HB \nJohn Raftopolous   110 Blk Hfrs\, 950-1100#\, AI’d to Baldrige Angus Working Class (Son of Blue Collar)\, Cleaned up with LBW\, Low PAP\, High Altitude Diamond Peak Bulls. CF: March 8 \n****55 Bwf Hfrs\, 950-1100#\, AI’d to Baldrige Angus Working Class (Son of Blue Collar)\, Cleaned up with LBW\, Low PAP\, High Altitude Diamond Peak Bulls. CF: March 8 \nHeifers have been on a Complete Vaccine Program: Two Rounds of Bovi-Gold 5\, One Shot Pasteurella\, Multi-Min 90 and Ultrabac 7/Somnus at Weaning\, At Breeding: Bovi-Gold FP+L5 HB\, All Diamond Peak High Elevation Genetics (run at 6500-9000’)\, Purchase as heifers calves from Bull Customers \nSewell Ranching LLC   125 Blk Hfrs\, 975#\, AI’d Bred to Nelson Ridgeline 3123\, CF: March 1\,  Pre-breeding Shots: Preg Guard 10 FP\, Shots on Oct. 29 when Preg Check: Vira Shield 6 VL5\, Injectable Wormer\, Poured w/Clean-up\, Ran in Big\, Dry Country  this summer at 6500-8000’\, Purchased off two Wyoming Ranches as calves\, Been exposed to Electric Fence\, ATVs\, Horses and Dogs\, Cake Broke \nSidwell Herefords   70 Extra Fancy Blk Angus Hfrs\, 1050-1125#\, AI’D to Ruggles Charisman (son of Connealy Confidence) a calving ease bull with power and phenotype packed performance and maternal Merit. CF: Feb. 6-7\, Pre-breeding Shots: Vira Shield 6+VL5 HB\, Vision 8-way\, Ultra-sounded on Sept. 8th and Received Vira Shield 6+VL5 HB\, Back Poured w/Cylence\, Heifers are from Haas\, Booth and Krebs Genetics that originated from Steve Facka \n****29 Extra Fancy Blk Hfrs\, 1050-1125#\, Bred Sidwell Hereford Bulls; sons of BR Rip Wheeler and BR S Quentin\, CF: March 3 for 45 days\, Pre-breeding Shots: Vira Shield 6+VL5 HB\, Vision 8-way\, Ultra-sounded on Sept. 8th and Received Vira Shield 6+VL5 HB\, Back Poured w/Cylence\, Heifers are from Haas\, Booth and Krebs Genetics that originated from Steve Facka \n7X Cattle   55 Blk Hfrs\, 1100-1150#\, AI’d Bred to Sitz Polaris\, CF: Feb. 26 \nAll Received the following Shots: Nov. 7\, 2024: Bovi-Shield Gold One Shot\, Ultrabac 7/Somubac\, Poured\,  April 15\, 2025: Vira Shield 6+VL5\, Ultrabac 8\, Cattle Master Gold FP5\, Poured\, Sept. 24\, 2025: Vision 8\, Vira Shield 6+VL5\, Poured\, All off one ranch\, Running at 6500’ Elevation \nRafter Star Ranch   39 Red Angus Hfrs\, 1000#\, AI’D  Bred to SimAngus Bull “Lucky Charm” or “Black Hawk” SimAngus Bull (Rapid Growth Calving Ease Bulls)\, Clean-up Bulls: Hook Beacon\, Roosevelt SimAngus\, CF: April 15\, Shots: Staybred\, Bovi-Shield Gold\, Vision 7 w/Somnus\, SafeGuard Wormer\, Poured \n****8 Hereford Hfrs\, 950-1000#\, AI’D  Bred to SimAngus Bull “Lucky Charm” or “Black Hawk” SimAngus Bull (Rapid Growth Calving Ease Bulls)\, Clean-up Bulls: Hook Beacon\, Roosevelt SimAngus\, CF: April 15\, Shots: Staybred\, Bovi-Shield Gold\, Vision 7 w/Somnus\, SafeGuard Wormer\, Poured \nBrian & Tracianne Zerbe   36 Blk Hfrs\, Bred to Low Birth Weight ZumBrunnen Blk Angus Bulls\, CF: March 15 for 45 days\, Shots:  Bovi-Shield Gold\, Vision 7\, Pasteurella\, Safeguard Wormer\, Running out on Native Grass\, Nice set of Heifers\, Easy to handle\, Home Raised \nCameron Page   28 Blk Hfrs\, AI’d to Sitz Royalty 1299\, Cleanup w/Sitz & Riverbend Hfr Blk Angus Bulls for 45 days\, AI’d to CF: March 1st\, Spring & Fall Shots: Bovi-Shield Gold+V5\, Vision 8 \nLuke & Jess Wiedman   25 Bwf Hfrs\, Bred to Ochsner-Roth Bulls (with proven calving ease\, high growth performance)\, CF: April 1 for 60 days\, Pre-breeding Shots\, Wormed\, Bangs Vac.\, Been on a Full Mineral Program \nTravnicek Ranch   21 Blk Hfrs\, Bred to Jorgenson’s Low Birth Weight Blk Angus Bulls\, CF: May 9 for 30 days\, Poured on Sept. 3\, Wormed\, But No Shots \nJohn Cory Vetere   20 Hfrs\, Bred to: Thomas Angus\, Lazy 3X High Altitude Angus Bulls\, CF: Mx \nHardgrass Inc.   10 Blk Hfrs\, Bred to Blk Bulls\, CF: March 20 thru May 20\, Been on a PreGuard 10 Vac. Program\, 7-way \nZumBrunnen Angus   6 Blk Angus Hfrs\, 1100#\, AI’d for Jan 29\, Clean-up Bred to ZumBrunnen Angus Herd Bulls\, CF: March 1 \nRex & Paula Fritzler   2 Blk Angus Hfrs\, 700#\,Bred to Grandson of SAV Rainfall 6846\, CF: April 30\, Been on a Safe Guard Wormer Program \n  \nBred Cows \n88 Ranch Land & Livestock   26 Blk Cows\, 2-3 yr olds\, Bred to Blk Angus Bulls\, CF: March 25th for 60 days\, Shots: Vira Shield 6+VL5\, Vit. A&D\, Dectomax Injectable\, Poured w/Cleanup\, Lisco & Coleman Genetics \n****70 Blk Cows\, 9-10 yr olds\, Bred to Blk Angus Bulls\, CF: March 25th for 60 days\, Shots: Vira Shield 6+VL5\, Vit. A&D\, Dectomax Injectable\, Poured w/Cleanup\, Lisco & Coleman Genetics \nNotch Peak Ranch   92 Blk/Bwf few Red Cows\, 7-10 yr olds\, Bred to Red Angus Bulls\, CF: March 15 for 45 days\, Shots: Vibro-Lepto this fall\, High Elevation Home Raised Cows \nThree B Farms LLC   80 Blk few Bwf Cows\, SM to ST\, Bred to Booth Cherry Creek Blk Angus Bulls\, CF: March 1 for 55 days\, Pre-breeding Shots this Spring\, Poured this Fall\, All Raised a Calf\, Steers weaned off this year at 595# on Nov. 1\, Age Dispersion is only reason they are being sold \nFlying A Ranch   50 Blk Cows\, ST\, Bred to Ochsner-Roth Blk Angus Bulls\, CF: March/April\, Poured \nAdam Warner   40 Blk Cows\, Coming 3 yr olds w/ 2nd Calf\, Bred to MR Angus/Reyes Bulls\, CF: March 10 for 55 days (ultra-sound on 10/18)\, Shots on Oct. 18: Vira Shield 6+VL5\, Poured\, Modified Live Vac. Program as calves\, Originated from Buckhaults Cow Co. 1-iron (not rebranded)\, Fancy set of young cows\, everyone raised a calf \n****8 Blk Cows\, Coming 3 yr olds w/ 2nd Calf\, Bred to MR Angus/Reyes Bulls\, CF: May 5 for 30 days (ultra-sound on 10/18)\, Shots on Oct. 18: Vira Shield 6+VL5\, Poured\, Modified Live Vac. Program as calves\, Originated from Buckhaults Cow Co. 1-iron (not rebranded)\, Fancy set of young cows\, everyone raised a calf \n7X Cattle   46 Blk Cows\, 3-6 yr olds\, bred to Split Diamond Blk Angus Bulls out of Dillon\, MT\, CF: March\, Shots: April 15\, 2025: Vira Shield 6+VL5\, Ultrabac 8\, Cattle Master Gold FP5\, Poured\, Oct. 16\, 2025: Vision 8\, Vira Shield 6+VL5\, Poured\, Ran at 5500’ Elevation \nMike Lohse   45 Blk Cows\, ST\, Bred to Blk Bull\, CF: April 10 for 50 days\, Shots: VL5HP\, Poured w/Ivomec \nMowry Ranch   43 Sim/Angus Cows\, Mx Ages\, Bred to Blk Sim/Angus Bulls\, CF: Feb-June \nDouble 7 Cattle LLC/Ben Thoman   40 Blk Cows\, 1200-1300#\, Mx Ages\, Bred to Blk Angus Bulls: Rousey Gold Strike\, Traveler\, & Conneally Comrade\, CF: March/April\, Bangs Vac.\, Poured w/ Normiacine Ivermec \nMatheson Ranch Inc.   40 Blk Angus few Bwf/Rd/Rwf Cows\, Mx Ages\, Bred to Black Leachman Stabilizers Bulls and Blk T-Heart Angus Bulls\, CF: 9 head ultra-sounded to CF: April/May\, 16 head ultra-sounded to CF: May/June\, High Altitude\, Genetics\, Been on a Modified Live Vac. Program\, A Complete Mineral Program. Shots on 10/20: Cydectin Pour On\, 7-way Booster \nNorth Forgey Ranch   38 Mx Cows\, Mx Ages\, Bred to Blk Bulls from LaBonte Creek Angus\, CF: March 28 \nJack Skavdahl   35 Mx Cows\, SM-SS\, Bred to Minot/Simonsen or G-H Blk Angus Bulls\, CF: March 20 for 60 days\, Been on a Spring Modified Live Vac. Program\, Fall Shots: 7-way\, Poured w/Ivomec \nWayne Harmon   32 Mostly Blk (6 Reds)\, 1250-1300#\, SM-ST\, Bred to Loosly Red Angus Bulls\, CF: April/Early May\, Shots:  Vira Shield 6+Vl5 \nAugusta & Adam Cross   30 Red Angus Cows\, 3-4 yr olds\, Bred to Char Bull\, CF: March 1 for 75 days\, Shots: Alpha 7\, C& D\, Poured w/Cydectin \nJohn Cory Vetere   30 Mx Cows\, Mx Ages\, Bred to Thomas Angus\, Lazy 3X: High Altitude Angus Bulls\, CF: Mx \nDiamond 7 Ranch   11 Red/Blk Angus Cows\, 1300#\, 3 yr olds to SM\, Bred to Wagnor/Cardnial Char Bulls (sons of LT Govner/Ledger)\, CF: May/June\, Poured in the Spring/Fall\, No Shots \n****15 Red/Blk Cows\, 1300#\, ST\, Bred to Wagnor/Cardnial Char Bulls (sons of LT Govner/Ledger)\, CF: March/April\, Poured in the Spring/Fall\, No Shots \n                                            All Raised a Calf and Weaned at 610# avg \nHarris Ranch   25 Blk Cows\, ST\, Bred to Low PAP\, High Elevation Blk Bulls\, CF: May/June \nCory J Vetere   24 Mx Cows\, Mx Ages\, Bred to Thomas Angus\, Lazy 3X : High Altitude Angus Bulls\, CF: Mx \nTy Steben   14 Mx Cows\, Running Ages\, Bred to Doug Booth Black Angus Bulls\, CF: May/June \nZumBrunnen Angus   8 Blk Cows\, 1400#\, 3-4 yr olds\, Bred to ZumBrunnen Herd Bulls\, CF: March/April \n****12 Blk Cows\, SS\, Bred to ZumBrunnen Herd Bulls\, CF: March/April \nRoth Land & Cattle   11 Red Angus Cows\, Running Ages\, Bred to Registered Red Angus Bulls\, CF: March 27 for 60 days\, Been on a Complete Modified Live Vac.  Program\, Been on a Complete Mineral Program \nT A Ranch Operations   10 Red Cows\, Mx Ages\, Bred to Blk Bulls\, CF: May/June \nT Bench Land & Livestock   10 Blk Cows\, ST\, Bred to Blk Bulls\, CF: April/May\, Fall Shots: Vira Shield 6+VL5\, Spring Shots: Preg-Guard \nCameron Page   6 Blk Cows\, Mx Ages\, Bred to Sitz & Sevenson Registered Blk Angus Bulls\, CF: Feb. 17\, Spring & Fall Shots: Bovi-Shield Gold+VL5\, Vision 8 \nMarcus Anderson   9 Blk Cows\, 3’s coming 4 yr olds\, Bred to Hereford Bulls\, CF: March 1 \nVern Black   9 Mx Cows\, Mx Ages\, Bred to Blk or Red Bulls\, CF: Mx \nSmialek Ranch/Doug & Dareth Smialek   7 Blk/Bwf Angus Cows\, 1200#\, 3-5 yr olds\, Bred to Blk Bulls\, CF: March 15\, Shots: Vira Shield 6+VL5HB \nOchsner-Roth Cattle Co.   6 Blk Angus Cows\, 2-4 yr olds\, Bred to a Blk Angus Bull\, CF: Feb. 25th through April 15th\, Complete Vaccine Program with Guardian Scour Vac. And Bovi-Gold FP+L5 HB \nDennis Birdsall   6 Hereford few Bwf Cows\, Mx Ages\, Bred to Hereford Bulls\, CF: Feb/March\, Poured w/Clean-up \nBrian & Tracianne Zerbe   4 Blk Cows\, Mx Ages\, Bred to ZumBrunnen Blk Angus Bulls\, CF: March 15 for 60 days\, Shots: Bovi-Sheild Gold\, Vision 7\, Pasteurella\, Safeguard Wormer\, Home Raised. Ease to handle \nNorth Slope Ranch/Scott Lucas   3 Mx Cows\, Mx Ages\, Bred to Sim/Angus Bulls\, CF: Late April \nRex & Paula Fritzler   1 Blk Angus Cow\, 1500#\, Mx Age\, Bred to Son of Hickok\, CF: Mid-April\, Been on a Safe Guard Wormer Program \n  \n  \n\nPairs \nMiller Estate   2 Fall Cow Pairs\, Mx Ages \n  \nMANY MORE CONSIGNMENTS BY SALE DAY \nCheck out www.torringtonlivestock.com for more consignments and to view sales and bid online!!! \nFOR MORE INFORMATION CALL 307-532-3333
URL:https://torringtonlivestock.com/event/monday-november-17th-2025-bred-cow-special/
END:VEVENT
END:VCALENDAR