BEGIN:VCALENDAR
VERSION:2.0
PRODID:-//Torrington Livestock Market - ECPv6.15.20//NONSGML v1.0//EN
CALSCALE:GREGORIAN
METHOD:PUBLISH
X-WR-CALNAME:Torrington Livestock Market
X-ORIGINAL-URL:https://torringtonlivestock.com
X-WR-CALDESC:Events for Torrington Livestock Market
REFRESH-INTERVAL;VALUE=DURATION:PT1H
X-Robots-Tag:noindex
X-PUBLISHED-TTL:PT1H
BEGIN:VTIMEZONE
TZID:America/Denver
BEGIN:DAYLIGHT
TZOFFSETFROM:-0700
TZOFFSETTO:-0600
TZNAME:MDT
DTSTART:20240310T090000
END:DAYLIGHT
BEGIN:STANDARD
TZOFFSETFROM:-0600
TZOFFSETTO:-0700
TZNAME:MST
DTSTART:20241103T080000
END:STANDARD
BEGIN:DAYLIGHT
TZOFFSETFROM:-0700
TZOFFSETTO:-0600
TZNAME:MDT
DTSTART:20250309T090000
END:DAYLIGHT
BEGIN:STANDARD
TZOFFSETFROM:-0600
TZOFFSETTO:-0700
TZNAME:MST
DTSTART:20251102T080000
END:STANDARD
BEGIN:DAYLIGHT
TZOFFSETFROM:-0700
TZOFFSETTO:-0600
TZNAME:MDT
DTSTART:20260308T090000
END:DAYLIGHT
BEGIN:STANDARD
TZOFFSETFROM:-0600
TZOFFSETTO:-0700
TZNAME:MST
DTSTART:20261101T080000
END:STANDARD
END:VTIMEZONE
BEGIN:VEVENT
DTSTART;TZID=America/Denver:20251121T080000
DTEND;TZID=America/Denver:20251121T190000
DTSTAMP:20260424T173640
CREATED:20251007T222213Z
LAST-MODIFIED:20251130T192517Z
UID:4483-1763712000-1763751600@torringtonlivestock.com
SUMMARY:Friday\, November 21st\, 2025 - All Classes
DESCRIPTION:TORRINGTON LIVESTOCK MARKETS \nFriday\, November 21st 2025\n All Classes\nStarting at 8:00 am MDT with Weigh-ups\nBred Cows/Heifers \nJacob Massey/Robert Karren   22 Mx Cows\, Mx Ages\, Bred to Blk SimAngus Bulls\, CF: March 20th\, High Elevation \nJack Bedessem   19 Blk Cows\, SM-ST\, Bred to Jeff Ward Red\, White & Blue and Garett Nunn/Mill Iron G & Reyes Bulls\, CF: May/June\, Been on a Modified Live Vac. Program but No Fall Shots \nSherry Herbst   16 Mx Cows\, Mx Ages\, Bred to Bar x or McClun Bulls\, CF: Mx\, Full Vac Program\, Poured \nChris Donnelly   15 Blk Cows\, SM-ST\, Bred to Jeff Ward Red\, White & Blue and Garett Nunn/Mill Iron G & Reyes Bulls\, CF: May/June\, Been on a Modified Live Vac. Program but No Fall Shots \nWilliam Sturgeon   11 Blk Cows\, Mx Ages\, Bred to Blk Bulls\, CF: May/June\, Complete Vac. Program\, Been on a High Phos/High Copper Mineral Program \nRon Hawkins   10 Mx Cows\, Mx Ages\, Bred to Wagyu Bulls\, CF: May/June \nTroy Neiberger   4 Mx Cows\, Running Ages\, Bred to Blk Angus Bull\, CF: April to Mid-May \nHardy Ranch   1 Blk Cow\, Mx Age\, CF: Mx \nRunning PD Livestock   1 Cow\, Mx Age\, CF: Mx \n  \nFeeders \nSteve Wilson   17 Mx Hfrs\, 800#\, Complete Vac. Program\, Coming off grass \n****15 Mx Strs & Hfrs\, 500#\, Branding & Pre-cond. Shots: Pyramid 5+Presponse\, Vision 8 \nBruce Thayer   27 Mx Strs & Hfrs\, 575#\, Weaned since Sept. 13\, Branding & Pre-cond. Shots; Vision 7 Somnus w/Spur\, Vista Once SQ \nJack Creek Land & Livestock   26 Mx Strs & Hfrs\, 650-800#\, Complete Vac. Program\, Coming off grass \nRon Hawkins   10 Mx Strs & Hfrs\, 400# \nT Bar L Livestock   6 Blk Hfrs\, 800#\, Complete Vac. Program\, Coming off grass \nMike Wakkuri   3 Mx Strs & Hfrs\, 500-650#\, Shots at Birth: Ultra Choice 7\, Calf Guard\, Branding Shots: Ultra Choice 7\, One Shot BVD\, Inforce 3\, Sired by Ochsner-Roth Bulls\, NO Replacements Kept \nRichard Leavitt   3 Mx Hfrs\, 775#\, Complete Vac. Program\, Coming off grass \nPeter Anderson   2 Mx Strs\, 2 yr olds\, Coming off grass \nKruse Livestock Co.   1 Bwf Hfr\, 500#\, Complete Modified Live Vac. Program\, Home Raised \n****1 Corr. Str\, 800#\, Complete Vac. Program\, Coming off grass \n  \nWeighups \nHanson Livestock   121 Mx Cows/Hfretts \n****13 Mx Bulls \nJack Creek Land and Livestock   120 Mx Cows \nJohn & Lois Kay Kemp   120 Mx Cows/Hfretts \nGary & Mark Booth   110 Mx Cows/Hfretts \nIberlin Ranch   100 Mx Cows \nTheron & Wyatt Hageman   92 Blk/Bwf Hfretts \nTroy Neiberger   88 Mx Cows/Hfretts \nNorma Bruegger   56 Mx Cows \nNelson & Hodges   50 Mx Cows \nStoddard Family   47 Mx Cows \nBen Noland   46 Mx Cows \nSpringfield Ranch   40 Mx Cows \nMark & Phillip Rossi   39 Mx Cows \nShepard Farms   35 Mx Cows \nWilliam Sturgeon   30 Mx Cows/Hfretts \nDouble S Ranch   30 Mx Cows \nDean & Markia Anderson   29 Mx Cows \nSmith Sheep Co.   29 Mx Cows (3-5 yr olds) \nToby & Tana Campbell   25 Mx Cows \nTrue Ranches   22 Mx Bulls \nSteve Wilson   22 Mx Cows/Hfretts \nForshee Land & Livestock   20 Mx Cows \nAlveo Bazea   20 Mx Cows \nHarding Ranch   16 Mx Cows \nBruce Thayer   15 Mx Cows/Bulls \nTracy & Rebecca Vaughn   14 Blk Angus Cows/Bull \nVaughn LLC   12 Blk Angus Cows/Bull \nDunmire Ranch   12 Blk Bulls \nJames Robbins   11 Blk Cows \nBrian Petersen   10 Mx Cows \nJosh Uliberry   10 Mx Cows \nRob Briggs   10 Mx Cows/Bulls \nSchauer Cattle Co.   10 Mx Cows \nRichard Leavitt   9 Mx Cows/Bulls \nToombs/Dunlap   8 Mx Cows/Bull \nErich Deininger   8 Mx Cows/Bull \nRick Jones   6 Mx Cows/Bull \nRon Flakus   5 Mx Cows \n88 Ranch Land & Livestock   3 Mx Bulls/Cow \nNate Allsup   3 Blk/Bwf Cows \nDuane & Dottie Packard   3 Blk Cows \nPatricia Hardin   2 Blk Cows \nKruse Livestock Co.   2 Mx Cows \nCort Jensen   1 Bull \nRolling Hills Ranch   1 Blk Bull \nChad & Jamie Harkins   1 Blk Bull \nGene Daly   1 Bwf Bull \nMarcus Anderson   1 Bull \nPeter Anderson   1 Cow \nRon Hawkins   1 Wagyu Bull \n  \nHorses \nCathedral Home of Children   2 Horses \n  \n MANY MORE CONSIGNMENTS BY SALE DAY \nCheck out www.torringtonlivestock.com for more consignments and to view sales and bid online!!! \nFOR MORE INFORMATION CALL 307-532-3333
URL:https://torringtonlivestock.com/event/friday-november-21st-2025-all-classes/
END:VEVENT
END:VCALENDAR