BEGIN:VCALENDAR
VERSION:2.0
PRODID:-//Torrington Livestock Market - ECPv6.15.20//NONSGML v1.0//EN
CALSCALE:GREGORIAN
METHOD:PUBLISH
X-ORIGINAL-URL:https://torringtonlivestock.com
X-WR-CALDESC:Events for Torrington Livestock Market
REFRESH-INTERVAL;VALUE=DURATION:PT1H
X-Robots-Tag:noindex
X-PUBLISHED-TTL:PT1H
BEGIN:VTIMEZONE
TZID:America/Denver
BEGIN:DAYLIGHT
TZOFFSETFROM:-0700
TZOFFSETTO:-0600
TZNAME:MDT
DTSTART:20240310T090000
END:DAYLIGHT
BEGIN:STANDARD
TZOFFSETFROM:-0600
TZOFFSETTO:-0700
TZNAME:MST
DTSTART:20241103T080000
END:STANDARD
BEGIN:DAYLIGHT
TZOFFSETFROM:-0700
TZOFFSETTO:-0600
TZNAME:MDT
DTSTART:20250309T090000
END:DAYLIGHT
BEGIN:STANDARD
TZOFFSETFROM:-0600
TZOFFSETTO:-0700
TZNAME:MST
DTSTART:20251102T080000
END:STANDARD
BEGIN:DAYLIGHT
TZOFFSETFROM:-0700
TZOFFSETTO:-0600
TZNAME:MDT
DTSTART:20260308T090000
END:DAYLIGHT
BEGIN:STANDARD
TZOFFSETFROM:-0600
TZOFFSETTO:-0700
TZNAME:MST
DTSTART:20261101T080000
END:STANDARD
END:VTIMEZONE
BEGIN:VEVENT
DTSTART;TZID=America/Denver:20251124T093000
DTEND;TZID=America/Denver:20251124T180000
DTSTAMP:20260424T173821
CREATED:20251007T222530Z
LAST-MODIFIED:20251130T192529Z
UID:4485-1763976600-1764007200@torringtonlivestock.com
SUMMARY:Monday\, November 24th\, 2025 - All Classes & Bred Cow Special
DESCRIPTION:TORRINGTON LIVESTOCK MARKETS \nMonday\, November 24\, 2025\n All Classes & Bred Cow Special\nStarting at 9:30 am MDT with Weigh-ups; Bred Cows to Start at Noon\nBred Heifers \nCrow Valley Ranch— 66 Blk Hfrs\, AI bred to 3 low pap sires: “KCH Mt McKinley\, DB Mt Robson\, & DB Top of the Mtn” Blk Angus; moderate birth weight bulls with excellent heart health\, performance\, maternal\, and grid values. (+332 avg $C) Ultra-sounded to CF: March 3 – 10 \n****47 Blk Hfrs\, Bred to calving ease Angus Bulls with excellent heart health\, performance\, maternal and grid values. Ultra-sounded to CF: March 12th thru April 16th. \nAll hfrs on a Complete Modified Live Vaccine Program. Pre-breeding shots: Bovi-shield Gold 5+VL5\, Vision 7\, Protectus back-pour\, Longrange injectable wormer. Shots this fall: Cattlemaster 5FP\, Vision 7 20/20\, Ivermax back pour. Home-raised and purchased from Falls Ranch-MT\, Gardner Ranch\, and Yiek Ranch. \nFrancis Ranch   36 Bwf Hfrs AI bred to Blk Angus sire: “Beartooth Mt Atlantis L08” Proven calving ease bull w/ a 38 pap score- high maternal\, efficiency\, foot score\, and grid values. Ultra-sounded to CF: Feb 20 thru Mar 8 \n****14 Bwf Hfrs\, Bred to “Diamond Peak\, Beartooth\, Crow Valley” low pap epd/score calving ease Blk Angus bulls. Ultra-sounded to CF: March 10 thru April 16. \nAll Hfrs on a Complete Modified Live Vaccine Program. Pre-breeding shots: Bovi-shield Gold 5+VL5\, Vision 7\, Protectus back-pour\, Longrange injectable wormer. Shots this fall: Cattlemaster 5FP\, Nuplura PHM\, Vision 7 20/20\, Guardian scour shot\, Ivermax back pour. \nBrandon Moody   104 Blk Angus Hfrs\, Bred to Sons of Connealy KingAir\, SAV America\, CF: Feb. 15-April 5 (80 head to CF: Feb. 15 for 25 days; 24 head to CF: March 12 for 24 days)\, Shots: Preg Guard 10\, Vira Shield 6. Scour Guard\, 1-iron \nCircle Nine Cattle Co./Joe Podio   98 Blk Heifers\, Bred to  Cantell Creek SV Elite 9265\, CF: Feb. 19\, Shots: 2 Rounds of IBR-BVD-PI3-BRSV\, Black Leg\, Injectable Decotmax\, Pre-breeding Shots: Vibro-Lepto \nJustin Kapps   7 Mx Hfrs\, Bred to Blk Angus Bulls\, CF: May/June \nWill Jurek   1 Shorthorn Hfr\, Bred to Blk Angus Bulls\, CF: April for 60 days\, Shots: Vira Shield 6+VL5\, Covexin 8\, Bangs Vac.\, Wormed \nBruce Nelson   1 Hfr\, Bred to Blk Bull\, CF: March \n  \n  \nBred Cows \nGarson Ranch   60 Blk Cows\, 1200#\, 5-10 yr olds\, Bred to Angus/Sim-x Bulls and Pureblood Blk Angus Bulls\, CF: Late April thru May\, Been on a Complete Vac Program\, but No Shots this Fall\, High Elevation\, Running Out on Grass \nLaurels Fogg/Fogg Sons   60 Red/Blk Angus Cows\, 4-11 yr olds\, Bred to K2 Red Angus Bulls and Lyle Bowman Blk Angus Bulls\, CF: April 1\, Home Raised \nDennis Brooks   50 Red few Blk Cows\, Mx Ages\, Bred to Angus Bulls\, CF: April/May \nBrubaker Ranch   46 Blk Cows\, ST\, Bred to Blk Angus Bulls\, CF: March 20\, Been Poured and Wormed \nSchauer Cattle Co.   38 Blk (1 Rd/1 Rwf) Cows\, Running Ages\, Bred to Largent Hereford Bulls or Godly & Powder River Blk Angus Bulls\, CF: May 15 to End of June\, Fall Shots\, Poured \nKevin Gaukel   35 Blk Cows\, ST\, Bred to Blk Bulls\, CF: May 1 \nMike & Gretchen Wollert   25 Blk Cows\, Mx Ages\, Bred to Blk Angus Bulls\, CF: Mid-March for 60 days \nJerry Yates/Joyce Engebretson   25 Blk Cows\, 1200#\, 5-10 yr olds\, Bred to Angus/Sim-x Bulls and Pureblood Blk Angus Bulls\, CF: Late April thru May\, Been on a Complete Vac Program\, but No Shots this Fall\, High Elevation\, Running Out on Grass \nJustin Kapps   20 Mx Cows\, 3 yr to 10 yr olds\, Bred to Blk Bulls\, CF: May/June \nBrad Reese   20 Mx Cows\, Mx Ages\, Bred to Blk Bulls\, CF: January \nRobert & Nian Ward   20 Rd Cows\, Mx Ages\, Bred to Schuler\, Flatiron & Staircase Red Angus Bulls\, CF: Late March/April \nWYTAH Ranch   15 Blk Cows\, ST\, Bred to Blk Bulls\, CF: April/May \nPhillip Hochstedler   14 Blk/Hereford Cows\, 3-9 yr olds\, Bred to Hereford or Blk Angus Bulls\, CF: April/May\, Shots: Vira Shield 6VL5 HB\, Wormed w/SafeGuard\, Originated from Ochsner-Roth Cattle Registered Herds \nDane Trumbull   12 Mx Cows\, Mx Ages\, Bred to Blk Bulls\, CF: March \nKing Inc   12 Blk few Bwf Cows\, Running Ages\, Bred to 75% Registered Fredricson Blk Angus Bulls (from Spearfish\, SD)\, 25% Bred to Registered Horn and Polled Herefords\, CF: April 9\, Shots: Vira Shield 6+VL5 \nJames Goodrich   11 Blk/Bwf Cows\, Mx Ages\, Bred to Black or Red Angus Bulls\, CF: May/June\, Shots: Vira Shield 6 VL5\, Poured w/Ivomec\, Home Raised \nThree B Farms   11 Mx Cows\, Mx Ages\, Bred to Booth Cherry Creek Bulls\, C: March 1 for 50 days \nOttwell Family Living Trust   9 Mx Cows\, Mx Ages\, Bred to Booth Cherry Creek Bulls\, CF: March 1 for 50 days \nMuleshoe Ranch   8 Blk Cows\, 1300#\, Mx Ages\, Bred to Lucky 7 Bulls or Reyes Blk Angus Bulls\, CF: May/June\, Shots: Staybred VL5\, Cattlemaster Gold FP5\, Valbazen\, Clean-up\, Scourguard \nSterling Hopkins   6 Bred Cows\, ST\, Bred to Blk Bulls\, CF: April/May \nRoger Peterson   6 Rd/Blk/Bwf Cows\, 3 yr olds to ST\, Bred to ZumBrunnen Angus Bulls\, CF: March 12\, Shots: PregGuard\, Safeguard\, Pour On \nTim Anderson   6 Mx Cows\, Mx Ages\, Bred to Red Bull\, CF: May/June\, Complete Vac. Program \nJeff Macy   5 Bred Cows\, Mx Ages\, Bred to Red Angus Bulls or Blk Angus Bulls\, CF: Mid-March \nL 3 Cattle   4 Blk Cows\, Mx Ages\, Bred to Blk Bulls\, CF: March 20 for 45 days \nKruse Livestock Co.   3 Corriente Cows\, 2-4 yr olds\, Bred to Registered Angus or Hereford Bulls\, CF: May 1 for 50 days\, Poured this Fall \nShawn Hall   3 Mx Cows. SS-ST. Bred to Blk Bulls\, CF: May/June \nGarrett Horning   3 Blk Cows\, Running Ages\, Bred to Blk Bulls\, CF: March/April \nTony Hedges   2 Blk Cows\, 4 yr old/9 yr old\, Bred to Gelbv/Angus-x Bull\, CF: April/May & Late\, Shots: Scour Bos\, Vira Shield VL5\, Poured w/Ivomec \nBruce Nelson   2 Mx Cows\, Mx Ages\, Bred to Blk Bulls\, CF: March \n  \nPairs \nTim Anderson   1 Mx Cow Pair\, Mx Age \n \nFeeders \nMaryEvelyn Krejci   12 Mx Strs & Hfrs\, 375-500#\, Branding Shots: 7-way   \nRikki Kremers   4 Mx Hfrs\, 800# \nCircle Nine Ranch   12 Blk Hfrs\, 850$ \nClint Proffit   15 Mx Hfrs\, 800# \n  \nWeigh-upMs \nClint Proffit   24 Mx Cows \nMANY MORE CONSIGNMENTS BY SALE DAY \nCheck out www.torringtonlivestock.com for more consignments and to view sales and bid online!!! \nFOR MORE INFORMATION CALL 307-532-3333
URL:https://torringtonlivestock.com/event/monday-november-24th-2025-bred-cow-special/
END:VEVENT
END:VCALENDAR