BEGIN:VCALENDAR
VERSION:2.0
PRODID:-//Torrington Livestock Market - ECPv6.15.20//NONSGML v1.0//EN
CALSCALE:GREGORIAN
METHOD:PUBLISH
X-WR-CALNAME:Torrington Livestock Market
X-ORIGINAL-URL:https://torringtonlivestock.com
X-WR-CALDESC:Events for Torrington Livestock Market
REFRESH-INTERVAL;VALUE=DURATION:PT1H
X-Robots-Tag:noindex
X-PUBLISHED-TTL:PT1H
BEGIN:VTIMEZONE
TZID:America/Denver
BEGIN:DAYLIGHT
TZOFFSETFROM:-0700
TZOFFSETTO:-0600
TZNAME:MDT
DTSTART:20240310T090000
END:DAYLIGHT
BEGIN:STANDARD
TZOFFSETFROM:-0600
TZOFFSETTO:-0700
TZNAME:MST
DTSTART:20241103T080000
END:STANDARD
BEGIN:DAYLIGHT
TZOFFSETFROM:-0700
TZOFFSETTO:-0600
TZNAME:MDT
DTSTART:20250309T090000
END:DAYLIGHT
BEGIN:STANDARD
TZOFFSETFROM:-0600
TZOFFSETTO:-0700
TZNAME:MST
DTSTART:20251102T080000
END:STANDARD
BEGIN:DAYLIGHT
TZOFFSETFROM:-0700
TZOFFSETTO:-0600
TZNAME:MDT
DTSTART:20260308T090000
END:DAYLIGHT
BEGIN:STANDARD
TZOFFSETFROM:-0600
TZOFFSETTO:-0700
TZNAME:MST
DTSTART:20261101T080000
END:STANDARD
END:VTIMEZONE
BEGIN:VEVENT
DTSTART;VALUE=DATE:20251201
DTEND;VALUE=DATE:20251202
DTSTAMP:20260424T160216
CREATED:20251104T041140Z
LAST-MODIFIED:20251204T172527Z
UID:4661-1764547200-1764633599@torringtonlivestock.com
SUMMARY:Monday\, December 1st\, 2025 - Bred Cow Special
DESCRIPTION:TORRINGTON LIVESTOCK MARKETS \nMonday\, December 1st\, 2025\n All Classes\nStarting at 11:00 am MDT with Weigh-ups;\nBreds to Sell at Noon\nFeature \nAlbertson Cattle Co.   450 Blk Cows\, Complete Dispersal\, Coming 3’s to ST\, Bred to Low PAP Blk Angus Bulls. CF: March 19\, Been on Vac. Program: Scour Bos\, 8-way\, Vira Shield 6 +VL5 but No Shots this Fall\, Poured Every Fall\, Home Raised\, 1-iron\, High Elevation (long time Colorado Mountain Ranch Family) \n  \nComplete or Partial Dispersals \nSLC Cattle Co.   387 95% Blk/Bwf 5% Red/Rwf Cows\, Big Framed: 1400-1500#\, Complete Dispersal\, 6-10 yr olds\, Bred to Mnrak Hereford bulls\, CF: March 29 for 60 days\, All Raised a Calf\, Calves weaned on October 1st \nShining S Ranch/Cole Coxbill   70 Mx Cows\, Complete Dispersal\, Mx Ages\, Bred to Doug & Dudley Booth Blk Angus Bulls or Alvin Ruiz SimAngus Bulls\, CF: Feb/March \n  \nBred Heifers \nLarry Jacobsen   73 Blk Angus Hfrs\, 1250#\, AI’d Bred to Mead Magnitude (BW -0.3\, CED +11) on April 18th\, Ultra-sounded to CF: January 25\, Complete Modified Live Calfhood Vac. Program\, At Pre-breeding: PregGuard Gold FP 10\, Poured at Preg Check \n****67 Blk Angus Hfrs\, 1250#\, Bull Bred to Sons of Exar Stash 0685B (BW- 0.6\, CED +13)\, Ultra-sound to CF: 1st Cycle\, Complete Modified Live Calfhood Vac. Program\, At Pre-breeding: PregGuard Gold FP 10\, Poured at Preg Check \n****33 Blk Angus Hfrs\, 1250#\, Bull Bred to Sons of Exar Stash 0685B (BW- 0.6\, CED +13)\, Ultra-sound to CF: 2nd Cycle\, Complete Modified Live Calfhood Vac. Program\, At Pre-breeding: PregGuard Gold FP 10\, Poured at Preg Check \nNote: Fancy Black Angus Heifers.  All Home Raised (Family Brands)\, Decades of Front End Genetics; Heavily influence by Schaff Angus Valley.  Steer brothers have been bought by same buyer for many\, many years and last year steers grade 98.5% Choice & Prime; with 38% CAB & 31% Prime \nRod Nelson   115 Blk few Bwf Hfrs\, 1050#\, Bred to Ochsner-Roth Bulls (proven calving ease\, high growth performance)\, CF: March 15 for 30 days\, Spring Shots: Vista 5 VL5 SQ CFP\, Fall Shots: ScourBos 9\, Poured w/Ivermax\, Home Raised\, 1-iron \nStellpflug Cattle Co.   109 Bwf Hfrs\, AI’d Bred to Rise Above Low Birth Weight Blk Angus Bulls\, Clean-up Bulls were Low Birth Weight Stellpflug Blk Angus Bulls\, Ultra-sounded to CF: March 4th for 1st Cycle; March 25th for 2nd Cycle\, Bull Bred to CF: April 1st\, Shots on Sept. 12: Cattle Master Gold FP5\, Staybred +VL5\, Valcor Wormer\, Poured w/Clean-up II \nL & M Cattle Co.   100 Blk Angus Hfrs\, 1050#\, AI’d Bred to  Famous ABS Calving Ease Bull “Polaris”\, Ultra-sounded on Aug. 7 by Dr. Liam Robinson  of MT to CF: Feb 21\, Originated off a big famous Salmon\, ID Ranch\, High Elevation; running at 6400’ 100% Sliverbit Angus Ranch Genetics \nA really nice set of heifers that have proven to work; year after year; will work in any environment. Buys Top Bulls from Silverbit every year ($15-20 K) \nFox Ranch Inc.  60 Blk Hfrs\, Bred to Registered Low Birth Weight Blk Angus Bulls\, CF: Feb. 25 for 60 days\, Shots:  Scour Bos 9\, 8-way\, Collagen\, Poured\, Top End of 500 head sort \nRafter Star Ranch   60 Blk Hfrs\, AI’d to a Blk SinAngus Bull\, CF: May 1 for 21 days\, Shots at Preg Check: 7-way\, Bovi-Shield Gold 5\, Staybred\, Oral Safeguard Wormer\, Poured w/Ivomec\, 1st Shot of Scour Bass \nCade & Sophie Swanson   57 Blk Angus Hfrs\, 2’s coming 3’s\, Bred to McClun Hereford or Blk Angus Bulls\, CF: March 1\, All Raised a Calf\, Nice easy handling set of cows\, Cows running out supplemented with Hay due to dy conditions\, Been on a Full Mineral Program\, Hot Wire Broke. Calves weaned off on Sept. 1 \n7X Cattle   45 Blk Hfrs\, 1100-1150#\, AI’d Bred to Sitz Polaris\, CF: Feb. 26 \nAll Received the following Shots: Nov. 7\, 2024: Bovi-Shield Gold One Shot\, Ultrabac 7/Somubac\, Poured\,  April 15\, 2025: Vira Shield 6+VL5\, Ultrabac 8\, Cattle Master Gold FP5\, Poured\, Sept. 24\, 2025: Vision 8\, Vira Shield 6+VL5\, Poured\, All off one ranch\, Running at 6500’ Elevation \nThunderbolt Ranch   42 Blk Hfrs\, AI’d Bred Blk Angus or Bull Bred to Crow Valley Livestock Low Birth Weight Calving Ease Blk Angus Bulls\, CF: April 8 for 60 days\, Complete Vac. Program plus the Foothill Shot to Go to California \nClarke Livestock   40 Blk/Bwf Hfrs\, 1100#\, Bred to Pharo Calving Ease Bulls\, CF: March 1\, Shots this Falll: Bovi-Shield Gold FP VL5\, 8-way\, Dectomax Pour On\, High Altitude\, Hme Raised\, Selling due to drought \nJoe Merrian   40 Blk few Bwf Angus Simmental Composite First Calf Hfrs\, 2 yr olds\, AI’d Bred to Patriarch Bull\, Clean-up Bulls: Redland Calving Ease Bulls\, CF: March 1st for 45 days\, Been on a Complete Modified Live Vac. Program\, 50% Home Raised/50% Purchased from Neighbors\, T Heart Angus\, Blue Stem Bloodlines\, All Low PAP Genetics \n  \nBred Cows \nFlying H Ranch/S.K. Johnston   84 Blk Cows\, 9-10 yr olds\, Bred to Registered Kretschman and Pine Coulee Bulls\, CF: March 1 for 90 days\, Spring Shots: Vira Shield 6+VL5 \n7X Cattle   40 Blk Cows\, 3-6 yr olds\, bred to Split Diamond Blk Angus Bulls out of Dillon\, MT\, CF: March\, Shots: April 15\, 2025: Vira Shield 6+VL5\, Ultrabac 8\, Cattle Master Gold FP5\, Poured\, Oct. 16\, 2025: Vision 8\, Vira Shield 6+VL5\, Poured\, Ran at 5500’ Elevation \nSara & Levi Kosmicki   25 Blk Cows\, 4-8 yr olds\, Bred to Blk Bulls\, CF: May/June\, Been on a Complete Vac. Program but No Shots this Fall \nBurke Pallesen   15 Mx Cows\, 4-5 yr olds\, Bred to High End Registered Hereford Bulls or Blk Angus Bulls\, CF: March 10\, Spring Shots: 7-way\, Fall Shots: Scour Guard\, Poured with Ivomec \nJohn & Loree Wetstein   2 Char/Grey Cows\, Mx Ages\, Bred to Gunsight Angus Bulls\, CF: March 18\, Shots in the Spring: Vista Once SQ\, Ultrabac 7 Somubac\, Poured on Oct. 18\, Home Raised\, High Elevation; running at 7200’\, Easey to work with \n  \nPairs \nJohn & Loree Wetstein   2 Char/Grey Cow Pairs\, Mx Ages\, Tagged to Match\, Calves at side: 6 month old\, Calf Shots at Birth: Vitamin A/D\, BarV-Vac CD/T\, Branding Shots: Vista Once SQ\, Ultrabac 7 w/Somubac\, Pre-cond. Shots: Vista Once SQ\, Ultrabac 7 w/Somubac \, Dectomax Pour on at Branding and Fall\, Home Raised\, High Elevation; running at 7200’\, Easy to handle \n  \nMANY MORE CONSIGNMENTS BY SALE DAY \nCheck out www.torringtonlivestock.com for more consignments and to view sales and bid online!!! \nFOR MORE INFORMATION CALL 307-532-3333
URL:https://torringtonlivestock.com/event/monday-december-1st-2025-bred-cow-special/
END:VEVENT
END:VCALENDAR