BEGIN:VCALENDAR
VERSION:2.0
PRODID:-//Torrington Livestock Market - ECPv6.15.20//NONSGML v1.0//EN
CALSCALE:GREGORIAN
METHOD:PUBLISH
X-WR-CALNAME:Torrington Livestock Market
X-ORIGINAL-URL:https://torringtonlivestock.com
X-WR-CALDESC:Events for Torrington Livestock Market
REFRESH-INTERVAL;VALUE=DURATION:PT1H
X-Robots-Tag:noindex
X-PUBLISHED-TTL:PT1H
BEGIN:VTIMEZONE
TZID:America/Denver
BEGIN:DAYLIGHT
TZOFFSETFROM:-0700
TZOFFSETTO:-0600
TZNAME:MDT
DTSTART:20240310T090000
END:DAYLIGHT
BEGIN:STANDARD
TZOFFSETFROM:-0600
TZOFFSETTO:-0700
TZNAME:MST
DTSTART:20241103T080000
END:STANDARD
BEGIN:DAYLIGHT
TZOFFSETFROM:-0700
TZOFFSETTO:-0600
TZNAME:MDT
DTSTART:20250309T090000
END:DAYLIGHT
BEGIN:STANDARD
TZOFFSETFROM:-0600
TZOFFSETTO:-0700
TZNAME:MST
DTSTART:20251102T080000
END:STANDARD
BEGIN:DAYLIGHT
TZOFFSETFROM:-0700
TZOFFSETTO:-0600
TZNAME:MDT
DTSTART:20260308T090000
END:DAYLIGHT
BEGIN:STANDARD
TZOFFSETFROM:-0600
TZOFFSETTO:-0700
TZNAME:MST
DTSTART:20261101T080000
END:STANDARD
END:VTIMEZONE
BEGIN:VEVENT
DTSTART;VALUE=DATE:20251203
DTEND;VALUE=DATE:20251204
DTSTAMP:20260424T160306
CREATED:20251104T041217Z
LAST-MODIFIED:20251204T172601Z
UID:4664-1764720000-1764806399@torringtonlivestock.com
SUMMARY:Wednesday\, December 3rd\, 2025 - Feeder/Calf Special
DESCRIPTION:TORRINGTON LIVESTOCK MARKETS \nWednesday\, December 3rd\, 2025\nFeeder & Calf Special\nStarting at 9:00am\nCattle Country Video \nLot 1201   Flying Heart Ranch LLC   90 Weaned Steer Calves. 98% Blk/Bwf\, 2% Red. Base Wt: 560 lbs. 2-way Slide: .25 off/on up to 25 lbs over/under base wt. Located: Laramie\, WY. Delivery: 12/4/25 to 12/5/25. Shots at Birth: Vision CDT\, Nasalgen PMH. Branding Shots: Vision 7\, Vista Once SQ\, SafeGuard. Precond Shots: Vision 7 & Vista Once SQ. Weigh: Early am gather of pre-sorted steers\, weigh on buyer’s pre-weighed trucks\, haul 20 miles to Laramie\, WY and weigh w/a 2%. Comments: Choice to fancy set of 45 day weaned\, high elevation and bunk broke grass calves. Rep: Scott Redden 970-596-3588. \n  \nFeeders \nCrane Cattle Co.   117 Mostly Blk Strs & Hfrs\, 750-800#\, Complete Vac. Program\, Coming off Mountain Pasture\, Running at 7000-8000’ Elevation \nLex Burgdahl   107 Blk\, few Red Strs\, 900#\, Complete Vac Program\, Off Grass \nRidgeline Ranch  7 Blk/Rd Strs & Hfrs\, 900-1000#\, PTO\, Modified live Vac Program\, Coming off grass with light ration \nRafter Star Ranch   4 Blk Hfrs\, 775#\, PTO @ barn\, Complete Vac. Program\, Coming off grass \nRod Nelson   2 Blk Hfrs\, 800#\, PTO @ barn\, Complete Vac. Program\, Coming off grass \nStellpflug Cattle Co.   2 Blk Hfrs\, PTO @ barn\, Complete Vac. Program\, Coming off grass \nJoe Merrian   2 Mx Hfrs\, 800#\, PTO @ barn\, Complete Vac. Program\, Coming off grass \nL & M Cattle   2 Mx Hfrs\, 775#\, PTO @ barn\, Complete Vac. Program\, Coming off grass \n7X Cattle Co.   1 Blk Hfr\, 800#\, PTO @ barn\, Complete Vac. Program\, Coming off grass \nClarke Livestock   1 Mx Hfr\, 750#\, PTO @ barn\, Complete Vac. Program\, Coming off grass \nThunderbolt Cattle Co.   1 Blk Hfr\, 795#\, PTO @ barn\, Complete Vac. Program\, Coming off grass \n  \nWeaned Calves \nChristian Farms   248 Blk/Red Strs & Hfrs\, 425-700#\, Branding & Precond Shots: Vista Once & Vision 7/Somnus; Booster Shots: Vista Once\, Vision 7/Somnus\, Nasalgen\, Clean Up\, Boostered again 21 days after Weaning\, Weaned 48 days\, Grower Ration\, Alfalfa\, Millet Hay\, Corn\, Mineral Program\, Black & Red Angus Cross Calves\, Northern Bred Cattle back to Montana & South Dakota Stock\, Sired by Black & Red  Leachman Bulls & Registered Red Angus Bulls. \nDarrell & Sally Steinhausen   143  Mx Strs & Hfrs\, 00#\, Weaned 45 days\, Bunk Broke\, Hay Fed\, Branding and Pre-cond. Shots: Vision 7 w/Spur\, Bovi Shield Gold 5\, In the last 30 days received Multimin and Poured w/Dectomax \nClear Creek Cattle   123 Char/Blk Strs & Hfrs\, 400#\, Branding & Precond Shots: Ultra Bac 7 Somnus\, Bovi Shield Gold One Shot\, Inj Dectomax\, Draxxin\, Weaned 45+ days\, Native grass\, Vitalix tubs\, grainsmart(Vitafirm) \nVon Forrell Herefords  120 Mxd Strs\, 550-650#\,  \nScott Rafferty   104 Blk/Bwf Strs & Hrs\, 500-600#\, Weaned 60 days\, Running out on pasture & hay meadows\, Bunk Broke\, Started on Distiller Grains\, Shots: 7-way (2x)\, Bovi-Shield Gold 5 (3x)\, Heifers are NOT Implanted\, Steers are Implanted\, Hot Wire Broke \nPlatt Cattle Co   90 Blk few Red Strs\, 485-575#\, Weaned 90 days\, Been on Alfalfa/Sudan Hay\, Branding Shots:  Ultrbac 8\, Weaning Shots:  Pyramid 5+Presponse SQ\, Ultrabac 8\, Vit A & D\, Poured w/Ivermectin\, Treated with a preventative dose of Corid for Coccidiosis\, No Implants\, Sired by Ken Haas Angus Bulls\, Green \nTerry & Corey Bruns   70 Blk Angus Strs & Hfrs\, 600#\, Weaned 3 weeks\, Bunk Broke\, Been on Corn Silage & Ground Hay\, Branding and Weaning Shots: Vision 7\, Bovi-Shield Gold One Shot\, Poured\, No Implants \nMicheli Cattle Co   68 Mx Strs & Hfrs\, 475-575#\, Weaned 55 days\, Branding Shots:  Pyramid 5+ Presponse\, Vision 7 w/Somnus\, Boostered w/ Pyramid 5 and UltraBac 8\, Poured \nRock Lake Angus   60 Blk Angus Strs & Hfrs\, 600-650#\, Weaned 75 days\, Bunk Broke\, Been on a Grower Ration\, Branding Shots: 7-way\, Inforce 3\, One Shot BVD\, Pre-cond. Shots: 7-way w/Somnus\, Inforce 3\, One Shot BVD\, Weaning Shots: Somnus Bovi-Shield 5\, Dectomax \nRyan Nichols   60 Blk/Bwf Strs & Hfrs\,\, 500-650#\, Weaned 60+ days\, Free Choice Hay\, Bunk Broke\, Been on Ground Hay and Pulp\, Shots at Birth: Alpha 7\, Multi-min\, Branding Shots: Pyramid 5+Presponse\, Vision 7 w/Somnus\, Pre-cond. Shots: Pyramid 5+Presponse\, Vision 7 w/Somnus\, No Implants\, Many are AI’d Sired (SimAngus Sired)\, Home Raised \nDean & Marika Anderson   50 Red/Rwf Strs & Hfrs\, 325-400#\, Weaned 30+ days\, Grass Hay Fed\, Vitalix Tubs\, Branding Shots:  Nasalgen 3\, 7-way\, Pre-cond. Shots: 5-way\, 7-way\, Pinkeye\, Weaning Shots: 5-way\, 7-way \nWEBO Angus   50 Blk Hfrs\, 500-600#\, Weaned since Oct. 9\, Running Out\, Bunk Broke\, On Ground Hay\, Distillers and Pellets\, Branding Shots: Vista Once\, Pre-cond. Shots (Sept. 25): Pyramid 5+Presponse\, Weaning Shots: 7-way w/Somnus\, Endvac\, Wormed\, Poured w/Ivomec\, Some would make Good Replacement Heifers \nCraig Oceanak   44 Red Angus Strs & Hfrs\, 550-600#\, Weaned 40 days\, Been on Alfalfa Hay\, Lick Tubs\, Bunk Broke\, No Shots\, Producer All Natural \nBench Y Livestock/D. Vercimak   40 Mostly Blk Hfrs\, 425-700#\, Weaned 30+ days\, Bunk Broke\, Been on Alfalfa Hay\, 3-way Grain Mix\, Timothy Hay\, Mineral Program\, Cake Broke\, Branding Shots: Bovi-Shield 6\, Vision 8+Somnus\, Pre-cond. Shots: Vira Shield 6\, Vision 8+Somnus\, Sired by Bryan & Donna Rice–Arrow Crown Angus Bulls & Scott Lake–Lake Livestock (Laramie\, WY) Blk Sim-Angus Bulls\, Producer All Natural \nBill & Chris Rader   36 Blk/Bwf Strs & Hfrs\, Branding Shots: Vision 7/Somnus\, Alpha 7\, Pyramid 5 + Presponse\, Inforce 3 & Dectomax\, Weaning Shots: Nasalgen 3 & Vision 7/Somnus\, Weaned on September 13th\, On Creep Feed & Alfalfa Hay\, Bunk Broke\, Producer All Natural\, No Implants\, One Iron\, Home Raised \nKeith Geis   25 Blk/Bwf Strs\, 650-700#\, Weaned since Oct. 15\, Bunk Broke\, Been on a Grower Ration\, Branding Shots:  Pyramid 5+Presponse\, Vision 7\, Weaning Shots: Pyramid 5+Presponse\, Vision 7\, Ivomec Pour On\, No Implants\, Steers are Knife Cut\, Producer All Natural \nRafter J Cattle/Louis Stuart   25 Blk/Red Strs & Hfrs (1 Bull Cf)\, 400-500#\, Branding Shots: Vision 7 & 8-way\, Precond Shots: Vista Once SQ & Inforce 3\, Weaned 3 weeks\, Alfalfa & Grass Hay Only\, No Implants\, Strs are Knife Cut\, Home Raised\, One Iron\, High Elevation 6500-8000 ft \nRoger Rouselle   16 Mx Strs & Hfrs\, 500-650#\, Weaned since Nov. 1\, Hay Fed\, No Shots\, Producer All Natural \nJohn & Loree Wetstein   10 Blk Strs & Hfr (1 hd)\, 620-700#\, Weaned 40 days\, Native Hay and Bull Power\, Branding Shots: Vista Once SQ\, Ultrabac 7/Somubac\, Dectomax Pour On\, Weaning Shots; Vista Once\, SQ\, Ultrabac 7 w/Somnubac\, Dectomax Pour On\, No Implants\, Home Raised\, High Elevation \nGrant Ranch/Rick Grant   10 Strs\, 500#\, Branding Shots: 7-way\, One Shot & Inforce\, Precond Shots: 7-way/Somnus\, BoviShield Gold One Shot\, Weaned October 25th\, 12 to 14 lbs of hay/day \nThomas & Victoria Baker   10 Blk Hfrs\, 550#\, Weaned 60 days\, 2 Rounds Vision 7\, Pyramid 5+Presponse \nKay A Cattle LLC   9 Blk Strs\, 500-600#\, Weaned since Nov. 15\, Running out on pasture\, Branding Shots\, Pre-cond. Shots: 7-way w/Somnus+Spur\, Bovi-Shield Gold 5\, Ivomec Pour On \nOdessa Mathis/Kolby Eddy   8 Hereford Hfrs\, 500-600#\, Weaned since Oct. 9\, Running Out\, Bunk Broke\, On Ground Hay\, Distillers and Pellets\, Branding Shots: Vista Once\, Pre-cond. Shots (Sept. 25): Pyramid 5+Presponse\, Weaning Shots: 7-way w/Somnus\, Endvac\, Wormed\, Poured w/Ivomec\, Some would make Good Replacement Heifers \nMcGill Ranch   5 Blk Angus Hfrs\, 500#\, Weaned 75 days\, Grass Hay Fed\, Branding Shots: Multi-min\, Pyramid 5+Presponse\, Vision 7 w/Somnus\, Pre-cond. Shots: Multi-min\, Pyramid 5+Presponse\, Vision 7 w/Somnus\, No Implants\, Home Raised\, High Elevation \nShane Trompke   2 Mx Strs\, 550#\, Weaned 3 weeks\, Hay Fed\, Branding Shots: Pyramid 5\, Vision 7 w/Spur\, Pre-cond. Shots: Pyramid 5+Presponse SQ\, Multimin 90\, Safeguard Wormer \nTravis & Kenzie Bowers   4 Blk Strs & Hfrs\, 350-400#\, Weaned 50 days\, Hay Fed\, Branding Shots: Covexin 8\, Steers are Knife Cut\, Producer All Natural \nHummel Cattle Co/Todd Hummel   1 Blk Angus Hfr\, 600#\, Weaned 75 days\, Grass Hay Fed\, Branding Shots: Multi-min\, Pyramid 5+Presponse\, Visin 7 w/Somnus\, Pre-cond. Shots: Multi-min\, Pyramid 5+Presponse\, Vision 7 w/Somnus\, No Implants\, Home Raised\, High Elevation \nJones Livestock   1 Blk Str\, 700#\, Weaned 90 days\, Bunk Broke\, Been on Hay and Light Grain\, Branding Shots: Pyramid 5\, 7-way\, Poured\, Pre-cond. Shots: Pyramid 5\, 7-way\, Poured \n  \nPre-cond. Calves \nMurphy Ranch Inc.   210 Blk Strs & Hfrs\, 500-600#\, Branding Shots: Bovi-Shield Gold 5\, Pro-Bac 4\, Bar-Vac 7\, Pre-cond Shots: Bovi-Shield Gold 5\, Pro-Bac 4\, Bar-Vac 7\, Nasalgen 3\, Vetrmec Pour On\, Knife Cut\, Running out Pasture and Hay Meadows supplement with Grass/Alfalfa Hay Mix long side of mothers\, Been on a Complete Mineral Program\, Nice set of high altitude calves \nCody & Joel Tremain   170 Blk Strs\, 500#\, Branding Shots:  Vision 7\, Inforce 3\, Pre-cond. Shots: Vision 7 w/Somnus\, Pyramid 5+Presponse\, Poured\, No Implants\, Home \nRobert & Alicia Hawkins   100 Blk/Bwf Strs\, 500-650#\, Shots at Birth: Alpha 7\, Multim-min\, Branding  Shots: Pyramid 5+Presponse\, Vision 7 w/Somnus\, Precond Shots: Pyramid 5+Presponse\, Vision 7 w/Somnus\, Poured\, No Implants\, Home Raised\, Running out on Stalks\, Electric Fence Broke \nMiddleton Land Co   120 Blk/BWF Strs & Hfrs\, 450-500#\, Branding & Pre-cond. Shots: Complete Modified Live Program plus MultiMin 90\, Poured\, Been running at 5000’ on pasture with access to Loomix\, Steers are Knife Cut\, Sired by Blk bulls\, Home raised \nDodge Creek Ranch   69 Blk/Bwf Strs & Hfrs\, 450-550#. Branding Shots: Vision 8\, Pyramid 5+Presponse\, Pre-cond. Shots:  Vision 7\, Vira Shield 6\, Implanted w/Ralgro\, Steers are Knife Cut \nHenry Borchardt   20 Red Angus Strs & Hfrs\, 450-550#\, Branding Shots:  Inforce\, Nasalgen\, BVD One Shot\, 7-way \n  \nCalves \nEight Bar Ranch   200 Mostly Blk/Red few Hereford Strs & Hfrs\, 550-625#\, Branding Shots: Vision 7 w/Somnus w/Spur\, Pyramid 5 +Presponse\, High Altitude: Running at 8000 to 11\,000’\, Fancy and Very Green; Coming off dry Fall Pastures \nTroy Cochran Ranch   94 Blk Angus Strs & Hfrs\, 555-585#\, Branding Shots: Rhino Virus Sub Q\, 7-way/C & D\, Bovi-Shield Gold One Shot\, Inforce 3\, No Implants\, Home Raised\, 1-iron\, Electric Fence Broke\, Steers are Knife Cut\, Started on Cake along side of mothers \nKent Hunter   89 Blk/Bwf\, few Red Strs & Hfrs\, 300-450#\, Producer All Natural \nJoseph Pieper   40 Blk Strs & Hfrs\, 450-650#\, Branding Shots: Alpha 7/Somnus & Express 5\, No Brands \nBusy Bee Ranch/Ammon Teichert   33 Blk Strs & Hfrs\, 450-500#\, One Round of 8-way & ViraShield 6 \nLeo Smith   20 Blk Angus Strs & Hfrs\, 550-650#\, Branding Shots \nMANY MORE CONSIGNMENTS BY SALE DAY \nCheck out www.torringtonlivestock.com for more consignments and to view sales and bid online!!! \nFOR MORE INFORMATION CALL 307-532-3333
URL:https://torringtonlivestock.com/event/wednesday-december-3rd-2025-feeder-calf-special/
END:VEVENT
END:VCALENDAR