BEGIN:VCALENDAR
VERSION:2.0
PRODID:-//Torrington Livestock Market - ECPv6.15.20//NONSGML v1.0//EN
CALSCALE:GREGORIAN
METHOD:PUBLISH
X-WR-CALNAME:Torrington Livestock Market
X-ORIGINAL-URL:https://torringtonlivestock.com
X-WR-CALDESC:Events for Torrington Livestock Market
REFRESH-INTERVAL;VALUE=DURATION:PT1H
X-Robots-Tag:noindex
X-PUBLISHED-TTL:PT1H
BEGIN:VTIMEZONE
TZID:America/Denver
BEGIN:DAYLIGHT
TZOFFSETFROM:-0700
TZOFFSETTO:-0600
TZNAME:MDT
DTSTART:20240310T090000
END:DAYLIGHT
BEGIN:STANDARD
TZOFFSETFROM:-0600
TZOFFSETTO:-0700
TZNAME:MST
DTSTART:20241103T080000
END:STANDARD
BEGIN:DAYLIGHT
TZOFFSETFROM:-0700
TZOFFSETTO:-0600
TZNAME:MDT
DTSTART:20250309T090000
END:DAYLIGHT
BEGIN:STANDARD
TZOFFSETFROM:-0600
TZOFFSETTO:-0700
TZNAME:MST
DTSTART:20251102T080000
END:STANDARD
BEGIN:DAYLIGHT
TZOFFSETFROM:-0700
TZOFFSETTO:-0600
TZNAME:MDT
DTSTART:20260308T090000
END:DAYLIGHT
BEGIN:STANDARD
TZOFFSETFROM:-0600
TZOFFSETTO:-0700
TZNAME:MST
DTSTART:20261101T080000
END:STANDARD
END:VTIMEZONE
BEGIN:VEVENT
DTSTART;TZID=America/Denver:20251208T110000
DTEND;TZID=America/Denver:20251208T110000
DTSTAMP:20260424T160219
CREATED:20251104T041351Z
LAST-MODIFIED:20251209T200757Z
UID:4668-1765191600-1765191600@torringtonlivestock.com
SUMMARY:Monday\, December 8th\, 2025 - Bred Cow Special
DESCRIPTION:TORRINGTON LIVESTOCK MARKETS \nMonday\, December 8th\, 2025\nBred Cow Special\nStarting at 11:00 am MDT with Weigh-ups;\nBack Page at 11:30 am\nDispersals to Sell at Noon\nDispersals \nShon Whetham Family Partnership   200 Blk Cows\, Complete Dispersal of 2’s coming 3 yr olds\, Bred to Ochsner-Roth Bulls\, Ultra-sounded at home on Oct. 16 and verified at the barn to  CF: March 20 for 45 days\, Shots on Oct. 16: Bovi-Shield Gold FP\, Guardian\, 7-way\, Hot Wired Broke\, Cake Broke\, Calved with a Side by Side\, Trailed around by horseback in the summer\, All Raised a Calf\, 50% is Home Raised bal Originated from ZumBrunnen from Lusk\, WY and Ladder Ranches from Ogallala\, NE as Bred Heifers View Video \nFlag Ranch   85 Angus Cows\, Complete Dispersal of 3 yr Olds\, Bred to Angus Bulls from Vermillion\, Hoffman & Ellingson\, CF: March 1st for 55 days\, Pre-breeding Shots: Express 5 Spirovac VL5\, SafeGuard Wormer\, Been on a Guardian Scour Program\, All Raised a Calf View Video \nAdam Warner   45 Blk Angus Hfrs\, Complete Dispersal of 2’s coming 3 yr olds\, Bred to Registered Reyes Blk Angus Bulls\, Ultra-sounded on Oct. 16 to CF: March 10 for 55 days\, Shots: Preg-Guard\, Poured this Fall\, Originated from the Dave & Eva Edwards Ranch as calves\, No Brands\, 40 years of Angus Breeding \nBred Heifers \nTeague Ranch/Tucker Teague   80 Blk Hfrs\, Bred to Sinclair Angus Bulls (going back to “Timeless & Emulation”; calving ease direct: +11-13\, BW: EPD -1)\, CF: Feb. 1 to March 1. All Heifers have had Cattle Master VL5 (3x)\, Blackleg\, Last week was Wormed and Poured. Been Pelvic measured 150 cm or greater \nNote: My family has personally calved 2000 head of these heifers; same story and we have pulled only 4 head total.  Turn them out and forget about them. They’ll lay down and do it on their own. \nFox Ranch   120 Blk Hfrs\, Bred to Registered Low Birth Weight Blk Angus Bulls\, CF: Feb. 25 for 45 days\, Shots: Scour Bos 9\, 8-way\, Collagen\, Poured\, Top End of 500 head sort \nFrancis Ranch   74 Blk Hfrs\, AI Bred to Low Pap Score Blk Angus Sires: “XLAR Mt Tahoe\, KR I-Beam Mtn\, DB Mt Robson” with moderate birth weight\, high maternal and growth values. Ultra-sounded to CF: Feb 20 thru Mar 8 \n****67 Blk Hfrs\, Bred to “Diamond Peak\, Beartooth\, Crow Valley” Low PAP EPD/Score Calving Ease Blk Angus Bulls with excellent growth. Ultra-sounded to CF: March 10 thru April 16. \nAll Heifers are on a Complete Modified Live Vaccine Program. Pre-breeding shots: Bovi-shield Gold 5+VL5\, Vision 7\, Protectus Back-Pour\, Longrange Injectable Wormer. Shots this fall: Cattlemaster 5FP\, Nuplura PHM\, Vision 7 20/20\, Guardian Scour Shot\, Ivermax Back Pour. \nBar X LLC   50 Blk/Bwf Angus Hfrs\, 1100#\, AI’d Bred to RL Justice AAA #: 19836564 (known for creating beautiful\, deep bodied females with excellent feet and udders within out angus program)\, CF: Feb. 6\, Calfhood Shots: 3 Rounds of Pyramid 5+Presponse\, 7-way\, Fall Shots: Vira Shield 6+VL5\, Vision 7 w/C & D\,  Poured w/Dectomax\, \n****30 Blk/Bwf Angus Hfrs\, 1100#\, Bred to Bar X Low Birth Weight/High Performance Blk Bulls\, CF: March for 30 days Calfhood Shots: 3 Rounds of Pyramid 5+Presponse\, 7-way\, Fall Shots: Vira Shield 6+VL5\, Vision 7 w/C & D\, Poured w/Dectomax \n(Best sort of 350 heifer calves born on the ranch from last year. Home Raised\, 1-iron\, No Replacements kept) View Video Bar X \nLyman Ranch   60 Blk Hfrs\, 1100#\, AI’d Bred to “Circle Unified” Vermilion Herd Sire; calving ease Bull\, CF: March 13\, Full Vac. Program\, Vitamin & Mineral Program\, Reproduction Scored & Pelvic Measured to Pass\, Out of a Performance Herd\, Running at High Elevation 7100’ View Video \nRichard & Donavon Lamb   32 Blk/Bwf SimAngus Hfrs\, Bred to Low Birth Weight Calving Ease Powerline Genetics “PLG Big Easy 23-242 Blk Bulls\, CF: March 15 to April 5\, Shots: Bovi-Shield Gold\, Vision 7\, High Elevation\, Home Raised \n****8 Blk/Rd 2nd Calf Hfrs\, Bred to Angus/Semimental Bulls\, CF: March 15 to April 5\, Shots: Bovi-Sheild Gold\, Vision 7\, High Elevation\, Home Raised \nAll run at 11\, 500’ for the Summer; Running out on the range until Nov. 20; Started Supplemented with Alfalfa \nM Diamond/Brad Boner   10 Mx First Calf  Hfrs\, Bred to Blk Angus Bulls\, CF: April \n Donavon Lamb   6 Blk/Bwf SimAngus Hfrs\, Bred to Low Birth Weight Calving Ease Powerline Genetics “PLG Big Easy 23-242 Blk Bulls\, CF: March 15 to April 5\, Shots: Bovi-Shield Gold\, Vision 7\, High Elevation\, Home Raised \nAll run at 11\, 500’ for the Summer; Running out on the range until Nov. 20; Started Supplemented with Alfalfa \nBrad McEachron   3 Mx Hfrs\, Bred to Blk Bulls\, CF: Mx \nCullen Ranch   2 Blk Hfrs\, Bred to Blk Bull\, CF: March 1 for 30 days\, Shots: Vira Shield 6 Vl5\, Injectable Dectomax\, Poured w/Clean-up \nBred Cows \nRed Mountain/JT Nunn   120 Mx Cows\, 4-6 yr olds\, Bred to High Elevation Blk Angus/Sim-Angus Bulls\, CF: Mostly March/April\, Shots: Bovi-Shield Gold FP 5 VL5\, Vit. #-AD\, Valcor Injectable Wormer\, Poured w/Clean-up\, High Elevation\, Ran at 7000-9000’ \nRobert Barr   90 Mx Cows\, 5-7 yr olds\, Bred to Sim/Angus Bulls\, CF: March/May \nPetsch & Rollins   60 Blk Cows\, SM-ST\, Bred to Blk Bulls or Hereford Bulls\, CF: March/April \nFarthing Ranch   59 Mx Cows\, Mx Ages\, Bred to Blk Angus or Hereford Bulls\, CF: March 25 for 45 days \nFlying H Ranch/S.K. Johnston   49 Blk Cows\, 2-8 yr olds\, Bred to Registered Kretschman and Pine Coulee Bulls\, CF: March 1 for 90 days\, Spring Shots: Vira Shield 6+VL5 \nDouble 7 Cattle LLC/Ben Thoman   80 Blk Cows\, 1200-1300#\, Mx Ages\, Bred to Blk Angus Bulls: Rousey Gold Strike\, Traveler\, & Conneally Comrade\, CF: March/April\, Bangs Vac.\, Poured w/ Normiacine Ivermec \nHardgrass Inc.   45 Blk Cows\, ST\, Bred to Blk Bulls\, CF: March 20 for 70 days \nMR Angus   43 Blk Cows\, 3-4 yr olds\, Bred to MR Angus Bulls\, CF: Summer \nBosen Cattle Co.   40 Mx Cows\, Mx Ages\, Bred to Blk Bulls\, CF: Feb. 1 thru May 30\, Shots: Vira Shield 6+VL5\, Ultrabac 8-way\, Ivomec Pour On \nM Diamond/Brad Boner   39 Mx Cows\, 3-5 yr olds (9 head are older)\, Bred to Blk Bulls\, CF: March/April \nCullen Ranch   28 Blk Cows\, Mx Ages\, Bred to Blk Bull\, CF: April/May\, Shots: Vira Shield 6 Vl5\, Injectable Dectomax\, Poured w/Clean-up \nBrady Price   24 Blk/Bwf Cows\, SS\, Bred to Hereford & SinAngus Bulls\, CF: March 22 for 50 days\, Shots: Vira Shield 6+VL5\, Poured \nLeachman Cattle Co.   22 Char/Blk few Rd Cows\, Running Ages\, Bred to Leachman Char or Blk Bulls\, CF: Jan/Feb. \nRiley Morava   21 Mx Cows\, 10 yr olds\, Bred to Conneally Bulls\, CF: April 1 \nWoody Ranch   17 Mx Cows\, SS-ST\, Bred to Paintrock Blk Angus Bulls\, CF: Mid-June to End of June \nDavid Sherrod   15 Red Angus Cows\, Running Ages\, Bred to Schuler Red Angus Bulls\, CF: March 1 for 60 days\, Pre-breeding Shots: Bovi-Shield Gold FP 5 VL5\, Fall Shots at Preg Check: Guardian\, SafeGuard\, Poured \nBusy Bee Ranch   11 Mx Cows\, Running Ages\, Bred to Akaushi Wagyu Bulls\, CF: March/April few May \nRothschild Livestock   8 Mx Cows\, Mx Ages\, Bred to MR Angus Bulls\, CF: Mx\, Shots: Staybred 5\, Cattle Master Gold 5\, Oral Safeguard Wormer\, Poured \nGene Daly   4 Mx Cows\, ST\, Bred to SimAngus Bull\, CF: March/April \nTim & Nancy Fenster   7 Mx Cows\, ST\, Bred to Blk Bull\, CF: March/April\, Shots at Preg Check: Vit A & D\, Vira Shield 6+VL5 HB\, Guardian & Poured with Promectin B/Vetrimec \nScott Barber   1 Corr. Cow\, Mx Age\, Bred to Blk Angus Bull or Hereford Bull\, CF: April \n****1 Blue Roan Cow\, Mx Age\, Bred to Blk Angus Bull or Hereford Bull\, CF: April \nPJ Cattle   1 Mx Cow\, Mx Age\, Bred to Blk Angus or Hereford Bulls\, CF: April \nKevin Meyer   1 Mx Cow\, Mx Age\, CF: Mx \nMiddleton Land Co.   1 Mx Cow\, 5 yr old\, CF: Mx \n  \nPairs \nFox Ranch   4 Young Fall Pairs \nBusy Bee Ranch   4 Mx Cow Pairs\, Mx Ages \nMANY MORE CONSIGNMENTS BY SALE DAY \nCheck out www.torringtonlivestock.com for more consignments and to view sales and bid online!!! \nFOR MORE INFORMATION CALL 307-532-3333
URL:https://torringtonlivestock.com/event/monday-december-8th-2025-bred-cow-special/
END:VEVENT
END:VCALENDAR