BEGIN:VCALENDAR
VERSION:2.0
PRODID:-//Torrington Livestock Market - ECPv6.15.20//NONSGML v1.0//EN
CALSCALE:GREGORIAN
METHOD:PUBLISH
X-WR-CALNAME:Torrington Livestock Market
X-ORIGINAL-URL:https://torringtonlivestock.com
X-WR-CALDESC:Events for Torrington Livestock Market
REFRESH-INTERVAL;VALUE=DURATION:PT1H
X-Robots-Tag:noindex
X-PUBLISHED-TTL:PT1H
BEGIN:VTIMEZONE
TZID:America/Detroit
BEGIN:DAYLIGHT
TZOFFSETFROM:-0500
TZOFFSETTO:-0400
TZNAME:EDT
DTSTART:20240310T070000
END:DAYLIGHT
BEGIN:STANDARD
TZOFFSETFROM:-0400
TZOFFSETTO:-0500
TZNAME:EST
DTSTART:20241103T060000
END:STANDARD
BEGIN:DAYLIGHT
TZOFFSETFROM:-0500
TZOFFSETTO:-0400
TZNAME:EDT
DTSTART:20250309T070000
END:DAYLIGHT
BEGIN:STANDARD
TZOFFSETFROM:-0400
TZOFFSETTO:-0500
TZNAME:EST
DTSTART:20251102T060000
END:STANDARD
BEGIN:DAYLIGHT
TZOFFSETFROM:-0500
TZOFFSETTO:-0400
TZNAME:EDT
DTSTART:20260308T070000
END:DAYLIGHT
BEGIN:STANDARD
TZOFFSETFROM:-0400
TZOFFSETTO:-0500
TZNAME:EST
DTSTART:20261101T060000
END:STANDARD
END:VTIMEZONE
BEGIN:VEVENT
DTSTART;VALUE=DATE:20251217
DTEND;VALUE=DATE:20251218
DTSTAMP:20260424T160218
CREATED:20251104T041607Z
LAST-MODIFIED:20251223T142809Z
UID:4677-1765929600-1766015999@torringtonlivestock.com
SUMMARY:Wednesday\, December 17th\, 2025 - Feeder/Calf Special
DESCRIPTION:TORRINGTON LIVESTOCK MARKETS \nWednesday\, December 17\, 2025\nFeeder & Calf Special\nStarting at 9:00am\nFeeders \nHouts Cattle Co.   1500 Mx Strs & Hfrs\, Mostly 700-875#\, Complete Modified Live Vac. Program\, Shots: 1 Round of CDT\, BoviShield 5 Coronavirus\, 2 Rounds of Vision 7/Somnus w/ Spur\, BoviShield Gold 5\, Dewormed\, Poured when turned out\, Ran on grass all summer long; last 60 days been running out on oat pasture\, Green \nTY Cattle Co./Laramie   29 Blk Hfrs\, 1000#\, PTO @ ranch\, Complete Vac. Program\, No Implants\, Coming off grass\, High Elevation \nJerry Shimic   27 Blk Hfrs\, 675#\, PTO @ barn\, Weaned a long time\, Running out\, Hay Fed\, One Round of Shots\, Home Raised \nConant Creek Cattle Co.   24 Blk Hfrs\, 875#\, PTO @ barn\, Complete Vac. Program\, Coming off grass \nT Bar L Livestock   17 Blk/Rd Hfrs\, 850-900#\, PTO @ barn or Aborted\, Complete Vac. Program\, Coming off grass \nBill White Ranches   8 Mx Strs\, 800-1100#\, Complete Vac. Program\, Grass Fed Only \nSlipKnot Ranch   6 Mx Strs & Hfrs. 800#\, Complete Vac. Program\, Coming off grass \nRidgeline Ranch   6 Mx Strs & Hfrs\, 800#\, Complete Vac. Program \nSlipKnot Ranch   4 Mx Strs\, 800#\, Complete Vac. Program\, Coming off grass \n2 J Ranch   3 Mx Hfr\, 1100# \nWarren Ranch   3 Blk /Bwf Hfrs\, 800#\, PTO @ ranch\, Complete Vac. Program\, Coming off grass \nMcCade Bingham   3 Blk/Bwf Hfrs\, 850#\, PTO @ ranch\, Complete Vac. Program\, Coming off grass \nNewman Ranch   2 Blk Hfrs\, 1000#\, PTO @ ranch\, Complete Vac. Program\, Coming off grass \nMurdoch Ranch   2 Blk Hfrs\, 775-875#\, PTO @ barn\, Complete Vac. Program\, Coming off grass \nRoth Land & Cattle   1 Red Angus Hfr\, 1000#\, PTO @ barn\, Complete Vac. Program\, Comng off grass\, Home Raised \nRough Diamond Ranch   1 Bwf Hfr\, 975#\, PTO @ barn\, Complete Vac. Program\, Coming off grass \nRadford Ranch   1 Blk Hfr\, 800#\, PTO @ barn\, Complete Vac. Program\, Coming off grass \nDL Jackson   1 Blk Str\, 650-725#\, Complete Vac. Program\, Coming off grass \n  \nWeaned Calves \nSlip Knot Ranch   200 Mx Strs & Hfrs\, 500#\, Weaned 45 days\, Running out  on Hay Meadows\, Cake Broke\, Branding Shots: Vision 7\, Vista Once SQ\, Pre-cond. Shots: Vision 7\, Vista Once SQ \nWard Farms   185 Red/Char-x few Blk Strs & Hfrs\, 650-700#\, Weaned 30 days\, Bunk Broke\, Hay Fed\, Shots at Birth: Alpha 7\, Branding Shots: Bovi-Shield Gold 5\, Vision 7 w/Somnus\, Pre-cond.Shots: Bovi-Shield Gold 5\, Vision 7 w/Somnus\, Nasalgen\, NO Replacements kept \nTY Cattle Co./Laramie   108 Blk Hfrs\, 375-425$\, Weaned 45 days\, Been on Grass/Alfalfa Hay Mix\, Cake Broke\, Branding and Pre-cond. Shots: Pyramid 5+Presponse\, Ultrabac 7\, No Implants\, High Elevation \n****108 Blk Strs\, 375-425$\, Weaned 45 days\, Been on Grass/Alfalfa Hay Mix\, Cake Broke\, Branding and Pre-cond. Shots: Pyramid 5+Presponse\, Ultrabac 7\, No Implants\, High Elevation \nFlying Diamond   190 Mostly Blk Strs & Hfrs\, 350-550#\, Weaned 60+ days\, Bunk Broke\, Been on a Light Grower Ration\, Branding Shots; Vista Once SQ\, Vision 7 Somnus w/Spur\, Weaning Shots: Nasalgen 3 PMH\, SafeGuard\, Ivermectin Pour On\, Booster Shots: Pyramid 5+Presponse\, Vision 7 Somnus\, I-Site Pinkeye\, No Implants \nCameron & Brandon Carlson   125 Char/Blk/Char-x Strs & Hfrs\, 550-750#\, Weaned 45 days\, Bunk Broke\, Been on a High Roughage Grower Ration\, Shots at Birth: Multimin\, Alpha 7\, Branding Shots: Multimin\, 7-way\,C & D\, Pyramid 5+Presponse\, Pinkeye\, Pre-cond. Shots: Bovi-Shield Gold One Shot\, Vision 7 w/Somnus+Spur \nDoug\, Susie & Warren Carr   121 Mx Strs & Hfrs\, 375-475#\, Weaned 60 days\, Hay Fed\, Branding Shots & Pre-cond. Shots: Pyramid 5+Presponse SQ\, Vision 7 w/Somnus + Spur\, Poured w/Dectomax \nPlatt Cattle Co   100 Blk few Red Hfrs\, 450-650#\, Weaned 90 days\, Been on Alfalfa/Sudan Hay\, Branding Shots:  Ultrbac 8\, Weaning Shots:  Pyramid 5+Presponse SQ\, Ultrabac 8\, Vit A & D\, Poured w/Cydectin Treated with a preventative dose of Corid for Coccidiosis\, No Implants\, Sired by Ken Haas Angus Bulls\, Green \nRing Tail R Cattle Co.   96 Mostly Red Strs & Hfrs\, 600#\, Weaned since Oct.\, Bunk Broke\, Been on a Light Grower Ration\, Salt & Mineral Program\, Branding Shots and Pre-cond. Shots: Bovi-Shield Gold One Shot\, 7-way\, Steers are Knife Cut\, High Desert Calves\, Home Raised \nPowder River Land & Cattle LTD   82 Char-x few Blk/Rd Strs & Hfrs\, 430-610#\, Weaned since Nov 6\, Hay Fed\, Cake Broke\, Branding Shots\, Pre-cond. Shots: Vista Once\, Ultrabac 7 w/Somubac\, No Implants\, Steers are Knife Cut \nZN Ranch   75 Blk/Bwf Strs & Hfrs\, 300-450#\, Weaned 45 days\, Running out on Hay Meadows\, Complete Vac. Program \nKen & Kyler Crossland   71 Mostly Blk few Red SimAngus Strs & Hfrs\, 750#\, Weaned 77 days\, Bunk Broke\, Been on Grass Alfalfa Hay Mix and 2.1 pounds of gain per day\, Branding Shots:  7-way\, Vira Shield 6\, Valcor Dewormer\, Weaning Shots: 7-way\, Vira Shield 6\, Valcor Dewormer \nPoison Creek Ranch/Jason Thornock   70 Mx Strs & Hfrs\, 475-600#\, Weaned 60 days\, Been on Long Stem Hay\, 2 Rounds of Shots: Pyramid 5+Presponse\, Vision 8\, Steers are Knife Cut\, NHTC Certified \nNewman Ranch   66 Mx Strs\, 600-725#\, Weaned 45 days\, Bunk Broke\, Been on a Grower Ration\, Branding Shots: Vision 7\, Vista\, Endovac\, Implanted w/Ralgro\, Weaning Shots: Vision 7 Somnus\, Vista\, Ivomec\, \nCarbon Creek Cattle Co.   60 Blk Angus Hfrs\, 475#\, Weaned 30+ days\, Grass/Alfalfa Hay Mix\, 20% CattleActive Stress Tubs\, Branding Shots: Pyramid 5_Presponse\, Vision 7\, Pre-cond. Shots: Pyramid 5+Presponse\, Vision 7\, MultiMin\, Ivomec Pour On\, Bangs Vac.\, Safeguard Drench 30 days post weaning\, High Altitude\, Producer All Natural \nThane Ashenhurst   50 Blk/Rd Strs & Hfrs\, 600#\, Weaned 60+ days\, Bunk Broke\, Been on High Quality Hay and Lick Tubs\, Branding Shots\, Pre-cond. Shots: Inforce 3\, Ultra Choice 7\, One Shot BVD\, Producer All Natural \nJennifer Scheer   44 Blk/Bwf/Rd Hfrs\, 500-525#\, Weaned 75+ days\, Bunk Broke\, Been on a Light Roughage Grower Ration\, 3 Rounds of Shots; a Complete Modified Live Vac. Program\, Complete Wormer Program\, Some of the Bigger Heifers are Bangs Vac. \nReverse JL Bar Cattle Co.   40 Blk/Bwf Strs & Hfrs\, 550-600#\, Weaned since Oct. 1\, Running out on Hay Field Meadows\, Free Choice Mineral Program\, Branding Shots: Bovi-Shield Gold One Shot\, Ultrabac 7 \, Multimin 90\, Endovac\, Synovex C\, Pre-cond. Shots: Bovi-Shield Gold One Shot\, Ultrabac 7\, Multimin 90\, Ivomectrin Back Pour\, Ranch has BQA Certification\, High Altitude; running at 11\,500#\, Diamond Peak Genetics\, Electric Fence Broke \nThoman Brothers   40 Blk/Rd Strs & Hfrs\, 350-450#\, Weaned 75+ days\, Bunk Broke\, Been on a Light Grower Ration\, Shots at Birth: 8-way\, Multimin\, Selenium\, Branding Shots: Vista Once\, 8-way\, Multimin\, Pre-cond. Shots: Vista Once\, 8-way\, Ivermectin Pour On \nWyo Land & Livestock   38 Blk/Rd Strs & Hfrs\, 425-800#\, Weaned 30 to 60 days\, Been on Grass/Alfalfa Hay Mix\, Pre-cond. Shots: 8-way\, Bovi-Shield Gold\, Producer All Natural \nLCCC/Dean Finnerty   35 Roping Strs & Hfrs\, 350-550#\, Hay Feed\, Been Roped \nOSO Corporation   34 Blk Angus Heifers\, Weaned 60 days\, Bunk Broke\, Been on a Silage Ration\, Branding Shots: 7-way\, One Shot\, Inforce\, 7-way w/Somnus\, Bovi-Shield Gold One Shot \nS S Ranch   70 Blk Strs\, 450-500#\, Weaned 30 days\, Running out\, Hay Fed\, 2 Rounds of Shots: Vision 7 w/Somnus\, Pyramid 5+Presponse\, Poured w/Clean-up\, Sired by SS Ranch Bulls\, Home Raised \nJason Goertz   27 Red Angus Strs/Hfrs & Bull Calves\, 450#\, Weaned 60 days\, Bunk Broke\, Been on Grass/Alfalfa Hay & Oats\, Branding Shots: Vision 7\, Pyramid 5\, Safeguard\, Weaning Shots: Vision 7 Triangle 4\, Colorado Serum Pasteurella \nDarr Family Living Trust   27 Blk angus Strs\, 580#\, Weaned 82 days\, Bunk Broke\, Been on a Grower Ration and Grass Hay\, Branding Shots: Endovac\, Vision 7 w/Somnus\, Vista Once SQ\, Pre-cond. Shots: Endovac\, Vision 7 w/Somnus\, Vista Once SQ\, Weaning Shots: Multimin 90\, Dectomax\, Been on Vitafirm Mineral Program\, Home Raised \nDustin & Amy Haas   23 Blk Strs & Hfrs\, 550-600#\, Weaned 60 days\, Supplemented with Oat/Alfalfa Hay and Lick Tubs\, Bunk Broke\, Optimizer at Birth\, Branding Shots: Cattle Master Gold FP5 VL5\, Ultrabac 8\, C & D\, Poured\, Pre-cond. Shots: Cattle Master Gold FP5 VL5\, Ultrabac 8\, Strs are Banded and had C&D Tetnus\, No Implants \nShmidl Hay & Cattle Co.   22 Blk Angus  & F1 Cross Strs\, 500-600#\, Weaned 35 days\, Bunk Broke\, Fed Alfalfa Hay\, Distillers Cake\, Free Choice Mineral Program\, Branding Shots: 7-way\, Bovi-Shield Gold One Shot\, Deworm Poured\, Pre-cond. Shots: 7-way\, Bovi-Shield Gold One Shot\, Weaning Shots: 7-way\, Bovi-Shield Gold One Shot\, Deworm Poured\, No Implants\, Home Raised \nDakota & Joce Forkner   20 Blk/Rd Hfrs\, 450-475#\, Weaned 60+ days\, Running out\, Cake Broke\, Branding & Pre-cond. Shots: Vista Once\, 7-way\, Weaning Shots: Pyramid 7 \nBobby George   20 Blk Hfrs\, 575#\, Weaned 35+ days\, Hay Fed\, Branding Shots\, Pre-cond. Shots\, Home Raised\, Replacement Quality \nDancing Winds Cattle Co.   19 Mx Strs & Hfrs\, 450-600#\, Weaned 45+ days\, Free Choice Hay\, Lick Tubs\, Bunk Broke\, Branding Shots (will be calling in) \nMargie Schneider   14 Mx Strs & Hfrs\, 500#\, Weaned since October\, Running out on irrigated grass pivots\, On a Salt & Mineral Program\, Electric Fence Broke\, Shots at Birth: Alpha 7\, Branding Shots: Alpha 7\, Vista Once\, Multimin\, Weaning Shots: Vista Once\, Alpha 7\, Booster Shots in November: Inforce 3\, Back Poured w/Clean-up \nEly Ranch   13 Mx Strs & Hfrs\, 475-585#\, Weaned 45+ days\, Bunk Broke\, Hay Fed\, Branding and Pre-cond. Shots \nA W Manning   6 Blk/Bwf Strs & Hfrs\, 400#\, Weaned 90 days\, Bunk Broke\, Hay Fed\, Calf Creep\, Branding Shots\, Pre-cond. Shots: 7-way\, Multi-min \n****6 Red/Rwf Strs & Hfrs\, 500#. Weaned 90 days\, Bunk Broke\, Hay Fed\, Calf Creep\, Branding Shots\, Pre-cond. Shots: 7-way\, Multi-min \nRodney Wagner   10 Mx Strs & Hfrs\, 400-550#\, Weaned 60 days\, Hay Fed\, Branding Shots: Vista 5\, Ultrabac 7\, Weaning Shots: Vista 5\, Ultrabac 7 \nRyan Nichols   10 Blk Hfrs\, 550#\, Weaned 75 days\, Bunk Broke\, Been on Beet Pulp\, Free Choice grass Hay\, Shots at Birth: Alpha 7\, Multimin 90\, Branding Shots: Vision 7 w/Somnus\, Pyramid 5 + Presponse\, Pre-cond. Shots:  Vision 7 w/Somnus\, Pyramid 5+Presponse\, No Implants\, SimAngus Sired \nSusan Reisdorfer   4 Red/Char Strs & Hfrs\, 475-525#\, Weaned 10 days\, Hay Fed\, 2 Rounds of Shots\, Poured\, Heifer is Bangs Vac. \nLeaning T Livestock   3 Blk Strs\, 450#\, Weaned 60 days\, Hay Fed\, Branding Shots: One Shot BVD\, Vision 7\, Inforce 3\, Pre-cond. Shots: Vision 7 w/Somnus\, One Shot \nBrandon & Brooke Grasselin   2 Red Hfrs\, 350-450#\, Weaned 90 days\, Running out on grass\, Freec Choice Hay\, Free Choice Mineral \n  \nPre-cond. Calves \n52 Ranch/Steve Paisley   130 Blk/Bwf Strs & Hfrs\, 540-560#\, Branding Shots: Pyramid 5+Presponse\, Ultrabac 7+Somubac\, Pre-cond. Shots: Express 5+SH\, Zoetis One Shot Ultra 7\, Calves are all Angus and Angus/Hereford-x\, Calving Dates: March 18 thru June 1 \nBill Nichols   70 Blk/Bwf Strs\, 500-650#\, Shots at Birth: Alpha 7\, Multim-min\, Branding  Shots: Pyramid 5+Presponse\, Vision 7 w/Somnus\, Precond Shots: Pyramid 5+Presponse\, Vision 7 w/Somnus\, Autogenous Bacterium\, Poured\, No Implants\, Home Raised\, Running out on Stalks\, Electric Fence Broke \nWild Sunrise Livestock   55 Mx Strs & Hfrs\, 400-500#\, Branding and Pre-Cond Shots \nDaniel Ozuna   32 Blk Sim/Angus Strs & Hfrs\, 400-450#\, Branding Shots\, Pre-cond. Shots: 7-way\, Wormer\, Steers are Knife Cut \nHumility Before Honor   29 Mx Str & Bull Calves\, 500-550#\, Spring Shots\, Pre-cond. Shots (Nov. 29): Vista Once\, UltraBac 7 Somnubac\, High Elevation (8000) \nEly Munoz   5 Blk Strs\, 400-450#\, Branding Shots\, Pre-cond. Shots: Vista 7\, Mulitmin\, Inforce 3\, Running out grass\, Started on Millet Hay along side of mothers \nT Bar L Livestock   4 Blk Bull/Str Calves\, 550-625#\, Branding & Pre-cond. Shots \nCalves \nRidgeline Ranch   6 Char-x Strs & Hfrs\, 225# \nDoug Barkman   5 Blk Strs\, 400#\, Branding Shots; 7-way \nDoug Barkman   5 Blk Strs\, 400#\, Branding Shots; 7-way \nMANY MORE CONSIGNMENTS BY SALE DAY \nCheck out www.torringtonlivestock.com for more consignments and to view sales and bid online!!! \nFOR MORE INFORMATION CALL 307-532-3333
URL:https://torringtonlivestock.com/event/wednesday-december-17th-2025-feeder-calf-special/
END:VEVENT
END:VCALENDAR