BEGIN:VCALENDAR
VERSION:2.0
PRODID:-//Torrington Livestock Market - ECPv6.15.20//NONSGML v1.0//EN
CALSCALE:GREGORIAN
METHOD:PUBLISH
X-WR-CALNAME:Torrington Livestock Market
X-ORIGINAL-URL:https://torringtonlivestock.com
X-WR-CALDESC:Events for Torrington Livestock Market
REFRESH-INTERVAL;VALUE=DURATION:PT1H
X-Robots-Tag:noindex
X-PUBLISHED-TTL:PT1H
BEGIN:VTIMEZONE
TZID:America/Detroit
BEGIN:DAYLIGHT
TZOFFSETFROM:-0500
TZOFFSETTO:-0400
TZNAME:EDT
DTSTART:20240310T070000
END:DAYLIGHT
BEGIN:STANDARD
TZOFFSETFROM:-0400
TZOFFSETTO:-0500
TZNAME:EST
DTSTART:20241103T060000
END:STANDARD
BEGIN:DAYLIGHT
TZOFFSETFROM:-0500
TZOFFSETTO:-0400
TZNAME:EDT
DTSTART:20250309T070000
END:DAYLIGHT
BEGIN:STANDARD
TZOFFSETFROM:-0400
TZOFFSETTO:-0500
TZNAME:EST
DTSTART:20251102T060000
END:STANDARD
BEGIN:DAYLIGHT
TZOFFSETFROM:-0500
TZOFFSETTO:-0400
TZNAME:EDT
DTSTART:20260308T070000
END:DAYLIGHT
BEGIN:STANDARD
TZOFFSETFROM:-0400
TZOFFSETTO:-0500
TZNAME:EST
DTSTART:20261101T060000
END:STANDARD
END:VTIMEZONE
BEGIN:VEVENT
DTSTART;VALUE=DATE:20251219
DTEND;VALUE=DATE:20251220
DTSTAMP:20260424T160308
CREATED:20251104T041636Z
LAST-MODIFIED:20251223T142828Z
UID:4679-1766102400-1766188799@torringtonlivestock.com
SUMMARY:Friday\, December 19th\, 2025 - All Classes
DESCRIPTION:TORRINGTON LIVESTOCK MARKETS \nFriday\, December 19\, 2025\n All Classes\nStarting at 9:00 am MDT with Weigh-ups\nBred Cows/Heifers \nCarbon Creek Ranch   23 Blk Cows\, ST\, Bred to Top Tier Registered Angus Bulls\, CF: May/June \nHouts Cattle Co.   10 Blk/Rd Hfrs\, CF: Mx \nH Cross Livestock   6 Blk/Rd Hfrs\, CF: Mx \nT Bar L Livestock   3 Blk/Bwf Hfrs\, CF: Mx \nT Y Cattle/Laramie   2 Blk Hfrs\, CF: Mx \nJerry Shimic   1 Blk Hfr\, CF: Mx \nIsom Cattle   1 Mx Cow\, Mx Ages\, Bred to Blk Angus Bull\, CF: April/May \n  \nPairs \nKenny Williams   2 Mx Cow Pairs\, Mx Ages \n  \nFeeders/Calves \nLCCC/Dean Finnerty   32 Mx Strs & Hfrs\, 350-550#\, Weaned a long time\, Hay Fed\, Been Roped \nIsom Cattle Co.   9 Mx Strs & Hfrs\, 300-350#\, Weaned 45 days\, Grass/Alfalfa Hay Fed\, 2 Rounds of Shots: 8-way\, Vira Shield 6\, Titanium 5 \nT Bar L Livestock   2 Mx Hfrs\, 800# \nBill White Ranches   1 Mx Hfr\, 1000#\, Exposed \nWaddle Limousin   1 Blk Hfr\, 800# \n  \nWeighups \nTom Dixon   95 Mx Cows/Hfretts (PTO @ ranch—30 hd is Hfretts) \nGraves Ranch Inc.   50 Hereford Cows/Hfretts \nKerbs 4 Bar   40 Mx Cows/Hfretts \nHill Land & Livestock   37 Mx Hfretts \nOverland Trail   33 Mx Cows \nThoman Brothers   30 Mx Cows \nT Bar L Livestock   30 Mx Cows/Hfretts/Bulls \nY Z Limited   25 Mx Cows \nMowry Ranch   21 Mx Bulls \nBroken Box Ranch Inc.   16 Mx Cows\, Open/Exposed (Mx Ages\, Bred to Hereford Bulls\, CF: May/June) \nErnie Giorgis   15 Mx Cows \nAlbert Prado   15 Mx Cows \nDoug Dunlap & Wanda Toombs   14 Blk Cows\, Exposed\, Mx Ages\, Bred to Blk Bulls\, CF: March 20 for 60 days\, Fall Vac. & Poured \nRob Boner   14 Mx Cows/Bulls \nBruce Eller   10 Mx Cows \nClay Isom   10 Mx Cows \nLazy V Six   9 Mx Cows \nKenny Williams   9 Blk Cows/Bulls \nTerry Brant   5 Mx Cows\, Exposed\, Mx Ages\, Bred to K2 Red Angus Bull\, CF: Summer thru Fall\, Shots: Cattle Master\, Staybred\, Ivomec Pour On \n****2 Mx Bull and Cow (open #769) \nBill White Ranches   5 Mx Cows/Bulls \nSlipknot Ranch   5 Blk/Rd Cows \nEly Ranch   4 Mx Bulls \nGerald Sterkel   4 Blk/Char Cows \nTaman Staman   4 Blk Cows \nWaddle Limonsin   4 Mx Cows/Bulls \nDavid Birkemeyer   3 Mx Cows/Bull \nJohn Riehle   3 Mx Cows/Bull \nDoug Dunlap & Wanda Toombs   2 Blk Bulls \nTraphagam LLC   2 Mx Cows \nLaura Leaf Livestock   1 Cow \nJason Goertz   1 Mx Cow \nTodd Hixon   1 Blk Cow \nQuinn Hunter   1 Cow \nEldon Baldwin   1 Bull \nKelly Crane   1 Cow \nFalls Ranch   1 Blk Bull \nRobert Stine   1 Blk Cow \nMANY MORE CONSIGNMENTS BY SALE DAY \nCheck out www.torringtonlivestock.com for more consignments and to view sales and bid online!!! \nFOR MORE INFORMATION CALL 307-532-3333
URL:https://torringtonlivestock.com/event/friday-december-19th-2025-all-classes/
END:VEVENT
END:VCALENDAR