BEGIN:VCALENDAR
VERSION:2.0
PRODID:-//Torrington Livestock Market - ECPv6.15.20//NONSGML v1.0//EN
CALSCALE:GREGORIAN
METHOD:PUBLISH
X-ORIGINAL-URL:https://torringtonlivestock.com
X-WR-CALDESC:Events for Torrington Livestock Market
REFRESH-INTERVAL;VALUE=DURATION:PT1H
X-Robots-Tag:noindex
X-PUBLISHED-TTL:PT1H
BEGIN:VTIMEZONE
TZID:America/Denver
BEGIN:DAYLIGHT
TZOFFSETFROM:-0700
TZOFFSETTO:-0600
TZNAME:MDT
DTSTART:20250309T090000
END:DAYLIGHT
BEGIN:STANDARD
TZOFFSETFROM:-0600
TZOFFSETTO:-0700
TZNAME:MST
DTSTART:20251102T080000
END:STANDARD
BEGIN:DAYLIGHT
TZOFFSETFROM:-0700
TZOFFSETTO:-0600
TZNAME:MDT
DTSTART:20260308T090000
END:DAYLIGHT
BEGIN:STANDARD
TZOFFSETFROM:-0600
TZOFFSETTO:-0700
TZNAME:MST
DTSTART:20261101T080000
END:STANDARD
BEGIN:DAYLIGHT
TZOFFSETFROM:-0700
TZOFFSETTO:-0600
TZNAME:MDT
DTSTART:20270314T090000
END:DAYLIGHT
BEGIN:STANDARD
TZOFFSETFROM:-0600
TZOFFSETTO:-0700
TZNAME:MST
DTSTART:20271107T080000
END:STANDARD
END:VTIMEZONE
BEGIN:VEVENT
DTSTART;TZID=America/Denver:20260105T110000
DTEND;TZID=America/Denver:20260105T180000
DTSTAMP:20260424T142841
CREATED:20251212T203836Z
LAST-MODIFIED:20260118T011929Z
UID:4929-1767610800-1767636000@torringtonlivestock.com
SUMMARY:Monday\, January 5th - Bred Cow Special
DESCRIPTION:TORRINGTON LIVESTOCK MARKETS \nMonday\, January 5th\, 2025\n All Classes\nStarting at 11:00 am MDT with Weigh-ups;\nBreds to Sell at Noon – Starting with Bred Heifers – Followed by Bred Cows\nComplete or Partial Dispersals \nKU Ranch   34 Blk Cows\, 4-7 yr olds\, Complete Dispersal\, AI’ed to ABS Global-Arrowhead\, CF: April 7\, Shots: Vira Shield 6 VL5 (boostered yearly)\, Poured with Cydectin and Clean Up 14 days apart in Spring and Fall\, Summered at High Elevation\, Grass Fed Only\, Year Round Mineral Program \n  \nBred Heifers \nJP Werner & Sons   205 Fancy Red Angus Hfrs\, 1100#\, AI’D Bred to Bieber Blue Chip (Bw -5.7\, CE 18\, WW-69\, YW-112\, MM 24)\, Cleaned up w/Low Birth Weight Red Angus Bulls\, Ultra-sounded to CF: 117 head AI’D  Bred to CF: March 5th for 21 days; 60 head-Bull Bred to CF: March 27 for 21 days; 19 head -Bull Bred to CF: April 17th for 21 days ; 9 head – Bull Bred to CF: May 9 for 21 days\,  Shots at Preg Check: Scour Bos 9\, Vira Shield 5+VL5\, Poured w/Clean-up\, Complete Vac. Program as Calves\, Summered on Laramie Peak at over 9\,000’\, Fancy Home Raised Heifers out of closed Red Angus herd that has been AI’D for over 35 years \nJason & Molly Folot   100 Fancy Blk Hfrs\, 1150#\, AI’d Bred to ABS Patriarch\, CF: March 1st \n****40 Fancy Hfrs\, 1150#\, Bred to Calving Ease Blk Bulls\, CF: March 20 for 20 days \n****10 Fancy Hfrs\, 1150#\, Bred to Calving Ease Blk Bulls\, CF: April 9 for 20 days \nFall Shots: Vira Shield 6+VL5\, Vision 7 Somnus w/Spur\, Poured w/Clean-up\, All have been on a good nutrition program\, Gentle Temperment\, Electric Fence Broke\, Originated from Tillard Brothers as Calves\, Not rebranded \n7X Cattle   19 Blk Hfrs\, 1100#\, Bred to Low Birth Weight\, Calving Ease Riverbend Bulls\, CF: March \n****36 Blk Hfrs\, 1100#\, Bred to Low Birth Weight\, Calving Ease Riverbend Bulls\, CF: April \nAll Heifers have had Shots on April 15/25: Vira Shield 6 VL5\, Ultrabac 8\, Cattlemaster Gold FP5\, Poured\, Fall Shots on Oct. 16/25: Vision 8\, Vira Shield 6 VL5\, Poured w/Ivermectin\, Ran at High Elevation \nClinton & Jeanett Breeden   20 Hereford Hfrs\, Bred to Low Birth Weight ZummBrunnen Angus or Ochsner Blk Angus Bulls\, CF: March 1\, Shots: Cattle Master 4 +VL5\, Poured \nMike Wakkuri   17 Blk Hfrs\, Bred to Ochsner-Roth Low Birth Weight Blk Angus Bulls\, CF: Feb/March\, Bangs Vac.\, Shots: Vira Shield 6 +VL5\, Poured w/Decotmax on Dec. 11th \nMike & Valorie Heatherly   15 Blk (1 Char) Hfrs\, 1200#\, Bred to Rock Lake Angus & Micheli Angus Bulls\, CF: April\, Shots: Bovi-Shield Gold FP5 VL5\, ScourGuard 4 KC\, Poured w/Dectomax \nLane Stevenson    4 Blk Cows\, 1250#\, Bred to Blk Bull\, CF: April 15 \nPokorny Ranch   4 Blk Hfrs\, Mo\, Bred to Blk Bulls\, CF: March 1\, High Elevation\, Mostly Home Raised \nJoel Alworth   1 Bwf Hfr\, Bred to Blk Bull\, CF: End of June \nDon Buffington   1 Red Hfr\, CF: May/June \n  \nBred Cows \nMuleshoe Land & Cattle   50 Blk few Bwf Cows\, 1250#\, ST\, Bred to Dewey Schaffer Angus Bulls\, CF: April 10 for 50 days\, Shots: Vira Shield 6 VL5\, Good set of ST range cows\, Not Pampered and still raising above average calves \nFMJ Ranch   40 Blk Cows\, Mostly 3’s to SM (few Older)\, Bred to Blk Bulls\, CF: March 1\, High Elevation\, Mostly Home Raised \nZN Ranch   35 Blk/Bwf Cows\, SM\, Bred to Blk Bulls or Hereford Bulls\, CF: May 10\, Shots: Vira Shield 5\, Vision 7\, Poured \nAschenbrenner Family   35 Blk/Bwf Cows\, 3-6 yr olds\, Bred to Blk Bulls and Hereford Bulls\, CF: Jan. 15\, Shots in Dec.: Vira Shield 6+VL5\, Alpha7\, Poured w/Ivermic \nMike & Valori Heatherly   16 Blk Angus Cows\, Mx Ages\, Bred to Reyes\, Bowman\, Leachman Stablizer\, M Diamond/Lisco Bulls\, CF: April\, Shots: Bovi-Shield Gold FP 5 VL5\, Poured with Dectomax \n****9 Char Cows\, Mx Ages\, Bred to Leachman Charolais & Rale Charolais Bulls\, CF: April\, Shots: Bovi-Shield Gold FP 5 VL5\, Poured with Dectomax \nPokorny Ranch   23 Blk Cows\, ST\,  Bred to Blk Bulls\, CF: March 1\, High Elevation\, Mostly Home Raised \nClinton & Jeanett Breeden   20 Hereford Cows\, Mx Ages\, Bred to Polled Hereford Bulls\, CF: March 20\, Shots: Cattle Master 4 LV5\, Poured \nRay Blackford   20 Blk Angus Cows\, 1250#\, 4 yr olds-ST\, Bred to Basin Angus and Dewey Schaffer Angus Bulls\, CF: April 10\, Shots: Vira Shield 6 VL5\, Vision 7\, Not Pampered\, Running out on Irrigated Pasture \nAlene Walker   20 Blk Angus Cows\, 1250#\, Running Ages\, Bred to Dewey Schaffer Angus Bulls\, CF: April 10 for 50 days\, Shots: Vira Shield 6 VL5\, Vision 7\, Poured w/Clean-up\, Not Pampered\, Running out on Irrigated Pasture \nRedmon Ranch   20 Blk Cows\, Mx Ages\, Bred to Sim/Angus Bulls\, CF: May/June\, Shots:  Vira Shield 6\, Vision 7\, 1-iron\, High Elevation \nTroy & Tanne Neiberger   9 Mx Cows\, 4 & 5 yr olds\, Bred to Blk Angus Bulls\, CF: End of July/August \nMatt & Tandy Dockery   8 Blk Cows\, ST\, Bred to ZumBrunnen Angus or Ochsner -Roth Blk Bulls\, CF: March 25 for 50 days\, Shots: C & D\, Vira Shield 6 VL5\, Poured\, Running Out \nWade Chotvacs   4 Blk Cows\, 4-7 yr olds\, AI’ed to ABS Global-Arrowhead\, CF: April 7\, Shots: Vira Shield 6 VL5 (boostered yearly)\, Poured with Cydectine and Clean Up 14 days apart in Spring and Fall\, Summered at High Elevation\, Grass Fed Only\, Year Round Mineral Program \nJason Taylor   2 Blk Cows\, ST\, Bred to Dewey Schaffer Angus Bulls\, CF: April 10 for 50 days\, Shots:  Vira Shield 6 VL5\, Vision 7\, Poured w/Clean-up \nLeachman Cattle   2 Cows. Mx Ages\, Bred to Blk or Char Leachman Bulls\, CF: Mx \nDon Buffington   1 Red Cow\, 8 yr old\, Bred to Red Angus Bull\, CF: March/April \n MANY MORE CONSIGNMENTS BY SALE DAY \nCheck out www.torringtonlivestock.com for more consignments and to view sales and bid online!!! \nFOR MORE INFORMATION CALL 307-532-3333
URL:https://torringtonlivestock.com/event/friday-january-5th-all-classes/
END:VEVENT
END:VCALENDAR