BEGIN:VCALENDAR
VERSION:2.0
PRODID:-//Torrington Livestock Market - ECPv6.15.20//NONSGML v1.0//EN
CALSCALE:GREGORIAN
METHOD:PUBLISH
X-WR-CALNAME:Torrington Livestock Market
X-ORIGINAL-URL:https://torringtonlivestock.com
X-WR-CALDESC:Events for Torrington Livestock Market
REFRESH-INTERVAL;VALUE=DURATION:PT1H
X-Robots-Tag:noindex
X-PUBLISHED-TTL:PT1H
BEGIN:VTIMEZONE
TZID:America/Denver
BEGIN:DAYLIGHT
TZOFFSETFROM:-0700
TZOFFSETTO:-0600
TZNAME:MDT
DTSTART:20250309T090000
END:DAYLIGHT
BEGIN:STANDARD
TZOFFSETFROM:-0600
TZOFFSETTO:-0700
TZNAME:MST
DTSTART:20251102T080000
END:STANDARD
BEGIN:DAYLIGHT
TZOFFSETFROM:-0700
TZOFFSETTO:-0600
TZNAME:MDT
DTSTART:20260308T090000
END:DAYLIGHT
BEGIN:STANDARD
TZOFFSETFROM:-0600
TZOFFSETTO:-0700
TZNAME:MST
DTSTART:20261101T080000
END:STANDARD
BEGIN:DAYLIGHT
TZOFFSETFROM:-0700
TZOFFSETTO:-0600
TZNAME:MDT
DTSTART:20270314T090000
END:DAYLIGHT
BEGIN:STANDARD
TZOFFSETFROM:-0600
TZOFFSETTO:-0700
TZNAME:MST
DTSTART:20271107T080000
END:STANDARD
END:VTIMEZONE
BEGIN:VEVENT
DTSTART;VALUE=DATE:20260107
DTEND;VALUE=DATE:20260108
DTSTAMP:20260424T142604
CREATED:20251212T203942Z
LAST-MODIFIED:20260118T011945Z
UID:4932-1767744000-1767830399@torringtonlivestock.com
SUMMARY:Wednesday\, January 7th\, 2026 - Feeder/Calf Special
DESCRIPTION:TORRINGTON LIVESTOCK MARKETS \nWednesday\, January 7th\, 2025\nFeeder & Calf Special\nStarting at 9:00am\nFeeders \nNine Iron Ranch/Luke Lungren   150 Mostly Blk few Rd Hfrs\, 750-800#\, Guaranteed Open\, Weaned a long time\, Bunk Broke\, Been on a Light Grower Ration of Silage\, Beet Pulp\, Hay\, NO Corn or Grain\, Complete Vac. Program\, No Implants \n****120 Blk few Rd Strs\, 750-800#\, Weaned a long time\, Bunk Broke\, Been on a Light Grower Ration of Silage\, Beet Pulp\, Hay\, NO Corn or Grain\, Complete Vac. Program\, No Implants \nChaulk Creek Cattle Co.   65 Blk/Bwf Strs\, 800-850#\, Weaned 90+ days\, Bunk Broke\, High Roughage Ration (No Grain added)\, Been on a Mineral Program\, Branding and Pre-cond. Shots: Visin 7w/Somnus\, Pyramid 5+Presponse SQ\, Wormed\, Sired by Ochsner-Roth\, ZumBrunnen Angus Bulls and Ochsner -Roth Hereford Bulls \nGardner Livestock   45 Blk Strs & Hfrs\, 700-800#\, Heifers are Guaranteed Open\, Complete Vac. Program\, Home Raised\, Bunk Broke \nAlbert Prado   29 Mx Strs & Hfrs\, 700-800#\, Weaned a long time\, Bunk Broke\, Hay Fed\, Shots at Birth: Alpha 7 \nWillie Roberts   20 Sim/Angus & Red Angus -x Strs\, 700-900#\, Weaned since Oct. 14\, Branding & Pre-cond. & Weaning Shots: Vac. 70 Program (Bovi-Shield Gold One Shot\, 7-way w/Somnus+Spur\, Poured w/Ivermectin\, No Implants\, Summered at 8000-8500’\, Ranch Raised \nDon Buffington   20 Mx Hfrs\, 930-950#\, PTO @ ranch\, Complete Vac. Program\, Coming off grass\, Home Raised \nWill & Jennie Whitlock   19 Blk/Bwf Hfrs\, 1000#\, Not Guaranteed Open\, Running out\, No Implants \nMR Angus   15 Blk Hfrs\, 1000#\, PTO @ ranch\, Complete Modified Live Program\, Coming off grass \n  \nWeaned Calves \nArt Guttersen/Double Check Ranch   550 Fancy Blk/BWf Hfrs\, 500-650#\, Weaned 90 days\, Hay Fed\, Running Out\, Complete Modified Live Vac. Program\, IMI Certified NHCT\, SAV\, Beef Care\, EID Tagged\, Replacement Quality!\, Sired by TD Angus\, Doug Booth Family Angus Bulls and Perez Cattle Co. Hereford Bulls\, Fancy set of Home Raised Heifer Calves: long weaned\, hay fed\, running out. NO Replacements kept!\, Out of some of the very best cows and heifers sold through Torrington Livestock Markets (many would be out Ochsner’s bred heifers) \nScissors Ranch   170 Blk Hfrs\, 600#\, Weaned 50 days\, Bunk Broke\, Been on Silage and Hay\, Branding Shots: Vision 7 w/Somnus\, Bovi-Shield Gold 5\, Implanted with Ralgro\, Pre-cond. Shots: Vision 7 w/Somnus\, Bovi-Shield Gold One Shot \n****70 Blk Strs\, 600#\, Weaned 50 days\, Bunk Broke\, Been on Silage and Hay\, Branding Shots: Vision 7 w/Somnus\, Bovi-Shield Gold 5\, Implanted with Ralgro\, Pre-cond. Shots: Vision 7 w/Somnus\, Bovi-Shield Gold One Shot \nEldon & Doug Ackerman   215 Blk Strs & Hfrs\, 650-800#\, Weaned since Oct. 1\, Hay Fed\, 3 Rounds of Modified Live Vac. Program\, Home Raised \nMill Iron Lazy L   125 Red few Blk Strs & Hfrs\, 550-575#\, Weaned 80 days\, Bunk Broke\, Been on Sainfoin Grass Hay\, Branding Shots: Inforce 3\, Nurflor\, Vision 7\, Weaning Shots: Pyramid 5+Presponse SQ\, Vision 8 w/Spur\, Valcor\, Poured w/Clean-up\, No Implants\, Steers are Knife Cut\, Home Raised \nDavid Sherrod   121 Red Angus Strs\, 750-800#\, Weaned since Ocr. 7\, Bunk Broke\, Been on a Light Grower Ration\, Shots at Birth: Multi-min\, Alpha 7\, Branding & Pre-cond. Shots: Pyramid5 +Presponse\, Vision 7 w/Somnus\, Weaning Shots: Pyramid 5\, Oral Dewormer\, Back Poured\, No Implants\, Sired by Schuler Red Angus Bulls and Schuler Composite Bulls\, Tagged with FCCP Red Angus Tags (They are age and genetic verified and certified) \nJim Brow   120 Mx Strs & Hfrs\, 600#\, Weaned since Nov. 1\, Hay Fed\, Branding & Weaning Shots\, Home Raised \nMark Swanson   113 Blk Strs & Hfrs\, 575#\, Weaned since Nov. 5\, Bunk Broke\, Broke to Ground Corn\, Branding Shots: Pyramid 5+Presponse\, 7-way\, Steers were Implanted w/Ralgro\, Pre-cond. Shots: Pyramid 5+Presponse\, 7-way\, Poured\, High Elevation\, April/May Born Calves \nRitschard Cattle Co.   100 Mostly Blk Strs & Hfrs\, 525-650#\, Weaned since Nov. 1\, Bunk Broke\, Been on a Light Grower Ration\, Shots at Birth: Alpha 7\, Branding Shots: Inforce 3\, One Shot Ultra 7\, Clostridium\, Perfringens Type C & D Toxoid\, Pre-cond. Shots: Pyramid 5+Presponse\, Post Weaning Shots: Bovi-Shield Gold 5\, 7-way\, Mycoplasma\, Nasalgen 3 PMH\, Dectomax Pour On\, Home Raised\, High Elevation \nFlying Heart Ranch/Tim & Leisl Carpenter   100 Mostly Blk/Bwf few Red Hfrs\, 450-525#\, Weaned 60+ days\, Running out on meadows\, Fed Grass/Alfalfa Hay\, with some Corn\, Bunk Broke\, Branding Shots: Vista Once\, 7-way\, Safe Guard Dewormer\, Pre-cond. Shots: Vista Once\, 7-way\, Weaning Shots: Vista Once\, 7-way\, High Elevation \nDoug\, Kim\, Cole & Jackie DesEnfants   77 Blk/Bwf Strs\, 700-750#\, Weaned on Oct. 18th\, Bunk Broke\, Been on a Light Grower Ration\, Branding Shots:  PMHIN/Vision 7\, Nasalgen\, Pre-cond. Shots: Bovi-Shield Gold One Shot\, Vision 7 w/Somnus \n****20 Blk/Bwf Hfrs\, 625-650#\, Weaned on Oct. 18th\, Bunk Broke\, Been on a Light Grower Ration\, Branding Shots:  PMHIN/Vision 7\, Nasalgen\, Pre-cond. Shots: Bovi-Shield Gold One Shot\, Vision 7 w/Somnus \nAntelope Springs Ranch   85 BWF Hfrs\, 550-600#\, Weaned since Oct.\, Running out on grass supplemented with Hay\, Branding Shots: Vira Shield 6\, 7-way\, Weaning Shots: Vira Shield 6\, 7-way\, Presponse HM\, Bangs Vac.\, EID Tagged\, Home Raised\, Replacement Quality \n****8 BWF Strs\, 550-600#\, Weaned since Oct.\, Running out on grass supplemented with Hay\, Branding Shots: Vira Shield 6\, 7-way\, Weaning Shots: Vira Shield 6\, 7-way\, Presponse\, Home Raised \nMatt & Tandy Dockery   92 Blk Strs\, 600#\, Weaned 100 days\, Bunk Broke\, Been on a Grower Ration; going back to grass\, Branding Shots; Nasalgen 3PMH\, Vision 7\, Pre-Cond. Shots: Vista Once SQ\, Vision 7 w/Somnus\, Poured\, Home Raised \nScott\, Chelsea & Wyatt Sauer   90 Blk Strs & Hfrs\, 550-650#\, Weaned 60 days\, Bunk Broke\, Hay Fed/Cake Broke\, Branding Shots\, Pre-cond. Shots: Pyramid 5+Presponse\, Vison 7 w/Somnus + Spur\, No Implants\, Steers are Knife Cut\, Producer All Natural\, Home Raised \nGrant Weaver   86 Mostly Blk/Bwf (1 Rd) Strs & Hfrs\, 650-750#\, Weaned 55+ days\, Bunk Broke\, Been on a Roughage Grower Ration\, Branding Shots: Bovi-Shield Gold 5\, 7-way\, Injectable DeWormer\, Pre-cond. Shots: Bovi-Shield Gold 5\, 7-way\, Poured w/Ivomec \nJohn Hubenka   80 Blk Strs\, 500-600#\, Weaned since Oct.\, Bunk Broke\, Been on Silage/Chopped Hay\, Branding Shots: 7-way\, Vista Once\, Pre-cond. Shots: Vista Once\, 8-way w/Somnus\, Producer All Natural \nJ & J Ochsner Livetock   80 Blk Sim/Angus Strs\, 700#. Weaned 65 days\, Bunk Broke\, Been on a Light Grower Ration\, 3 Rounds of Shots\, Poured twice this fall\, Home Raised \nPatrick Bros/Stuart & Linda McLaen   80 Red Angus Strs\, 750-800#\, Weaned since October\, Bunk Broke\, Been on a Grower Ration\, 3 Rounds of Shots\, Poured\, Home Raised \nRandy & Ty Steben   75 Blk/Bwf Hfrs\, 725#\, Weaned since Oct. 1\, Bunk Broke\, Been on a Grower Ration\, 2 Rounds of Shots: Pyramid 5+Presponse\, Bovi-Shield Gold 5\, Vision 7 Womnus w/Spur\, Dectomax Injectable\, Poured w/Clean-up II\, No Implants\, Bangs Vac. \nDylan Hager   67 Blk/Bwf Strs\, 675-725#\, Weaned since Oct. 1\, Bunk Broke\, Been on a High Roughage Ration\, No Grain\, Branding Shots: Pyramid 5+Prewsponse\, Vision 7 w/Somnus\, Multi-min\, Pre-cond. Shots: Pyramid 5+Presponse\, Vision 7 w/Somnus\, Multi-min\, Poured w/Ivermectin\, No Implants\, April Born Calves\, Home Raised\, 1-iron \nNellie Barney   64 Angus/Shorthorn Strs & Hfrs\, 600-650#\, Weaned 72 days\, Been on Alfalfa Hay\, Branding Shots: Normectin\, Vira Shield\, I Site\, Vision 8 Somnus + Spur\, Pre-cond. Shots: Vira Shield\, I Site\, Vision 8 Somnus +Spur\, Calf Guard\, Weaning Shot: One Shot\, Sired by Registered Blk Angus Bulls (Balancer Genetics) and Registered Shorthorn Bull\, Calves are Home Raised and raised on Grass and Alfalfa Pastures \nJosh Weaver   64 Mostly Blk few Rd Strs & Hfrs\, 600#\, Weaned 30 days\, Bunk Broke\, Pre-cond. Shots in October: 8-way\, Vira Shield 6\, Booster Shots in December: 8-way\, Pyramid 5 +Presponse\, Home Raised \nScott Ranches   62 Blk Angus Strs & Hfrs\, 500-600#\, Weaned 80 days\, Bunk Broke\, Been on a Grower Ration of Ground Hay and Cracked Corn\, Branding Shots: Vira Shield 6\, 7-way\, Pasteurella\, Pre-cond. Shots: Pyramid 5+Presponse\, Weaning Shots: Pyramid 5+Presponse\, No Implants \nBrad & Shirley Churchill   50 Char/Blk Strs\, 650-725#\, Weaned since Oct. 27\, Bunk Broke\, Been on Grass & Millet Hay\, Running out on Pasture\, Vitaferm Mineral and Protein Tubes\, Branding & Pre-cond. Shots\, Booster Shots (Nov. 23):  Inforce 3\, Ultraac 7 w/Somnus\, Bovi-Shield Gold One Shot\, Vitamin A & D\, Dectomax Pour On\, No Implants\, Knife Cut\, NHTC\, Age & Source Verified thru Samson\, EID Tagged (Steers only) \n****15 Char Hfrs\, 650-700#\, Weaned since Oct. 27\, Bunk Broke\, Been on Grass & Millet Hay\, Running out on Pasture\, Vitaferm Mineral and Protein Tubes\, Branding Shots & Pre-cond. Shots\, Booster Shots (Nov. 23):  Inforce 3\, Ultraac 7 w/Somnus\, Bovi-Shield Gold One Shot\, Vitamin A & D\, Dectomax Pour On \nBonham Ranch   50 Mostly Red/Rwf Hfrs\, 525-550#\, Weaned 75+ days\, Running out\, Hay Fed\, Branding and Pre-cond. Shots: Vista Once SQ\, Vision 7 w/Spur\, Nasalgen\, Weaning Shots: Vista 5\, Vision 7 w/Somnus\, Ferrappease\, IMI Global Verified: NHTC\, Veg Fed\, Beef Care\, SAV\, Age & Source (NOT all naturals can be identied)\, Red Angus High Access Verified \n****61 Mostly Red/Rwf Strs\, 500#\, Weaned 75+ days\, Running out\, Hay Fed\, Branding and Pre-cond. Shots: Vista Once SQ\, Vision 7 w/Spur\, Nasalgen\, Weaning Shots: Vista 5\, Vision 7 w/Somnus\, Ferrappease\, IMI Global Verified: NHTC\, Veg Fed\, Beef Care\, SAV\, Age & Source (NOT all naturals can be identied)\, Red Angus High Access Verified \nWaddle Limousin Ranch   52 Limousin/Lim-Flex Blk Strs & Hfrs\, 600-800#\, Weaned 75 days\, Bunk Broke\, 3# Pelleted Feed\, Free Choice Hay and Hay Barley\, Shots at Birth: 7-way\, Pre-cond. Shots (9/19): Inforce 3\, One Shot BVD\, Weaning Shots (10/25): Bovi-Shield Gold 5\, Vision 7 -way w/Somnus\, Vetrimec Pour On\, \nBilly & Tina Childers-3/C Cattle Co.   49 Mostly BWF Strs & Hfrs\, 500-700#\, Weaned 100 days\, Bunk Broke\, Benn on Ground Hay\, Silage\, WDG\, Corn\, Protein Tubs\, Salt & Mineral Program\, 2 Rounds of Shots: Vista Once SQ\, Vision 7 w/Spur\, Multi-min\, Nasalgen\, Poured w/Clean-up\, Sired by KR Gary 810\, Red Leader 6934\, Millars Duke 816\, Heifers are not branded and many would be Replacement Quality \nCody & Anne Waite   40 Blk/Bwf Strs & Hfrs\, 600-700#\, Weaned 60+days\, Bunk Broke\, Been on Long Hay and Weaning Pellets\, Branding Shots:  7-way\, Bovi-Shield Gold 5\, Weaning Shots: 7-way\, Bovi-Shield Gold 5\, Poured at Weaning\, Steers are Knife Cut \nBilly Evans   40 Blk few Red Strs\, 500-650#\, Weaned 60 days\, Bunk Broke\, Been on a Light Grower Ration\, 2 Rounds of Shots: 7-way\, One Shot\, Inforce\, 7-way w/Somnus\, Bovi-Shield Gold One Shot\, Poured\, Home Raised \nTag Double H Cattle Co.   33 Blk Strs\, 650-700#\, Weaned in October\, Grass Hay Fed w/2 to 3# of Hubbard Beef Pellets\, Shots: Pyramid (2x)\, Bovi-Shield Gold One Shot (1x)\, Vision 7 (3x)\, Poured at weaning\, No Implants \nHarvat Cattle & Hay   30 Blk Strs\, 450-550#\, Weaned since Nov. 22\, Bunk Broke\, Grass/Alfalfa Hay Mix\, Branding Shots: Vista Once\, Vision 7 w/Somnus\, Pre-cond. Shots: Vista Once\, 2 weeks later; Booster Shots: Vista Once\, Vision 7 w/Somnus\, Safeguard Wormer\, Poured w/Clean-up\, High Elevation \nLarry & Carol Pancost   30 Mostly Blk/BWF Strs\, 600-650#\, Weaned since October\, Hay Fed\, Running Out\, Branding and Pre-cond. Shots: Vac 34 Program (Bovi-Shield Gold One Shot\, 7-way\, Inforce 3\, Multim-min 90\, Home Raised\, Green \nKU Family Ranch   29 50% Blk/ 50% Simmental Strs & Hfrs\, 550#\, Weaned since Nov. 1\, Running out on grass\, Hay Fed\, Been on a Complete Mineral Program\, Oral Vitamin Shot of KSX\, Performance Boost at Birth\, Steers are Knife Cut\, First Calf Born: March 17\, Producer All Natural \nRyker Hyche   29 Mx Strs & Hfrs\, 400-500#\, Weaned 60+ days\, Been on Native Hay\, Alfalfa Hay and Ear Corn\, Branding Shots: 5-way\, 7-way\, Wormed w/Dectomax Injectable\, No Implants\, Steers are Knife Cut\, Producer All Natural \nWillie Roberts   28 Sim/Angus & Red Angus-x Strs & Hfrs\, 400-700#\, Weaned since Oct. 14\, Branding & Pre-cond. & Weaning Shots: Vac. 70 Program (Bovi-Shield Gold One Shot\, 7-way w/Somnus+Spur\, Poured w/Ivermectin\, No Implants\, Summered at 8000-8500’\, Ranch Raised \nBoot Ranch   23 Blk/Rd Strs & Hfrs\, 525-700#\, Weaned since Oct. 1\, Bunk Broke\, Been on Haylage/2# of DDG Pellets\, Branding Shots: Vista Once\, 7-way w/Somnus\, Multi-min\, Pre-cond. Shots: Poured w/Ivermec\, SafeGuard\, Nasalgen 3 PMH\, Booster Shots: Vista Once\, 7-way w/Somnus\, Multi-min\, NHTC Sourced \nMarty Cox   20 Blk Strs\, 600-650#\, Weaned since Nov. 22\, Running out on grass supplemented with Hay\, Branding Shots: 7-way\, Weaning Shots: 7-way\, No Implants\, Home Raised \nGene & Elaine Hart   18 Blk (2 Char-x) Angus Strs & Hfrs\, 540-600#\, Weaned since Nov. 2\, Bunk Broke\, Been on Purina Pellets\, Grass Hay Mix\, Shots at Birth: Inforce 3\, Branding Shots: Bovi-Shield Gold 5\, One Shot\, Ultrabac 7\, Pre-cond. Shots:  Bovi-Shield Gold One Shot\, Ultrabac 7 Somubac\, Booster Shots: Inforce 3\, Post-weaning Shots (Nov. 15): Vira Shield 6 + Somnus\, Poured w/Dectomax\, No Implants\, Heifers are Bangs Vac.\, Home Raised\, Sired by Horse Creek Angus Bulls \nElden & Tena Baldwin   18 Mx Strs & Hfrs\, 500-650#\, Weaned since Oct. 1\, Running out on pasture supplemented with Hay and 3# of grain per day\, Branding Shots\, Pre-cond. Shots: Vision 7\, Pinkeye\, Poured \nDonn Randall   15 Mostly Blk Strs & Hfrs\, 700#\, Weaned since Nov. 19\, Hay Fed with some Grain\, Complete Vac. Program \nJW Ranch   15 Blk Strs & Hfrs\, 550#\, Weaned 60 days\, Fall Shots\, Bunk Broke \nMike & Elle Kanno   15 Blk Strs & Hfrs\, 500-550#\, Weaned 90 days\, Bunk Broke\, Been on Light Grower Ration for grass\, 3 Rounds of Shots: Pyramid 5\, Vision 7 w/Somnus\, Poured\, Steers are Knife Cut \nBrit & Morgan Douglas   15 Blk/Bwf Hfrs\, 500#\, Weaned 60+ days\, Been on Grass Hay & Corn\, Bunk Broke\, Shots at Birth: Inforce\, Branding Shots: Enforce\, Bovi-Shield Gold One Shot\, 7-way\, Pre-cond. Shots: Vision 7 w/Somnus\, Bovi-Shield Gold One Shot\, Booster Shots: Bovi-Shield Gold 5\, Somnubac\, Valcor\, Producer All Natural \nTully Land & Cattle/Brett Tully   8 Longhorn Bulls & Hfrs\, 300-450#\, Weaned 30+ days\, Hay Fed\, Shots: 7-way\, No Implants\, Fresh\,Would make good ropers \n****4 Angus/Longhorn-x Bulls & Hfrs\, 500#\, Weaned 30+ days\, hay Fed\, Shots: 7-way\, No Implants \nDavid & Tracy Johnson/AJ Bar Ranch   10 Blk Strs\, 700#\, Weaned 85 days\, Been on Grass Hay/Alfalfa Mix\, 2#COB\, Branding Shots; Vira Shield 6\, Vision 7 Somnus/Spur\, Pre-cond. Shots: Vira Shield 6\, Vision 7 Somnus/Spur\, Weaning Shots: Pyramid 5+Presponse SQ\,  Vit & Min.\, Poured w/Ivermectin\, No Implants\, Home Raised\, Sired by McClun Bulls\, March/April Calves\, Knife Cut \nBerry Family Trust   8 Bwf/Wf (1 hd) Strs\, 625-650#\, Weaned 75 days\, Running out\, Hay Fed\, Branding Shots: Nasalgen 3 PMH\, Vision 7 w/Spur\, Pre-cond. Shots: Nasalgen 3 PMH\, Vision 7 w/Somnus + Spur\, Poured in the fall\, No Implants \nStanley Harris   8 Blk Angus Strs\, 600#\, Weaned 60 days\, Branding Shots: Bovi-Shield\, April Calves\, Producer All Natural \nDavid Birt   4 Blk/Bwf Hfrs & Bull Calves\, 400#\, Weaned 50 days\, Bunk Broke\, Branding Shots: Convexin 8\, Mulit-min 90\, Poured w/Clean-up \n  \nPre-cond. Calves \nK Powd Boles   110 Mostly Blk Angus few Red Angus Strs & Hfrs\, 500-550#\, Branding Shots: Vista Once SQ\, Vision 7\, Pre-cond. Shots (Dec. 22): Vista Once SQ\, Vision 7\, No Implants\, Running out on pasture with mothers eating Hay and Range Cake\, Sired by Powder River Angus and K2 Red Angus Bulls\, Steers are Knife Cut\, Home Raised\, Producer All Natural \nSlash RS Ranch LLC   100 Blk Strs & Hfrs\, 450-550#\, Branding Shots: Bovi-Shield Gold One Shot\, Vision 7 Somnus w/Spur\, Pre-cond. Shots (Nov. 15): Bovi-Shield Gold One Shot\, Vision 7 Somnus w/Spur\, Poured with Ivermectin\, NO Replacements Kept\, Sired by Registered Riverbend and Connelly Blk Bulls (Selected for docility and carcass traits) \nBarry & Melva Baldwin   48 Blk Angus Strs & Hfrs\, 550-600#\, Branding Shots: Vision 7\, Nasalgen 3PMH\, Pre-cond. Shots: Vision 7\, Nasalgen 3PMH\, Calves are eating hay along side of mothers \nHarry & Barb Epler   36 Blk Strs & Hfrs\, 500#\, Branding Shots\, Pre-cond. Shots: Vira Shield 6\, Bar Bac 7\, Poured w/Clean-up 2\, Steers are Knife Cut\, Producer All Natural \nLarry & Carol Pancost   19 Mostly Blk Strs & Hfrs\, 400-500#\, Branding Shots & Pre-cond. Shots: Bovi-Shield Gold One Shot\, 7-way\, Inforce 3\, Multimin 90\, Coming off Cows\, Home Raised \n \nCalves \nCole Borchardt   45 Mx Strs\, 525#\, Shots (will be called in)\, Coming off the cows \nW T Ranch/Wayne & Karen Thornburg   26 Mx Strs & Hfrs\, 450-550#\, No Shots\, No Implants\, Producer All Natural\, Home Raised\, Coming off cows \nMatthew & Ashley Johnson   13 Blk Strs & Hfrs\, 650#\, Branding Shots (will be calling in)\, Coming off Mothers\, Producer All Natural\, Steers are Knife Cut \nJeff Johnson   2 Red/Blk Str/Hfr\, 500-600#\, Shots at Birth: 7-way \n  \nMANY MORE CONSIGNMENTS BY SALE DAY \nCheck out www.torringtonlivestock.com for more consignments and to view sales and bid online!!! \nFOR MORE INFORMATION CALL 307-532-3333
URL:https://torringtonlivestock.com/event/wednesday-january-7th-2026-feeder-calf-special/
END:VEVENT
END:VCALENDAR