BEGIN:VCALENDAR
VERSION:2.0
PRODID:-//Torrington Livestock Market - ECPv6.15.20//NONSGML v1.0//EN
CALSCALE:GREGORIAN
METHOD:PUBLISH
X-ORIGINAL-URL:https://torringtonlivestock.com
X-WR-CALDESC:Events for Torrington Livestock Market
REFRESH-INTERVAL;VALUE=DURATION:PT1H
X-Robots-Tag:noindex
X-PUBLISHED-TTL:PT1H
BEGIN:VTIMEZONE
TZID:America/Denver
BEGIN:DAYLIGHT
TZOFFSETFROM:-0700
TZOFFSETTO:-0600
TZNAME:MDT
DTSTART:20250309T090000
END:DAYLIGHT
BEGIN:STANDARD
TZOFFSETFROM:-0600
TZOFFSETTO:-0700
TZNAME:MST
DTSTART:20251102T080000
END:STANDARD
BEGIN:DAYLIGHT
TZOFFSETFROM:-0700
TZOFFSETTO:-0600
TZNAME:MDT
DTSTART:20260308T090000
END:DAYLIGHT
BEGIN:STANDARD
TZOFFSETFROM:-0600
TZOFFSETTO:-0700
TZNAME:MST
DTSTART:20261101T080000
END:STANDARD
BEGIN:DAYLIGHT
TZOFFSETFROM:-0700
TZOFFSETTO:-0600
TZNAME:MDT
DTSTART:20270314T090000
END:DAYLIGHT
BEGIN:STANDARD
TZOFFSETFROM:-0600
TZOFFSETTO:-0700
TZNAME:MST
DTSTART:20271107T080000
END:STANDARD
END:VTIMEZONE
BEGIN:VEVENT
DTSTART;VALUE=DATE:20260114
DTEND;VALUE=DATE:20260115
DTSTAMP:20260424T142917
CREATED:20251212T204708Z
LAST-MODIFIED:20260120T150224Z
UID:4937-1768348800-1768435199@torringtonlivestock.com
SUMMARY:Wednesday\, January 14th\, 2026 - Feeder/Calf Special
DESCRIPTION:TORRINGTON LIVESTOCK MARKETS \nWednesday\, January 14th\, 2025\nFeeder & Calf Special\nStarting at 8:00am\nFeeders \nBuckhaults Cow Co.   290 Blk Strs\, 850-950#\, Weaned a long time\, Bunk Broke\, Been on a High Roughage Grower Ration\, Branding Shots: Pyramid 5 + Presponse SQ\, Vision 7 w/Spur\, Weaning Shots: Vista Once SQ\, Vision 7 Somnus\, Poured Twice: Ivermectin (1x); Brute Pour On (1x)\, No Implants\, Knife Cut\, 1-iron \nOwens Land & Livestock   200 Certified Red Angus Strs\, 650-700#\, Weaned 90 days\, Bunk Broke\, Been on a Grower Ration\, Branding Shots: Bovilis Vista 5 SQ\, Bovilis Vision 7\, Bovilis Once PMH IN\, Pre-cond. Shots: Bovilis Vision 7\, MultiMin 90\, Bovilis Once SQ\, Clean-Up II Pour On\, Weaning Shots: Pyramid Plus Presponse\, Inforce 3\, Safeguard\, Poured w/Ivermectin\, Booster Shot: Titanium 3\, Sired by 5L Red Angus Bulls (Selected for Carcass Quality\, Marbling and Growth)\, Producer All Natural\, Certified Red Angus EID Button\, Closed Herd\, Calving Date: Apri1 15 with 45 day Calving Period \n****80 Certified Red Angus Hfrs\, 600-650#\, Weaned 90 days\, Bunk Broke\, Been on a Grower Ration\, Branding Shots: Bovilis Vista 5 SQ\, Bovilis Vision 7\, Bovilis Once PMH IN\, Pre-cond. Shots: Bovilis Vision 7\, MultiMin 90\, Bovilis Once SQ\, Clean-Up II Pour On\, Weaning Shots: Pyramid Plus Presponse\, Inforce 3\, Safeguard\, Poured w/Ivermectin\, Booster Shot: Titanium 3\, Sired by 5L Red Angus Bulls (Selected for Carcass Quality\, Marbling and Growth)\, Producer All Natural\, Closed Herd\, Calving Date: Apri115 with 45 day Calving Period \nDouglas Brickman   150 Red Strs\, 700#\, Weaned 90 days\, Bunk Broke\, Been on a Grower Ration\, Branding Shots: Bovi-Shield Gold 5\, Ultra Choice 7\, Pre-cond. Shots: Bovi-Shield Gold 5\, Ultra Choice 7\, No Implants\, Knife Cut\, Home Raised \n****100 Red Hfrs\, 650#\, Weaned 90 days\, Bunk Broke\, Been on a Grower Ration\, Branding Shots: Bovi-Shield Gold 5\, Ultra Choice 7\, Pre-cond. Shots: Bovi-Shield Gold 5\, Ultra Choice 7\, No Implants\, Home Raised \nLerwick Brothers   143 Mx Strs & Hfrs\, 750-800#\, Weaned a long time\, Been on a Background Ration\, Branding Shots: Vision 7\, Naslagen 3\, Steers are Implanted/Blk/Red Heifers are NOT Implanted\, Pre-cond. Shots: Bovi-Shield Gold One Shot\, Vision 7 w/Somnus\, Booster Shots: Bovi-Shield Gold One Shot\, Vision 7 w/Somnus\, Knife Cut\, February Born Calves \n****60 Mx Strs\, 600#\, Weaned a long time\, Been on a Background Ration\, Branding Shots: Vision 7\, Naslagen 3\, Steers are Implanted\, Pre-cond. Shots: Bovi-Shield Gold One Shot\, Vision 7 w/Somnus\, Booster Shots: Bovi-Shield Gold One Shot\, Vision 7 w/Somnus\, Knife Cut\, May/June Born Calves \n****15 Blk Hfrs\, 550#\, Weaned a long time\, Been on a Background Ration\, Branding Shots: Vision 7\, Naslagen 3\, Heifers are NOT Implanted\, Pre-cond. Shots: Bovi-Shield Gold One Shot\, Vision 7 w/Somnus\, Booster Shots: Bovi-Shield Gold One Shot\, Vision 7 w/Somnus\, May/June Born Calves \nBremer Land & Cattle   145 Blk few Rd Sim/Angus Strs\, 775-850#\, Weaned 120 days\, Bunk Broke\, Been on a Grower Ration\, Branding Shots: Vision 7 w/Somnus\, Vira Shield 6\, Pre-cond. Shots: Pyramid 5+Presponse\, Weaning Shots: Vision 7 w/Somnus\, Pyramid 5 \nSalt Creek Ranch /Shannon Wheeler   140 Blk/Bwf Strs\, 625-725#\, Weaned 88 days\, Been on a Grower Ration\, Bunk Broke\, Branding Shots: Pyramid 5+Presponse SQ\, Vision 7 Somnus w/Spur\, Knife Cut\, Pre—cond. Shots: Pyramid 5+Presponse SQ\, Vision 7 Somnus w/Spur\, Home Raised\, Choice to Fancy\, 20+ years Closed Cow Herd \nPrime Pastures Inc.   120 Blk/Rd/Char Hfrs\, 825-975#\, Spayed or Guaranteed Open\, Complete Vac. Program\, Fall Calves ran on grass till late October\, Been on a Light Grower Ration Since\, Bunk Broke \nNathan Painter   100 Blk Few Red/Char-x Strs\, 750-900#\, Weaned 75+ days\, Been on a Light Grower Ration\, Bunk Broke\, Weaning Shots: 7-way Somnus\, Pyramid 5+Presponse (2x)\, Poured w/Ivermectin\, Steers are Medium to Large Frame \nTodd & Laura Schaefer & Libbie Cora   80 Blk/Bwf few Rwf Strs\, 700#\, Weaned since September\, Bunk Broke\, Been on a Light Grower Ration\, Shots at Birth: Alpha 7\, Branding Shots: Pyramid 5+Presponse\, Vision 7 w/Somnus\, Pre-cond. Shots: Pyramid 5+Presponse\, Vision 7 w/Somnus\, Weaning Shots: Bovi-Shield Gold 5\, Poured\, No Implants \nNick Provost   80 Blk/Bwf Strs & Hfrs\, 700-800#\, Weaned 80 days\, Running Out\, Hay Fed\, 3 Rounds of Modified Live Vac. Program\, No Implants \nDr. Brent Kaufman   65 Blk/BWF Hfrs\, 600-725#\, Weaned since Oct.\, Running out on hay meadows\, Protein Pellets\, Free Choice Hay\, Bunk Broke\, Shots: Pyramid 5+Presponse (3x)\, 7-way w/Somnus (2x)\, Poured w/Clean-up\, Oral SafeGuard\, Dectomax Injectable Wormer\, Bangs Vac.\, No Implants\, Home Raised \n****15 Mx Strs\, 600-750#\, Weaned since Oct.\, Running out on hay meadows\, Protein Pellets\, Free Choice Hay\, Bunk Broke\, Shots: Pyramid 5+Presponse (3x)\, 7-way w/Somnus (2x)\, Poured w/Clean-up\, Oral SafeGuard\, Dectomax Injectable Wormer\, No Implants\, Home Raised \nBunker Cattle/Merit Bunker   74 Blk Strs & Hfrs\, 650-700#\, Weaned 90+ days\, Bunk Broke\, Been on a Grower Ration\, Branding Shots: 7-way\, One Shot\, Pre-cond. Shots: One Shot\, Valcor Injectable on Oct. 11 \nBar X LLC/Kyle Kilty   70 Blk/Bwf Hfrs\, 625-675#\, Weaned 60+ days\, Been on Ground hay and Silage\, Branding Shots: Pyramid 5+ Presponse\, Vision 7\, Weaning Shots: Pyramid 5 + Presponse\, Vision 7 w/Somnus\, Bangs Vac. Sage Guard Dewormer\, Back Poured\, Home Raised\, Sired by Bar X Angus Bulls \nCody Humphrey   70 Mostly Blk few Red Hfrs\, 800-900#\, PTO @ranch on Jan. 11\, Complete Vac. Program\, Coming off grass \nFrank Ranches Inc.   70 Blk Angus Strs\, 650#\, Weaned 90 days\, Been on a Light Grower Ration (Hay and Corn Silage)\, Bunk Broke\, Branding Shots: Vision w/Somnus+Spur\, Nasalgen 3-PMH\, Vista BVD CFP\, Vista\, Weaning Shots: Vision 7 w/Somnus+Spur\, Vista Once SQ\, SafeGuard\, Poured w/Saber in Late November\, No Implants\, High Elevation \nJared Reich   65 Blk/Red Angus/Hereford-x Strs\, 650#\, Weaned 120 days\, Bunk Broke\, Been on Ground Hay/Straw with a little Pulp (and added Water to wet the feed) with just 5# of corn\, Been on a High Quality Mineral Program\, Branding Shots: Vision 7 w/Spur\, Bovi-Shield Gold 5\, One Shot Pasteurella\, Pre-cond. Shots: Vision 7 w/Somnus\, Bovi-Shield Gold 5 One Shot\, Weaning Shots; Bovi-Shield Gold 5\, Poured w/Ivermectin\, No Implants\, Sired by Kugler Angus & Olsen Hereford Bulls; selected for good growth and excellent feed efficiency \nKelly Land & Livestock/Dave Kelly   65 Mx Strs\, 700#\, Weaned for long time\, Bunk Broke\, Been on Alfalfa Hay & 2# of Corn\, Complete Vac. Program \nS-S Ranch/Jared Simpson   60 Blk Strs & Hfrs\, 900-950#\, Guaranteed Open (PTO @ ranch)\, Complete Modified Live Vac. Program \nStuart Peters   48 Mostly Char-x Strs\, 850-900#\, Complete Modified Live Vac. Program\, Been on a Grower Ration\, Bunk Broke\, Knife Cut\, Home Raised \nBower Farms/Nate Bowers  48 Blk/Rd Strs & Hfrs\, 750-850#\, Weaned 90 days\, Running out on Hay Meadows\, Lick Tubs\, 2 Rounds of Modified Live Complete Vac. Program\, Producer All Natural \nFlag Bar Livestock/Shane Camilletti   42 Blk/Bwf Hfrs\, 650#\, Weaned 75 days\, Bunk Broke\, Branding Shots: Vista Once\, 8-way\, Booster Shots: Vista Once\, 8-way\, Inforce 3\, Pinkeye\, Poured\, Bangs Vac.\, Replacement Quality \nTom Hadley   31 Herford-x (mostly Blk) Strs & Hfrs\, 650#\, Weaned 60 days\, Running Out on grass\, Hay Fed\, Branding Shots: Bovi-Shield Gold One Shot\, Vision 7\, Pre-cond. Shots: Bovi-Shield Gold One Shot\, Vision 7 w/Somnus\, Weaning Shots: Somnus\, Poured w/Ivermectin\, No Implants\, Home Raised \nOchsner-Roth Cattle Co.   27 Blk Angus/Hereford Strs\, 750-950#\, 3 Rounds of Shots: Bovi-Shield Gold One Shot\, Vision 7 w/Somnus\, Bunk Broke\, Home Raised \nJohn/Linda Higgins/Jim Ireland   26 Blk Angus-x Strs & Hfrs\, 750#\, Weaned 30 days\, Bunk Broke\, Round Bale Feeders Broke\, Hay Fed\, Branding Shots: Titanium 5\, BVD\, Vision 7 w/Spur\, Booster Shots: Pyramid 5\, Vision 7 Somnus w/Spur\, No Implants\, Producer All Natural\, BQA Guidelines followed\, High Altitude\, Home Raised\, April Born Calves \nRTCook LLC/Rod Cook   23 Blk Angus Strs\, 700#\, Weaned 90 days\, Bunk Broke\, Branding Shots: Vision 7\, Inforce 3\, Pre-cond. Shots: Pyramid 5\, Inforce 3\, Vision 7 w/Somnus\, Poured with Clean-up II\, Weaning Shots: Nasalgen 3 PMH\, Safe Guard Drench\, Dectomax Pour on\, Synovex Choice on 12/10\, High Altitude\, Sired by Jorgensen Blk Bulls \nTDF Livestock  19 Mx Hfrs\, 1000#\, PTO @ barn or Aborted\, Complete Vac. Program\, Coming  off grass \nRidgeline Ranch   15 Blk few Red/Char Strs & Hfrs\, 800#\, Weaned a long time\, 2 Ronnds of Shots \nGerald Sterkel   15 Mx Strs\, 700-900#\, Weaned a long time\, Hay Fed\, Complete Vac. Program \nBard Ranch   10 Char Hfrs\, 650#\, Weaned since Oct. 1\, Bunk Broke\, Been on a High Roughage Ration\, Branding Shots: Pyramid 3\, 7-way\, Weaning Shots: Pyramid 3+Presponse\, 7-way\, Pour On\, Safe Guard Wormer \nHorse Creek Angus LLC   3 Blk Angus Bulls\, 700-900#\, Weaned 110 days\, Hay Fed\, Cake Broke\, Branding Shots: Bovi-Shield Gold 5\, Ultrabac 7 w/Somnus\, Inforce 3\, Pre-cond. Shots: Bovi-Shield Gold 5\, Ultrabac 7 w/Somnus\, March/April feeder Bulls \nM T Livestock   1 Str\, 975# \n  \nWeaned Calves \nCobb Cattle Co.   410 Blk/BWF Strs\, 550-650#\, Weaned 60 days\, Been on Hay and Lick Tubs\, Branding Shots: Pyramid 5+Presponse\, Vision 8 w/Spur\, Pre-cond. Shots: Pyramid 5+Presponse\, Vision 8 w/Spur\, Poured\, Knife Cut \n****10 Char Strs\, 550-650#\, Weaned 60 days\, Been on Hay and Lick Tubs\, Branding Shots: Pyramid 5+Presponse\, Vision 8 w/Spur\, Pre-cond. Shots: Pyramid 5+Presponse\, Vision 8 w/Spur\, Poured\, Knife Cut \nEldon & Doug Ackerman   170 Blk Strs\, 600-700#\, Weaned 100 days\, Bunk Broke\, Been a Light Grower Ration\, Branding Shots and Pre-cond. Shots: Vision 7 Somnus/Bovilis\, Nasalgen 3 PMH\, Implanted w/Ralgro \n****180 Blk Hfrs\, 475-550#\, Weaned 100 days\, Bunk Broke\, Been on a Light Grower Ration\, Branding and Pre-cond. Shots:  Vision 7 Somnus/Bovilis\, Nasalgen 3 PMH\, No Implants \nL D Ranch   300 Blk Strs\, 400-700#\, Weaned 90 days\, Running Out on Hay Meadows\, Bunk Broke\, Hay Fed\, 3 Rounds of Modified Live Vac. Program\, Steers are Knife Cut\, Home Raised\, High Elevation \nSingleton Land & Livestock   240 Mostly Blk/BWF Strs & Hfrs\, 500-650#\, Weaned 100+ days\, Bunk Broke\, Been on at Grower Ration to gain 1.5 to 2#/per day\, Branding and Weaning Shots: Vista Once\, Nasalgen\, Vision 7\, Multimin 90\, Poured\, Ralgro Implanted at weaning\, Sim/Angus Calves with years of selection for carcass and growth \nAaron Sorneson   200 Blk Strs\, 500-600#\, Weaned since Oct.\, Bunk Broke\, Been on a Grower Ration\, 2 Rounds of Shots: Inforce 3\, 7-way w/Somnus\, Bovi-Shield Gold One Shot\, Multi-min\, Producer All Natural \nChuck & Tracy Martin   180 Blk Strs & Hfrs\, 550-650#\, Weaned 90 days\, Bunk Broke\, Been on a Hay/Silage Ration w/2# of Corn\, Branding Shots: Vista Once SQ\, Weaning Shots: Vista Once SQ\, Poured w/Clean-up\, No Implants\, May Born Calves\, No Brands\, Sired by Sim Angus High Performance Bulls \nKen Fackrell   110 Blk Angus Strs\, 550#\, Weaned 90 days\, Been on Long Stem Hay and Lick Tubs\, Branding Shot\, Pre-cond. Shots\, Booster Shots: Bovi-Shield Gold\, 8-way w/Somnus\, Vit. A E & D\, No Implants\, Home Raised\, 1-iron \n****70 Blk Angus Hfrs\, 500#\, Weaned 90 days\, Been on Long Stem Hay and Lick Tubs\, Branding Shot\, Pre-cond. Shots\, Booster Shots: Bovi-Shield Gold\, 8-way w/Somnus\, Vit. A E & D\, No Implants\, Home Raised\, 1-iron \nRothschild Livestock/The Eight Ranch LLC   170 Blk/Bwf Strs & Hfrs\, 550-600#\, Weaned 70 days\, Running Out ongrass\, Hay Fed\, Cake Broke\, 3 Rounds of Shots: Bovi-Shield Gold\, Vision 7 w/Somnus\, Oral Wormer\, No\, Implants\, Steers are Knife Cut\, NO Replacements Kept\, Sired by Reyes/Russell Blk Angus Bulls \nPlatt Cattle Co   165 Blk few Red Strs & Hfrs\, 550-650#\, Weaned 90 days\, Been on Alfalfa/Sudan Hay\, Branding Shots:  Ultrbac 8\, Weaning Shots:  Pyramid 5+Presponse SQ\, Ultrabac 8\, Vit A & D\, Poured w/Cydectin Treated with a preventative dose of Corid for Coccidiosis\, No Implants\, Sired by Ken Haas Angus Bulls\, Green \nGoodrich Ranch   160 Blk/Bwf (75%)/Red/Rwf (25%) Strs & Hfrs\, 575-625#\, Weaned 105 days\, Bunk Broke\, Been on a Very High Roughage: Alfalfa\, Corn Silage\, Branding Shots: Ultra Choice 7\, Inforce 3\, One Shot BVD\, High Altitude\, May/June Calves\, Sired by Jorgensen Angus Bulls and Composite Bulls \nPathfinder Cattle Co./Keith Burgess   150 Mostly Blk Strs & Hfrs\, 500-550#\, Weaned since Oct. 1\, Bunk Broke\, Been on a Light Grower Ration\, Branding Shots: 7-way w/Spur\, Nasalgen 3PMH\, Vista BVD CFT\, Multi-min\, Weaning Shots: Pyramid 5+Presponse\, Inforce 3\, Multi-min\, Clean-up Pour On\, Safeguard\, High Elevation/High Desert Calves\, Home Raised\, Steers are Knife Cut \nMike Logan   150 Blk/Rd Strs & Hfrs\, 550-600#\, Weaned 64 days\, Hay Fed\, Lick Tubs\, Branding\, Pre-cond. & Weaning Shots: Pyramid 5 + Presponse\, Vision 7\, No Implants\, Steers are Knife Cut\, Producers All Natural \nBen & Hallie Noland   135 Sim Angus Strs & Hfrs\, 450-700#\, Weaned 60 days\, Bunk Broke\, Been on a Grower Ration\, Branding Shots: Bovi-Shield Gold One Shot\, Vision 7\, Multi-min 90\, Pre-cond. Shots: Bovi-Shield Gold One Shot\, Vision 7\, Multimin 90\, High Elevation\, Running at 8500’ all Summer \nHardy Von Forell   120 Red Angus Strs\, 500-700#\, Weaned 60 days\, Running out on grass with a Silage Ration\, Bunk Broke\, Branding Shots\, Pre-cond. Shots: Ultra Chice 7\, BVD One Shot\, Inforce 3\, Poured w/Ivermec\, Booster Shot: Bovi Shield Gold\, Poured w/Clean-up\, Producer All Natural \nTyler Lauck   118 Blk Strs & Hfrs\, 550-650#\, Weaned since Aug.\, Been on a Light Grower Ration\, Branding Shots: Inforce 3\, Bovi-Shield Gold One Shot\, Ultra Choice 7\, Pre-cond. Shots: Bovi-Shield Gold One Shot\, Vision 7 w/Somnus\, Poured w/Ivermec\, Booster Shots: Bovi-Shield Gold 5\, Somubac\, Wormed with Safe Guard \nMoore Ranch/Lee & Moriah Moore   100 Mx Strs & Hfrs\, 500-600#\, Weaned 45+ days\, Running out on Hay Meadows supplemented with Hay\, 2 Rounds of Shots: Vision 7+Somnus\, Vista Once SQ\, Poured \nRiehle Ranch   95 Blk Hfrs\, 500#\, Weaned 60+ days\, Running out supplemented with Hay\, 3 Rounds of Shots: Vista Once SQ\, Vision 7 w/Somnus\, Poured at Weaning w/Ivermectin\, No Implants\, Home Raised \nLightning Creek Grazing LLC   95 Blk/Bwf few Red/Char Strs & Hfrs\, 425-650#\, Weaned 90 days\, Running on Pasture supplemented with hay as needed\, Branding Shots: Vision 7\, Inforce 3\, Pyralmid 5\, Weaning Shots: Vision 7 w/Somnus\, Nasalgen 3 PMH\, Pyramid 5+Presponse\, Ivermectin Poured\, Steers were Implanted w/Ralgro at 30 days weaned\, Heifers are NOT Implanted\, \nBrandin & Amy Miller   92 Red Strs & Hfrs\, 575-600#\, Weaned since Oct. 1\, Bunk Broke\, Been on a High Roughage Ration\, Branding Shots: Pyramid 3\, 7-way\, Weaning Shots: Pyramid 3+Presponse\, 7-way\, Pour On\, Safe Guard Wormer \nHeward 25 Ranch LLC   91 Hereford-x Strs & Hfrs (1 Bull Calf)\, 400-475#\, Weaned since Oct. 20\, Running out on pasture supplemented with Grass/Alfalfa Hay Mix\, Branding Shots: Pyramid 5+Presponse\, 7-way\, Pre-cond. Shots: Pyramid 5+Presponse\, 7-way\, No Implants\, Producer All Natural \nRodgers Ranch   90 Blk/Bwf few Rd/Rwf Strs & Hfrs\, 540-615#\, Weaned 80+ days\, Bunk Broke\, Been on a Grower Ration\, Been on a Complete Mineral Program\, Branding Shots: Vision 7 w/Somnus\, Vista Once SQ\, Weaning Shots: Pyramid 5+Presponse\, Vision 7\, No Implants\, Steers are Knife Cut\, Home Raised \nS S Ranch   90 Blk Angus/Sim-x Strs & Hfrs\, 475-500#\, Weaned\, 2Bunk Broke\, Been on a Light Grower Ration\, Rounds of Shots: Pyramid 5+Presponse\, Poured w/”Cleanup\, Sired by S S Ranch Bulls \nRaymond Jones   80 Blk Hfrs\, 500#\, Weaned since Nov. 1\, Running out on grass supplemented with Cake and Hay\, Branding Shots\, Pre-cond. Shots\, Booster Shots: Bovi-Shield Gold One Shot\, No Implants \nSandberg Farms LLC/Leaning T Livestock LLC   73 Char-x Strs & Hfrs\, 600-700#\, Weaned 60 days\, Bunk Broke\, Been on a Light Grower Ration\, Branding Shots: Inforce 3\, One Shot BVD\, Vision 7\, Pre-cond. Shots (Oct. 14): Vision 7 w/Somnus\, Bovi-Shield Gold One Shot\, Ivermec Pour On\, \nMuleshoe Ranch/Jon & Molly Keil   70 Blk Angus-x Strs & Hfrs\, 500-600#\, Weaned 180 days\, Bunk Broke\, Been on a Grower Ration consisting of Ground Hay\, Corn Silage\, Dry Distillers Grain & Cracked Corn\, Branding Shots: Pyramid 5+Presponse SQ\, Bovilis Vision 7/Spur\, Weaning Shots: Pyramid 5+Presponse SQ\, Bovilis Vison 7/Spur\, Ivermectin Pour-on\, Pinkeye Vac. In Oct.\, Steers are Knife Cut\, Sired by registered Blk Angus Bulls from MR/Reyes Angus and Lucky 7 Angus Bulls\, Home Raised \nArgyle Ranch   61 Mx Strs & Hfrs\, 400-500#\, Weaned since Nov. 1\, Hay Fed\, Branding Shots & Pre-cond. Shots: Bovi-Shield Gold\, 8-way\, Endovac \, Dectomax Injectable\, Poured w/Clean-up\, Sired by Ken Haas Bulls \nMike Cain & Brian Faber   62 (54 Blk/8 Red) Hfrs\, 600-650#\, Weaned since Oct. 20\, Running out on Grass supplemented with Sorghum Hay and 1# of Corn\, Branding Shots: Vision 7 w/Somnus+Spur\, Pre-cond. Shots: Vision 7 w/Somnus+Spur\, Pyramid 5+Presponse\, Nasalgen\, Shots on Nov. 4: Bangs Vac.\, P:yramid 5+Presponse\, Dectomax Injectable\, Black Heifers are Sired by Ochsner-Roth Blk Bulls\, BWF Heifers are Sired by McMurry Bulls out of Billings\, MT\, Home raised \nKerbs 4 Bar   60 Blk/Bwf Hfrs\, 500-550#\, Weaned 70 days. Hay Fed\, Branding Shots: Pyramid 5+Presponse\, Vision 7\, Pre-cond. Shots: Pyramid 5+Presponse\, Vision 7 w/Somnus\, Weaning Shots: Pyramid 5+Presponse\, Poured\, Fancy High Elevation\, Hay Fed Heifers \nCross Ranch   60 Blk (1 Rd) Strs & Hfrs\, 500-565#\, Weaned since Oct.\, Running Out on grass\, Complete Vac. Program\, Home Raised \nSand Hill Ridge LLC/Howard Deselms   60 Blk Angus Hfrs\, 450-550#\, Weaned since Aug. 15\, Running Out on pasture supplemented with Long Stem Hay\, Branding Shots: Alpha 7\, One Shot BVD\, Inforce 3\, Pre-cond. Shots: Bovi-Shield Gold One Shot\, Ultravac 7 Somubac\, Inforce 3\, Dectomax\, Bangs Vac.\, Weaning Shots: Bovi-Shield Gold 5\, BeefCARE \, NHTC\, EV for Saudi Arabia\, Source and Age\, Veg Fed\, Verified Natural Beef thru IMI Global \nRobert  & Cindy Faulkner   56 Mx Strs & Hfrs\, 300-400#\, Weaned 60 days\, Hay Fed\, Branding Shots\, Pre-cond. Shots: Vira Shield 6\, Polybac\, 7-way\, Home Raised \nL Bar F Ranch   55 Blk/Bwf/Char Strs & Hfrs\, 575-650#\, Weaned 60 days\, Alfalfa & Millett Hay Fed\, Cake Broke\, Branding Shots: Ultra Choice 7\, Inforce\, One Shot BVD\, Pre-cond. Shots: One Shot BVD\, Vision 7 w/Somnus\, Bovi-Shield Gold 5 \nChris Birkmaier   50 50% Blk/Bwf//50% Char Strs & Hfrs\, 600-700#\, Weaned on Sept. 1\, Been on a Light Grower Ration\, 2 Rounds of Shots\, Poured\, No Implants\, Steers are Knife Cut\, Home Raised \nBrand Fogg   50 Red/Blk Angus Strs & Hfrs\, 550-650#\, Weaned 90 days\, Running out  on grass\, Branding Shots: Bovi-Shield Gold One Shot\, Ivomec Pour on\, Weaning Shots: Bovi-Shield Gold One Shot \nIrvine Ranch   48 Blk Hfrs\, 600-650#\, Weaned a long time\, Bunk Broke\, Been on a Grower Ration\, Complete Vac. Program\, Poured w/Dectomax\, Bangs Vac.\, Home Raised \nSnowhole Ranch Co.   48 Mx Strs & Hfrs\, 500-650#\, Weaned 57 days\, Hay Fed\, Pre-cond. Shots: Vira Shield 6\, Bar Vac\, C & D\, Nasalgen\, Poured w/Ivermax \nNathan Painter   44 Blk Hfrs\, 500-625#\, Weaned 75+ days\, Been on a Light Grower Ration\, Bunk Broke\, Weaning Shots: 7-way Somnus\, Pyramid 5+Presponse (2x)\, Poured w/Ivermectin\, Home Raised \nWEBO Angus   25 Blk Angus Strs\, 500-550#\, Weaned on Oct. 15\, Bunk Broke\, Been on a Grower Ration\, Shots: Vision 7 w/Somnus (3x)\, Endovac (2x)\, Nazel Gen 3 (2x)\, poured and Wormed at Weaning. Sired by Registered Angus Bulls \n****16 Blk Angus Strs650-700#\, Weaned on Oct. 15\, Bunk Broke\, Been on a Grower Ration\, Shots: Vision 7 w/Somnus (3x)\, Endovac (2x)\, Nazel Gen 3 (2x)\, poured and Wormed at Weaning\, Sired by Registered Angus Bulls \nLarry Chamberlain   40 Blk/Bwf few Red/Rwf Strs\, 600-650#\, Weaned 90 days\, Silage Ration\, Bunk Broke\, Shots: Been on a Vac. 45 Program\, Poured w/Ivermectin\, No Implants\, Home Raised \nScott Forrest   40 Blk Strs & Hfrs\, 500#\, Weaned on Nov. 21\, Been on Alfalfa/Grass Hay Mix\, Branding Shots: Pyramid 5+Presponse\, Vision 7\, Multi-min\, Booster Shots: Pyramid 5+Presponse\, Vision 7 w/Somnus\, Multimin\, No Implants\, Producer All Natural \nWurtsmith Land & L/S   40 Blk Strs & Hfrs\, 500-600#\, Weaned since Nov. 13\, Bunk Broke\, Hay Fed\, Shots at Birth: Alpha 7\, Clostridium Type A & C\, Branding Shots: Pyramid 5+Presponse\, MycoVac\, Pre-cond. Shots: Vira Shield 6 w/Somnus\, MycoVac\, Booster Shots: Pyramid 5+Presponse\, Vision 7 w/Somnus \nMark Miller   40 Mx Strs\, 450#\, Weaned 90+ days\, Bunk Broke\, Been on Hay and Haylage\, Complete Vac. Program (3 Rounds of shots)\, No Implants \nDalles Ranch/Mike Dalles   38 Mx Strs & Hfrs\, 500#\, Weaned since Sept.\, Running out\, Cake Broke\, On Long Stem Hay\, Complete Vac. Program \nTyler Braisted   35 Blk/Rd Strs & Hfrs\, 550-650#\, Weaned 45+ days\, Running Out\, grass/Alfalfa Hay Mix\, Lick Tubs\, Branding Shots: Inforce 3\, One Shot BVD\, Ultra Choice 7\, Dectomax Injectable\, Pre-cond. Shots: Vision 7 w/Somnus\, Valcor Injectable\, Weaning Shots: Express 5 SH \nRoberts Ranch LLC   31 Red-hided Strs & Hfrs\, 400-750#\, Weaned a long time\, Been on Long Stem Hay Only\, Complete Vac. Program \nT A Ranch   31 Mx Strs & Hfrs\, 600-700#\, Weaned\, Hay Fed\, Complete Vac. Program \nSage Creek Ranch   30 Mx Strs & Hfrs\, 400-525#\, Weaned 30+ days\, Hay Fed\, Branding & Pre-cond. Shots: 8-way \nGerald Sterkel   30 Mx Strs\, 400-625#\, Weaned a long time\, Hay Fed\, 2 Rounds of  Shots \nRon Barrett   29 Mostly Blk few Rd Strs & Hfrs\, 500-600#\, Weaned since Nov. 10\, Been on a Grower Ration\, Bunk Broke\, Branding Shots: Inforce 3\, Vision 7\, Pyramid 5 +Presponse\, Pre-cond. Shots: Inforce 3\, Vison 7\, Wormed w/Valcor\, Knife Cut\, Producer All Natural \nChalk Hills Ranch   28 Blk/Bwf Hfrs\, 600-650#\, Weaned 90+ days\, Running out on Hay Meadows\, Supplemented with a Light Grower Ration\, Bunk Broke\, Branding and Pre-cond. Shots: Pyramid 5+Presponse\, Vision 7\, Weaning Shots: Pyramid 5+Presponse\, Vision 7\, Safe Guard Drench\, Poured with Ivermectin \nCrescent Livestock   26 Red/Blk/Wf Strs & Hfrs\, 350-400#\, Weaned since Oct. 7\, Running Out\, Branding Shots: Bovi-Shield Gold 5\, 7-way\, Booster Shots: Bovi-Shield Gold One Shot\, 7-way\, No Implants\, Steers are Knife Cut\, Producer All Natural \nRandy Crozier   25 Blk Strs & Hfrs\, 400-500#\, Weaned 90 days\, Hay Fed\, Been on a Complete Mineral Program\, Spring Shots: Ultra Choice 8\, Bovi-Shield Gold\, Fall Shots: Ultra Choice 8\, Bovi-Shield Gold\, Ivomec Plus Injectable\, No Implants\, Home Raised \nAndy Moore   21 Mx Strs & Hfrs\, 500-600#\, Weaned 60 days\, Running out on Hay Meadows supplemented with Hay\, 2 Rounds of Shots: Vision 7+Somnus\, Vista Once SQ\, Poured\, No Implants \nKent Torkelson   20 Blk Strs\, 600-650#\, Weaned 50+ days\, Bunk Broke\, On a Grower Ration\, 2 Rounds of Shots: Bovi-Shield Gold 5\, UltraBac 7\, Poured w/Ivermec \nWilliam Sturgeon   20 Blk Angus Hfrs\, 480#\, Weaned 70 days\, Home Raised\, High Elevation (7000’) \nBen Argyle   20 Mx Strs & Hfrs\, 400-500#\, Weaned since Nov. 1\, Hay Fed\, Branding Shots & Pre-cond. Shots: Bovi-Shield Gold\, 8-way\, Endovac \, Dectomax Injectable\, Poured w/Clean-up\, Sired by Ken Haas Bulls \nCamilletti Cattle Co/Darrell Camilletti   19 Mx Strs & Hfrs\, 320-650# (10 hd-320/9 hd-650#)\, Weaned 75 days\, Branding  and Weaning Shots: Pyramid 5\, 8-way\, Plus Pinkeye at Weaning \nArlin & Sharon Torkelson   17 Blk Strs\, 575-600#\, Weaned 60+ days\, Bunk Broke\, Been on a Grower Ration\, Branding Shots and Pre-cond. Shots: Bovi-Shield Gold One Shot\, Ultrabac 7\, No Implants\, Sired by Jorgenson Blk Angus Bulls\, Home Raised \nSteve Shockley   17 Blk Strs & Hfrs\, 550#\, Weaned 120 days\, Bunk Broke\, Hay Fed\, Ground Corn\, Cake Broke\, Branding Shots: Bovi-Shield Gold One Shot\, Ultra Choice 7\, Pre-cond. Shots: Pyramid 5+Presponse SQ\, Ultra Choice 7 \nJosh Paskett   17 Mostly Blk few Red Strs\, 600-750#\, Weaned since Nov. 19\, Branding Shots: Inforce 3\, BVD One Shot\, 8-way\, Pre-cond. Shots: Ultrabac 7/Somnus\, Bovi-Shield Gold\, BVD One Shot\, Producer All Natural \nKolby & Odessa Eddy   10 Hereford/Rwf Strs\, 500-550#\, Weaned on Oct. 15\, Bunk Broke\, Been on a Grower Ration\, Shots: Vision 7 w/Somnus (3x)\, Endovac (2x)\, Nazel Gen 3 (2x)\, poured and Wormed at Weaning. Sired by Registered Hereford Bulls \n****6 Blk Angus Strs\, 650-700#\, Weaned on Oct. 15\, Bunk Broke\, Been on a Grower Ration\, Shots: Vision 7 w/Somnus (3x)\, Endovac (2x)\, Nazel Gen 3 (2x)\, poured and Wormed at Weaning\, Sired by Registered Angus Bulls\, Knife Cut \nAlvaro Baeza   15 Red Strs\, 600-650#\, Weaned a long time\, Been on a Light Grower Ration\, Complete Vac. Program \nWillis Stallman   12 Blk/Bwf Hfrs & Str (1 hd)\, 475-625#\, Weaned 75 days\, Fed a Grass/Alfalfa Hay Mix\, Branding Shots: 7-way\, Pre-cond. Shots: Vira Shield 6 \nMelvin Eastman   8 Blk Strs & Hfrs\, 400#\, Weaned since Nov. 1\, Alfalfa Hay Fed\, Branding and Pre-cond. Shots: Bovi-Shield Gold\, 8-way\, Producer All Natural \nBrian Pickeral   4 Blk Strs/Hfr\, 325-350#\, Weaned Oct. 22\, Cake Broke\, Hay Fed\, 2 Rounds of Modified Live Vac. Program\, Implanted \nMatt Kay   4 Mx Strs & Hfrs\, 500#\, Weaned since Sept.\, Running out\, Cake Broke\, On Long Stem Hay\, Complete Vac. Program \nBath Brothers   2 Mx Strs\, 600#\, Weaned a long time\, Running out\, Bunk Broke\, Complete Vac. Program \n  \nPre-cond. Calves \nCross C Ranch   70 Blk Strs & Hfrs\, 500-550#\, Branding Shots: Bovi-Shield Gold\, 7-way\, Pre-cond. Shots: Bovi-Shield Gold\, Coming off the moms \nSchad Wilson   11 Char few Blk Hfrs\, 570#\, Pre-cond. Shots (Nov.): Vista Once\, Vision 8 w/Spur\, Multimin\, Vetermic Pour On\, Bangs Vac.\, Started on cake along side of moms \nMANY MORE CONSIGNMENTS BY SALE DAY \nCheck out www.torringtonlivestock.com for more consignments and to view sales and bid online!!! \nFOR MORE INFORMATION CALL 307-532-3333
URL:https://torringtonlivestock.com/event/wednesday-january-14th-2026-feeder-calf-special/
END:VEVENT
END:VCALENDAR