BEGIN:VCALENDAR
VERSION:2.0
PRODID:-//Torrington Livestock Market - ECPv6.15.20//NONSGML v1.0//EN
CALSCALE:GREGORIAN
METHOD:PUBLISH
X-ORIGINAL-URL:https://torringtonlivestock.com
X-WR-CALDESC:Events for Torrington Livestock Market
REFRESH-INTERVAL;VALUE=DURATION:PT1H
X-Robots-Tag:noindex
X-PUBLISHED-TTL:PT1H
BEGIN:VTIMEZONE
TZID:America/Denver
BEGIN:DAYLIGHT
TZOFFSETFROM:-0700
TZOFFSETTO:-0600
TZNAME:MDT
DTSTART:20250309T090000
END:DAYLIGHT
BEGIN:STANDARD
TZOFFSETFROM:-0600
TZOFFSETTO:-0700
TZNAME:MST
DTSTART:20251102T080000
END:STANDARD
BEGIN:DAYLIGHT
TZOFFSETFROM:-0700
TZOFFSETTO:-0600
TZNAME:MDT
DTSTART:20260308T090000
END:DAYLIGHT
BEGIN:STANDARD
TZOFFSETFROM:-0600
TZOFFSETTO:-0700
TZNAME:MST
DTSTART:20261101T080000
END:STANDARD
BEGIN:DAYLIGHT
TZOFFSETFROM:-0700
TZOFFSETTO:-0600
TZNAME:MDT
DTSTART:20270314T090000
END:DAYLIGHT
BEGIN:STANDARD
TZOFFSETFROM:-0600
TZOFFSETTO:-0700
TZNAME:MST
DTSTART:20271107T080000
END:STANDARD
END:VTIMEZONE
BEGIN:VEVENT
DTSTART;VALUE=DATE:20260116
DTEND;VALUE=DATE:20260117
DTSTAMP:20260424T142841
CREATED:20251212T204839Z
LAST-MODIFIED:20260120T150240Z
UID:4939-1768521600-1768607999@torringtonlivestock.com
SUMMARY:Friday\, January 16th\, 2026 - All Classes
DESCRIPTION:TORRINGTON LIVESTOCK MARKETS \nFriday\, January 16th\, 2026\n All Classes\nStarting at 9:00 am MDT with Weigh-ups\nCattle Country Video – Noon\nTrue Ranches   210 Fed Cows. 95% Blk\, 5% Bwf. Base Wt: 1600 lbs. Slide: .04 @ 25 lbs under base wt. Located: Wheatland\, WY. Delivery: 1/19/26 to 1/24/26. Feed: High Corn Ration\, Distillers\, Silage. Poured & Wormed. Weigh: Gather from pen weigh on truck w/ 4%. Comments: Excellent set of Fed Cows on Feed 100 Days by Delivery. Sorting from 225 head. Rep: Zach Johnson 307-575-2171. \nwww.cattlecountryvideo.com \nBred Cows/Heifers \nRaymond Horn Ranch Co.   40 Mx Cows\, Mx Ages\, CF: Late \nDan & Terri Goddard   18 Blk/Bwf Cows\, ST\, Bred to Hereford/Blk Angus Bulls\, CF: March 20\, Spring & Fall Shots\, Poured w/Ivomec\, Preg-Guard on Sept. 10 \nKyle Cruth   8 Mx Cows\, Mx Ages\, CF: Mx\, Shots: Been on Full Vac. Program (Vira Shield 6+VL5\, Drench W/Safe Guard\, Poured-4 weeks ago)\, All Natural \nTriangle 2 Livestock   2 Blk Hfrs\, CF: Mx \nListowel Land & Cattle  2 Blk Hfrs\, CF: April\, Red Tagged \n  \nFeeders/Calves \nSlipknot Ranch   6 Mx Strs & Hfrs\, 500# \n****1 Longhorn Str\, 750# \nJared Blair   5 Fresh Roping Calves\, 400-500# \nRocking Hammer Livestock   1 Calf\, 500# \nBrett Humphrey   1 Blk Hfr\, 600# \n  \nWeighups \nShepard Farms   35 Mx Cows \nSlipknot Ranch   31 Mx Bulls \nFarner Cattle Co.   31 Mx Cows \nMurphy Ranch   30 Mx Bulls \nA Mill Iron Angus   25 Mx Cows/Bulls \nBartlett Cattle Co.   25 Mx Cows \nTriangle 2 Livestock   22 Mx Cows \nWurtsmith Land & Cattle   20 Mx Cows \n77 Ranch   17 Mx Cows/Bulls \nGarson Ranch   14 Mx Cows\, Exposed \nDan & Terri Goddard   12 Mx Cows/Bulls \nFlag Bar Livestock/Shane Camilletti   10 Mx Cows \nLarry Chamberlain   10 Mx Cows \nRocking Hammer Livestock   7 Mx Cows\, Open/Exposed \n****1 Bull \nRK Farms   8 Mx Cows/Bull \nJerry Shimic   7 Blk Bulls \nPierre Etchemendy   6  Mx Cows \nDavid Claus   5 Mx Cows/Hfrett \nArnold Keslar   3 Blk Bulls \nJared Blair   2 Longhorn Cows \nTwo Creek Ranch   2 Mx Bulls \nDave Barrette   1 Bull \n  \nMANY MORE CONSIGNMENTS BY SALE DAY \nCheck out www.torringtonlivestock.com for more consignments and to view sales and bid online!!! \nFOR MORE INFORMATION CALL 307-532-3333
URL:https://torringtonlivestock.com/event/friday-january-16th-2026-all-classes/
END:VEVENT
END:VCALENDAR