BEGIN:VCALENDAR
VERSION:2.0
PRODID:-//Torrington Livestock Market - ECPv6.15.20//NONSGML v1.0//EN
CALSCALE:GREGORIAN
METHOD:PUBLISH
X-WR-CALNAME:Torrington Livestock Market
X-ORIGINAL-URL:https://torringtonlivestock.com
X-WR-CALDESC:Events for Torrington Livestock Market
REFRESH-INTERVAL;VALUE=DURATION:PT1H
X-Robots-Tag:noindex
X-PUBLISHED-TTL:PT1H
BEGIN:VTIMEZONE
TZID:America/Denver
BEGIN:DAYLIGHT
TZOFFSETFROM:-0700
TZOFFSETTO:-0600
TZNAME:MDT
DTSTART:20250309T090000
END:DAYLIGHT
BEGIN:STANDARD
TZOFFSETFROM:-0600
TZOFFSETTO:-0700
TZNAME:MST
DTSTART:20251102T080000
END:STANDARD
BEGIN:DAYLIGHT
TZOFFSETFROM:-0700
TZOFFSETTO:-0600
TZNAME:MDT
DTSTART:20260308T090000
END:DAYLIGHT
BEGIN:STANDARD
TZOFFSETFROM:-0600
TZOFFSETTO:-0700
TZNAME:MST
DTSTART:20261101T080000
END:STANDARD
BEGIN:DAYLIGHT
TZOFFSETFROM:-0700
TZOFFSETTO:-0600
TZNAME:MDT
DTSTART:20270314T090000
END:DAYLIGHT
BEGIN:STANDARD
TZOFFSETFROM:-0600
TZOFFSETTO:-0700
TZNAME:MST
DTSTART:20271107T080000
END:STANDARD
END:VTIMEZONE
BEGIN:VEVENT
DTSTART;VALUE=DATE:20260119
DTEND;VALUE=DATE:20260120
DTSTAMP:20260424T142658
CREATED:20251212T204918Z
LAST-MODIFIED:20260120T150255Z
UID:4941-1768780800-1768867199@torringtonlivestock.com
SUMMARY:Monday\, January 19th\, 2026 - Bred Cow Special
DESCRIPTION:TORRINGTON LIVESTOCK MARKETS \nMonday\, January 19th\, 2025\n All Classes\nStarting at 9:00 am MDT with Weigh-ups;\nBreds to Sell between Noon & 1:00\nComplete or Partial Dispersals \nSlipknot Ranches   330 Blk/Rd Cows\, Partial Dispersal\, Mx Ages\, Bred to Red Bulls\, CF: End of March/April\, Shots: Vision 7 w/Spur\, Vira Shield 6 + VL5\, Ivomec Injectable\, Poured w/Cleanup\, Not Pampered (know how to fend for themselves) \nTheron & Wyatt Hageman   130 Blk Cows\, Complete Dispersal\, 2’s coming 3’s\, Bred to Trask & Bar X Blk Angus Bulls\, CF: April 10\, High Altitude \n****40 Blk Cows\, Complete Dispersal\, SM\, Bred to Trask & Bar X Blk Angus Bulls\, CF: April 10\, High Altitude \nSteve McNamee   40 Blk/Bwf Cows\, Complete Dispersal\, Running Ages\, Bred to Blk Bulls\, CF: End of Feb/First of March thru April\, This year calves weaned off; avg 600-700#\, Good Mothers \nBen Mast   40 Mx Cows\, Complete Dispersal of Age Cows\, SS-ST\, Bred to Ochsner-Roth Blk Bulls\, CF: April 10 for 50 days\, Free Choice Redman Mineral & Garlic Salt Program \nCircle H Farms   26 Blk few Rd Cows\, 1325#\, Partial Dispersal of Older Cows\, SM-ST\, Bred to Ochsner-Roth Blk Bulls\, Ultra-sounded to CF: April 1 for 60 days\, No Fall Shots\, Poured with Clean-up II on Dec. 23\, Ran at 8000’ last year \nEd & Ronda Haas   5 Blk/Rwf Cows\, Partial Dispersal\, 3-7 yr olds\, Bred to McClun Angus Bulls\, CF: March 20 for 45 days\, Breeding Shots: Vibrio/Leptro\, 5-way\, 7-way\, Selling due to Dry Conditions\, Crump\, Ochsner-Roth\, Doug Booth Genetics \n  \nBred Heifers \nLucky 7 Angus   110 Blk Angus Hfrs\, Bred to Proven Lucky 7 Angus Feed Efficient\, Calving Ease Bulls\, CF: Feb. 15 for 55 days\, Lucky 7 Genetics; the #1 Proven Feed Efficient Breeder in the World \nA Mill Iron Angus/Mark & Amada Huffstetler   108 Blk Hfrs\, 1100#\, Bred to Low PAP\, Calving Ease Blk Angus Bulls\, CF: March 10\, 1st Round of Guardian\, 1-iron\, High Elevation\, PAP Tested Herd \nTimpas Ranch   97 Blk Angus Hfrs\, 1050-1100#\, AI’d Bred to Linz Harley (-0.5 BW; +9 CED; In Top 20 % or better for YW\, WW RER\, Marble) Alata Genetics\, CF: March 1\, 3 Rounds of Shots: Bovi-Shield Gold One Shot\, Vision 7/Somnus\, Shots at Preg Check: Cattle Master 5 FP VL5\, Bangs Vac\, EID Tagged (Note: No Clean-up Bull was used) \nPorter Burtenshaw   85 Blk/Blk Brockle Hfrs\, 1250#\, 2 yr olds\, Bred to Riverbend Blk Angus  and Carter Blk Angus Calving Ease Bulls\, CF: April. 20 for 30 days\, Shots: Pyramid 5\, Vision 8\, Running out on Cornstalks\, Supplemented with Grass Hay\, Hot Wire Broke\, Bunk Broke \nWhite Sand Ranch   52 Blk Hfrs\, 1150#\, 2 yr olds\, Bred to Sitz & KG Blk Angus Low Birth Weight Bulls\, CF: March 1st for 30 days\, Shots: Vira Shield 6 VL5\, 1st Guardian Scour Shot\, Poured w/Clean-up II\, Pelvic Measureed \nBrian & Jeri Currier   34 Blk Hfrs\, 1000#\, Bred Low Birth Weight Blk Angus Bulls from Sitz Intuition\, Bennett Exponential\, KG Just Cause and Connely Commerce Bloodlines\, CF: March 16 for 21 days\, Coming off their Replacement Heifers\, Home Raised \nWEBO Angus   32 Blk Hfrs\, 2 yr olds\, Bred to Calving Ease High End Blk Angus Herd Blk Bulls (Reg #’s: 2091887 Bold Ruler Son & 21191950 Trademark Son\, Ultra-sound to CF: April 1 for 25 days\, Complete Modified Live Vac. Program\, Wormed w/Safe Guard\, Poured w/ Clean-up last Fall\, Shots on Jan. 10\, 2026: 1st Guardian Shot\, Poured w/Cydectin\, Home Raised \nAnderson Ranch Co   30 Red Angus Hfrs\, 1080#\, AI’d Bred to Koester Propulsin #4773613\, Clean-up Bull was Wassum Relentless #4805354 for 60 days\, Shots: Staybred (2x)\, Poured (2x) \nSidwell Ag/Justin Sidwell   30 Blk/Bwf Hfrs\, AI’d Bred to Stevenson Turring Point Bull\, Clean-up Bulls: Tope End Bar X Low Birth Weight Blk Bulls\, CF: Feb-March\, Been on a Full Vac. Program since Birth\, Home Raised \nMike Werner   15 Red Angus Hfrs\, 1100#\, AI’D Bred to Duff Red Blood 18114 (BW: -2.5\, CED: 16); Proven Calving Ease Heifer Bull\, First Ultra-sounded on July 20\, Poured\, 2nd Ultra-sound on Oct. 7 to CF: Feb. 20\, Shots on Oct. 7: Scour Bos 9\, Vira Shield 5 VL5\, Poured\, This set of heifers have been Home Raised\, Bunk Broke\, Electric Wire Broke\, Been on a Complete Salt & Mineral Program\, Been on Corn Silage/Hay Fed Ration \n****6 Red Angus Hfrs\, 1100#\, Bred to Low Birth Weight Registered Red Angus Bulls\, First Ultra-sounded on July 20\, Poured\, 2nd Ultra-sound on Oct. 7 to CF: March 20 for 60 days\, Shots on Oct. 7: Scour Bos 9\, Vira Shield 5 VL5\, Poured\, This set of heifers have been Home Raised\, Bunk Broke\, Electric Wire Broke\, Been on a Complete Salt & Mineral Program\, Been on Corn Silage/Hay Fed Ration \nLogan Burtenshaw   5 Red Angus Hfrs\, 1250#\, Bred to Red Angus Calving Ease Bulls\, CF: April. 20 for 30 days\, Shots: Pyramid 5\, Vision 8\, Dewormed\, Running out on Cornstalks\, Supplemented with Grass Hay\, Hot Wire Broke\, Bunk Broke \nMatt Bullington   2 Blk Hfrs\, Bred to Blk Angus Bulls\, CF: Late March \nJoann Schneider   1 Mx Hfr\, Bred to Blk Bull\, CF: June \n  \n  \nBred Cows \nLucky 7 Angus   110 Blk Angus Cows\, 3-10 yr olds\, Bred to Proven Scientific\, Feed Efficient Lucky 7 Herd Bulls\, CF: Feb. 25 for 60 days\, Lucky 7 Genetics; the #1 Proven Feed Efficient Breeder in the World\, NOTE: $25.00/per cow credit when purchasing a bull at our March 7 Bull Sale \nVearl & Pasty Bird Family Trust   80 Blk Cows\, Running Ages\, Bred to Blk Sim Bulls\, CF: Mx \nHidden Spring Ranches   36 Char-x Cows\, Mx Ages\, Bred to Blk Bulls\, CF: April 1 for 42 days \n****44 Blk/Bwf Cows\, SS\, Bred to Blk Bulls\, CF: March 15 \nThe Ponderosa Ranch   66 Mx Cows\, Running Ages\, Bred to Blk Bulls\, CF: April/May few Summer \nAaron Sorsenson   60 Blk Cows\, Running Ages\, Bred to Blk Bulls\, CF: March/April \nRocking Chair Cattle Co./John J & Cody Chrisman   20 Blk Cows\, SM\, Bred to Leachman & Diamond Peak Blk Angus Bulls\, CF: April\, Shots: Vira Shield 6+VL5\, Multi-min\, Safe Guard Wormer\, Poured w/Clean-up \n****30 Blk Cows\, SM\, Bred to Leachman & Diamond Peak Blk Angus Bulls\, CF: Late\, Shots: Vira Shield 6+VL5\, Multi-min\, Safe Guard Wormer\, Poured w/Clean-up \nThar Angus   35 Blk Cows\, 2’s coming 3’s; 3’s coming 4’s\, Bred to Blk Angus Bulls\, CF: May 1 for 25 days\, Curren on all Shots\, Poured \nJesse & Lisa Tabke   30 Blk few Bwf Cows\, 5-9 yr olds\, Bred to Angus Bulls\, CF: April/May \nCamblin Livestock   28 Blk/Rd Angus Cows\, SM\, Bred to Blk Bulls\, CF: March \nDewey Hageman   27 Blk/Rd Cows\, ST\, Bred to Blk & Char Bulls\, CF: April 15 for 60 days\, Current on Shots \nWEBO Angus   20 Blk Cows\, 3 yr olds t ST\, Bred to Registered Blk Bulls\, CF: April thru May\, Complete Modified Live Vac. Program\, Wormed w/Safe Guard\, Poured w/Cean-up last Fall\, 1st Guardian Shot on Jan. 10\, 2026\, Poured w/Cydectin\, Home Raised \n(Note: 6 hd-3 yr olds; 7 hd-4 to 6 yr olds; bal is 7 yr olds to ST; Ultra-sounded to Cf: 3 hd-March 14 to April 5\, Bal to CF: April 20 to May 5) \nBooth Farms & Livestock   25 Blk Cows\, SM-ST\, Bred to Blk Bulls\, CF: Feb. thru April\, Complete Vac. Program\, Electric Fence Broke \nKelly & Amy Artery   24 Angus-x Cows\, Mx Ages\, Bred to Blk Angus Bulls\, CF: March 20\, Shots:  Cattle Master 4\, Staybred\, Dectomax Injectable\, Poured w/Clean-up \nBrian & Jeri Currier   21 Blk Cows\, Mx Ages\, Bred to Blk Angus Bulls\, CF: April 12 for 42 days\, Complete Vac. Program\, Home Raised \nBob & Bev Yeik   20 Blk Cows\, 7’s coming 8 yr olds\, Bred to Booth Family Blk Angus Bulls\, CF: March \nRyan Boner   20 Red/Rwf Angus Cows\, 1300#\, 4-7 yr olds\, Bred to Pieper and U2Q Red Bulls\, CF: June 15\, Shots: Vira Shield 6\, Vitamin A & D\, Synthetic Oral Drench\, Vetrimec Pour On\, Gentle Mothers \nHales Ranch Trust   16 Blk/Bwf Cows\, 1350#\, ST\, Bred to Gray or ZumBrunnen Angus Bulls\, CF: April 10 for 55 days\, Shots: Preg Guard 10\, Ivomectin Pour On\, Home Raised\, Running Out on Grass & Cake \nFish Creek Flying W Ranch/Pam & Cody Chrisman   15 Blk Cows\, SS\, Bred to Circle L Angus\, Redland Redbank Angus High Performance Black Angus Bulls\, CF: May 15 and Later\, Shots: Vira Shield 6+VL5\, Multi-min\, Safe Guard Wormer\, Poured w/Clean-up \nMike Werner   14 Red Angus Cows\, 1400#. Mx Ages\, Bred to Red Angus Bulls\, CF: March 1\, Been on a Annual Fall Vac. Program: Scour Bos 9\, Vira Shield 6 VL5\, Poured\, Electric Fence Broke\, Been on Silage/Hay\, All Home Raised\, Gentle \nBennett Creek/Noah’s Ark   10 Mx Cows\, Mx Ages\, CF: March/April \nClyde & Francis Caster   9 Blk Cows\, SM-ST\, AI’d Bred to Capital\, Network\, Double Play\, Clean-up w/Thomas Angus Bulls\, CF: March 17 to May 28 \nJoann Schneider   8 Mx Cows\, Mx Ages\, Bred to Blk Bulls\, CF: Mid- April \nEly Ranch   7 Mx Cows\, Mx Ages\, Bred to Blk Bulls\, CF: End of May \nBryce Sturman   7 Blk/Bwf Cows\, Mx Ages\, Bred to Blk Angus Bulls\, CF: June 1\, Shots: Vira Shield 6+VL5\, Guardian\, Poured\, Been on a Complete Mineral Program \nDave Burnett   5 Mx Cows\, 10-12 yr olds\, Bred to Red Angus Bulls\, CF: March \nCraig Martin   6 Simmental Blk Cows\, 1100-1300#\, Mx Ages\, AI’ Bred to PB Simmental Bulls “Wheatland Revolution”\, PHFC Defender”\, CF: Feb. 7. Running out on Cornstalks\, Cake Broke\, Hot Wire Broke\, Coming Salt/Mineral Program\, Complete Vac. Program\, Gentle and Easy to Work With\, Note: 3 head is Registered and Papers are Available Upon Request for $100.00/head \nTrevor Schneider   4 Mx Cows\, Mx Ages\, Bred to Blk Bulls\, CF: April/May \nMatt Bullington   3 Blk Cows\, 3-5 yr olds\, Bred to Blk Angus Bulls\, CF: Late March \nAlec Thorton Berg   1 Mx Cow\, Mx Age\, Bred to Blk Bulls\, CF: April/May \n  \nMANY MORE CONSIGNMENTS BY SALE DAY \nCheck out www.torringtonlivestock.com for more consignments and to view sales and bid online!!! \nFOR MORE INFORMATION CALL 307-532-3333
URL:https://torringtonlivestock.com/event/monday-january-19th-2026-bred-cow-special/
END:VEVENT
END:VCALENDAR