BEGIN:VCALENDAR
VERSION:2.0
PRODID:-//Torrington Livestock Market - ECPv6.15.20//NONSGML v1.0//EN
CALSCALE:GREGORIAN
METHOD:PUBLISH
X-WR-CALNAME:Torrington Livestock Market
X-ORIGINAL-URL:https://torringtonlivestock.com
X-WR-CALDESC:Events for Torrington Livestock Market
REFRESH-INTERVAL;VALUE=DURATION:PT1H
X-Robots-Tag:noindex
X-PUBLISHED-TTL:PT1H
BEGIN:VTIMEZONE
TZID:America/Denver
BEGIN:DAYLIGHT
TZOFFSETFROM:-0700
TZOFFSETTO:-0600
TZNAME:MDT
DTSTART:20250309T090000
END:DAYLIGHT
BEGIN:STANDARD
TZOFFSETFROM:-0600
TZOFFSETTO:-0700
TZNAME:MST
DTSTART:20251102T080000
END:STANDARD
BEGIN:DAYLIGHT
TZOFFSETFROM:-0700
TZOFFSETTO:-0600
TZNAME:MDT
DTSTART:20260308T090000
END:DAYLIGHT
BEGIN:STANDARD
TZOFFSETFROM:-0600
TZOFFSETTO:-0700
TZNAME:MST
DTSTART:20261101T080000
END:STANDARD
BEGIN:DAYLIGHT
TZOFFSETFROM:-0700
TZOFFSETTO:-0600
TZNAME:MDT
DTSTART:20270314T090000
END:DAYLIGHT
BEGIN:STANDARD
TZOFFSETFROM:-0600
TZOFFSETTO:-0700
TZNAME:MST
DTSTART:20271107T080000
END:STANDARD
END:VTIMEZONE
BEGIN:VEVENT
DTSTART;VALUE=DATE:20260121
DTEND;VALUE=DATE:20260122
DTSTAMP:20260424T143511
CREATED:20251212T204952Z
LAST-MODIFIED:20260204T170554Z
UID:4943-1768953600-1769039999@torringtonlivestock.com
SUMMARY:Wednesday\, January 21st\, 2026 - Feeder/Calf Special
DESCRIPTION:TORRINGTON LIVESTOCK MARKETS \nWednesday\, January 21st\, 2025\nFeeder & Calf Special\nStarting at 9:00am\nCattle Country Video – 1:00 pm MT \nLot 171     Theron & Wyatt Hageman   141 Weaned Steers. 100% CharX. Base Wt: 850 lbs. Slide: 14 cents. Wt Stop: 875 lbs. Location: 35 miles NW of Torrington\, WY. Delivery: 1/22/26 to 1/24/26. Feed: Warm up ration. Branding & Precond Shots. Boostered with Titanium 5 & SafeGuard. Revalor IS Implant. Weigh: Early am gather\, weigh on ground w/a 3% and sort for loads. Comments: Extra fancy set of Charolais steers. Purchased top end of calves off of two ranches. Excellent frame and condition. Weaned since October. Rep: Hunter Dockery 307-340-1202. \nLot 172    Tillard Bros   72 Weaned Steer Calves. 100% Black Angus. Base Wt: 750 lbs. Slide: 16 cents off/on up to 25# over/under base wt. Location: 12 miles SW of Wheatland\, WY. Delivery: 1/22/26 to 1/31/26. Feed: Grower ration consisting of: ground hay\, corn silage\, DDG & corn earlage. High roughage ration for a 1.5 to 2 lb predicted ADG. Branding Shots: Vista Once\, Vision 7/Somnus. Weaning Shots: Endovac\, Inforce 3\, One Shot BVD\, Vision 7/Somnus & Spur\, Pink Eye Vaccine & Ivermax Pour On. Post Weaning Booster: Endovac\, Inforce 3\, One Shot BVD\, Vision 7/Somnus & Spur\, Pink Eye Vaccine. Weigh: Early am gather from pen\, weigh on the ground w/a 3%\, weigh back any cuts. Approximately one 54\,000 lb net load. Comments: Fancy set of feeder steers from long time Wyoming ranching family. You will not be disappointed with quality. Weaned the end of October. Biggest and best pre-sorted from 155 head. No Implants. Test weighed 1/17 at 742 lbs with a 3% shrink. Rep: Chuck Petersen 307-575-4015. \nLot 173   Diamond Tail Ranch   93 Weaned Steer Calves. 100% Blk/Bwf. Base Wt: 630 lbs. Slide: 18 cents. Wt Stop: 650 lbs. Location: 10 miles E of Greybull\, WY. Delivery: 2/5/26 to 2/15/26. Feed: Running out on meadows. Branding Shots: Vision 7 & Pyramid 5 + Presponse. Precond Shots: Vista Once & Vision 7/Somnus. Weaning Shots: Vista Once\, Vision 7/Somnus & Poured w/ Clean Up. Weigh: Early am gather and weigh on ground w/a 3%. Comments: One iron steers. Sort from 120 hd. Will be in good condition for grass. Rep: Ben Kukowski 307-217-1472. \nLot 174   Cullen Ranch/Brit & Morgan Douglas   96 Weaned Steer Calves. 90% Blk; 10% Bwf. Base Wt: 620 lbs. Slide: 18 cents. Wt Stop: 630 lbs. Location: 12 miles SW of Wheatland\, WY. Delivery: 1/22/26 to 1/24/26  Feed: Growing ration\, ground hay & silage. Branding Shots: BoviShield Gold One Shot & 7-way. Precond Shot: Vision 7/Somnus\, BoviShield Gold One Shot. Weaning Shots: BoviShield Gold 5\, Somnubac & Valcor. Weigh: Early am gather from pen\, load on buyer’s pre-weighed truck\, haul 12 miles and weigh on truck w/a 3%. Comments: Fancy\, one iron and home raised calves. Weaned 75 days plus. Pre-sorted on Jan 19th. Test weighed on Jan 20th at 635 lbs. Wintered to go to grass. Rep: Ty Thompson 307-340-0770. \nwww.cattlecountryvideo.com \n  \nFeeders \nJasperson Cattle Co./Greg Jasperson   108 Blk/Rd Strs\, 650-750#\, Weaned since October\, Bunk Broke\, Been on Growing Ration\, Branding Shots: Nasalgen PHM\, Calvary 9\, Booster Shots: Vista Once SQ\, Vision 8 w/Somnus\, No Implants \n****89 Blk/Rd Hfrs\, 600-700#\, Weaned since October\, Bunk Broke\, Been on Growing Ration\, Branding Shots: Nasalgen PHM\, Calvary 9\, Booster Shots: Vista Once SQ\, Vision 8 w/Somnus\, No Implants \nFred & Laurie Reichert   172 Blk Strs & Hfrs\, 650-700#\, Weaned since Oct. 25\, Bunk Broke\, Been on a Light Grower Ration\, Shots: Covexin 8\, ViraShield 6+VL5\, No Implants\, Home Raised \nVince Kasperbauer   60 Blk Strs\, 750#\, Weaned since Nov. 1\, Bunk Broke\, Been on Ground Hay\, Branding Shots: Vision 7 20/20\, Shots on Nov. 7: Vision 7 20/20\, Pyramid 5+Presponse\, Poured\, No Implants\, Producer All Natural \n****62 Red/Rwf Strs\, 650#\, Weaned since Nov. 1\, Bunk Broke\, Been on Ground Hay\, Branding Shots: Vision 7 20/20\, Shots on Nov. 7: Vision 7 20/20\, Pyramid 5+Presponse\, Poured\, No Implants\, Producer All Natural \n****2 Blk Strs\, 1000#\, Weaned since Nov. 1\, Bunk Broke\, Been on Ground Hay\, Branding Shots: Vision 7 20/20\, Shots on Nov. 7: Vision 7 20/20\, Pyramid 5+Presponse\, Poured\, No Implants\, Producer All Natural \n****4 Red/Blk Bulls\, 850#\, Weaned since Nov. 1\, Bunk Broke\, Been on Ground Hay\, Branding Shots: Vision 7 20/20\, Shots on Nov. 7: Vision 7 20/20\, Pyramid 5+Presponse\, Poured\, No Implants\, Producer All Natural \n****18 Red/Blk Hfrs\, 600#\, Weaned since Nov. 1\, Bunk Broke\, Been on Ground Hay\, Branding Shots: Vision 7 20/20\, Shots on Nov. 7: Vision 7 20/20\, Pyramid 5+Presponse\, Poured\, No Implants\, Producer All Natural \nJ & J Ochsner Livestock   84 Sim Angus Hfrs\, 700-750#\, Weaned 65+ days\, Bunk Broke\, Been on a Light Grower Ration\, 3 Round of Shots\, Poured w/Clean-up (2x)\, Bangs Vac.\, Home Raised\, No Replacements Kept \nFrontier Land Co.   81 Fancy Blk Hfrs\, 670-770#\, Weaned a long time\, Light Grower Ration\, Bunk Broke\, 3 Rounds of Modified Live Vac. Program\, Poured\, Bangs Vac.\, No Replacements Kept\, Many would make good Replacement Heifers\, Home Raised\, Slick calves \nRecola Cattle Co./Marvin Bear   65 Mx Strs\, 750-800#\, Weaned a long time\, Bunk Broke\, Been on a Background Ration for grass\, Shots:  Pyramid 5+Presponse\, 7-way w/Somnus\, Inforce 3\, Safeguard wormer\, Back Poured \nDewey Hageman   60 Char-x few Red Strs\, 850#\, Weaned since Oct. 1\, Bunk Broke\, Been on a Grower Ration\, 2 Rounds of Shots\, No Implants\, Knife Cut \nBar O Bar Ranch/Jim Wiscombe   53 Mx Strs & Hfrs\, 700-800#\, Weaned 90 days\, Bunk broke\, Alflafa/Grass Hay Mix\, 2 Rounds of Shots in the Fall: Bovi-Shield Gold\, Ultra 7+Somnus\, Poured w/Dectomax\, Steers are Implanted & Knife Cut at Branding\, Heifers are NOT Implanted\, Home Raised \nMorris Hochstedler   39 Blk/Bwf/Hereford Strs & Hfrs\, 650-750#\, Weaned 60 days\, Bunk Broke\, Been on Silage\, Soy hull Pellets\, Alfalfa Hay\, Branding Shots: Pyramid 5+Presponse\, 7-way\, Pre-cond. Shots: Inforce 3\, Covexin 8\, Safe Guard\, Weaning Shots: Pyramid 5+Presponse\, BarVac CDT\, No Implants\, Home Raised \nJim Fabrizius   31 Blk Strs & Hfrs\, 650-700#\, Weaned 45 days\, Been on Grass Hay with a little Alfalfa Hay\, Branding Shots: 7-way\, Poured\, No Brands\, Producer All Natural \nCade Swanson   25 Blk Strs\, 750#\, Weaned 100+ days\, Bunk Broke\, Been on a Grower Ration\, Branding Shots: Pyramid 5+Presponse\, Vision 7 w/Somnus\, Weaning Shots: Pyramid 3\, Safeguard\, Poured w/Clean-up\, Knife Cut \nJim Snow   18 Blk Strs & Hfrs\, 700-750#\, Weaned since Oct. 18\, Bunk Broke\, Been on Alfalfa/Grass Hay Mix\, Branding Shots: 8-way wSomnus\, Pre-cond. Shots: 8-way\, Booster Shots: 8-way\, Poured w/Vetermax\, No Implants\, Steers are Knife Cut\, Producer All Natural \nLucky 7   15 Blk Hfrs\, 900-1050# Open Complete Vac. Program\, Bunk Broke\, Been on Fed for 60 days \nBruce Cuthbertson   10 Blk few Bwf Hfrs\, 625#\, Weaned since Oct. 15\, Branding Shots: Pyramid 5\, Vision 7\, Weaning Shots: Nasalgen\, Ivomec Pour On \nLadd Petersen   8 Mx Strs & Hfrs\, 650-750#\, Weaned 60+ days\, Bunk Broke\, Been on a Grower Ration\, 3 Rounds of Shots: Inforce\, 7-way w/Somnus\, Bovi-Shield Gold\, Sired by Sitz Bulls \nPetsch & Rollins   7 Blk Strs\, 950#\, Complete Modified Live Vac. Program\, No Implants\, Coming off grass\, Home Raised \nA Mill Iron Angus   6 Blk Hfrs\, 750#\, Open\, Complete Vac. Program\, Coming off grass \nMonaghan Ranch    4 Blk Hfrs\, 1000#\, PTO @ ranch\, Complete Vac. Program\, Coming off grass \nBlack Creek Cattle Co.   4 Mx Hfrs\, 850#\, Complete Vac. Program\, Coming off grass \nTwo Creek Ranch   4 Red/Blk Strs\, 650#\, Weaned since Oct.\, Shots: UltraBac 7\, Somnus\, & Bovi-Shield Gold 5 \nWyatt Hageman   2 Blk Hfrs\, 975#\, PTO @ barn\, Complete Vac. Program\, Coming off grass \nMatt Bullington   1 Blk Hfr\, 875#\, PTO @ barn\, Complete Vac Program\, Coming off grass \nLynn Burtenshaw   1 Blk Hfrs\, 800#\, PTO @ barn\, Complete Vac. Program\, Coming off grass \nAnderson Ranch   1 Red Hfr\, 775#\, PTO @ barn\, Complete Vac. Program\, Coming off grass \nWEBO ANGUS   1 Blk Hfr\, 1050#\, PTO @ barn\, Complete Vac. Program\, Coming off grass \nBrian Currier   1 Blk Hfr\, 1000#\, PTO @ barn\, Complete Vac. Program\, Coming off grass \n  \nWeaned Calves \nJ Reverse J Cattle   475 Mostly Blk/Bwf few Red Strs & Hfrs\, 550-700#\, Weaned 90 days\, Bunk Broke\, Been on a Light Grower Ration\, Branding Shots:  Bovi-Shield Gold 5\, 8-way\, Nasalgen\, Weaning Shots:  Ultrabac 7 w/Somnus\, Nasalgen 3 PMH\, Dectomax Pour On\, Steers are Knife Cut\, Fancy High Elevation Calves\, Sired by Montana Low PAP Coleman Bulls \nWoolstenhulme Farms   150 Mostly Blk Strs\, 400-500#\, Weaned 35+ days\, Hay Fed\, Branding Shots: 8-way\, Pre-cond. Shots: 8-way\, Home Raised \n****150 Mostly Blk Hfrs\, 400-500#\, Weaned 35+ days\, Hay Fed\, Branding Shots: 8-way\, Pre-cond. Shots: 8-way\, Home Raised \nLisco Ranch LLC   160 Blk Angus Strs\, 600-800#\, Weaned a 100 days\, Bunk Broke\, Been on a Grower Ration\, Been on a Vita Ferm Mineral Program\, Branding Shots: Nasalgen\, Vision 7\, Multi-min\, Pre-cond. Shots: Nasalgen\, Vision 7\, Multi-min\, Weaning Shots: Nasalgen\, Vista Once\, Vision 7\, Implanted with Revalor at Weaning \n****125 Blk Angus Hfrs\, 575-775#\, Weaned a 100 days\, Bunk Broke\, Been on a Grower Ration\, Been on a Vita Ferm Mineral Program\, Branding Shots: Nasalgen\, Vision 7\, Multi-min\, Pre-cond. Shots: Nasalgen\, Vision 7\, Multi-min\, Weaning Shots: Nasalgen\, Vista Once\, Vision 7\, Bangs Vac.\, NO Implants\, NO Replacements Kept \nRobber Roost Ranch   205 Blk Strs & Hfrs\, 420-450#\, Weaned a long time\, Been on Ground Hay and Little Corn\, Bunk Broke\, Branding Shots: 8-way\, Inforce\, Vira Shield 6\, Pre-cond. Shots (Oct.): 8-way\, Inforce\, Vira Sield 6\, No Implants\, High Elevation (6600+’) \nYust Cattle   72 Blk/Bwf Strs\, 600#\, Weaned since Oct. 25th\, Bunk Broke\, Been on a Grower Ratin\, Branding Shots: Vision 7 w/Spur\, Pyramid 5 + Presponse\, Pre-cond. Shots: Vision 7 w/Spur\, Pyramid 5+Presponse\, Injectable Wormer \n****104 Blk/Bwf Hfrs\, 600#\, Weaned since Oct. 5th\, Bunk Broke\, Been on a Grower Ration\, Branding Shots: Vision 7 w/Spur\, Pyramid 5+Presponse\, Pre-cond. Shots: Probac 4\, Simulator 5\, Vison 7\, Injectable Wormer \nMark Clark   160 Moslty Blk Strs & Hfrs\, 550-600#\, Weaned 45 days\, Hay Fed\, Shots at Birth: Multimin\, Inforce 3\, Ultra Choice 8\, Branding Shots: Ultra Choice 8\, Vira Shield 6\, Cattle Master Gold\, Booster Shots: Ultra Choice\, Vira Shield 6\, Cattle Master Gold\, Poured\, No Implants\, Steers are Knife Cut\, Producer All Natural \nAlan Harrison   110 Blk Strs & Hfrs\, 550-600#\, Weaned 100 days\, Bunk Broke\, Been on Good Dairy Quality Alfalfa Hay\, Branding Shots: 8-way w/Somnus\, Vira Shield 5\, No Implants\, Producer All Natural \nKennedy Ranch   100 Blk/Bwf Strs & Hfrs\, 400-600#\, Weaned 90+ days\, Running out on Meadows\, Hay Fed & Rumensin Cake\, Shots at Birth: 7-way\, Branding Shots: 7-way\, Pyramid 5\, Weaning Shots: Vision 7 w/spur\, Bovi-Shield Gold 5\, Nasalgen\, Summered at 8000’\, Out of Low PAP Tested Bulls\, Home Raised \nTB Farms LLC   99 Blk/Bwf few Rd/Rwf Strs\, 625#\, Weaned 100 days\, Been on a High Roughage Ration\, Shots at Birth: 8-way\, Multi-min\, Branding Shots: 8-way\, Vista Once\, Selenium\, Multi-min\, Pre-cond. Shots: 8-way\, Vista Once\, Poured w/ Ivmec\, Weaning: Safeguard Drench \nFrank Ranches Inc.   95 Blk Angus Hfrs\, 600#\, Weaned 90 days\, Been on a Light Grower Ration (Hay and Corn Silage)\, Bunk Broke\, Branding Shots: Vision w/Somnus+Spur\, Nasalgen 3-PMH\, Vista BVD CFP\, Vista\, Weaning Shots: Vision 7 w/Somnus+Spur\, Vista Once SQ\, SafeGuard\, Poured w/Saber in Late November\, No Implants\, Bangs Vac.\, Home Raised\, High Elevation \nMcWilliams Ranch   85 Blk Strs\, 500#\, Weaned 45 days\, Running Out\, Alfalfa/Millet Hay Fed\, 2 Rounds of Shots: Vista Once\, Vision 7 Somnus +Spur\, Poured w/Promectin B\, No Implants \nTillard Brothers   85 Blk Strs\, 625#\, Weaned at the end of Oct.\, Bunk Broke\, Been on a Light Grower Ration\, Branding Shots: Vista Once\, Vision 7/Somnus\, Weaning Shots: Endovac\, Inforce 3\, One Shot BVD\, Vision 7 Somnus/Spur\, Pinkeye Vac.\, Ivermax Pour On\, Post Weaning Booster: Endovac\, Bovi-Shield Gold 2\, Inforce 3\, Somnus\, Pinkeye Vaccine\, Home Raised\, Green\, Ready to go to grass \nPetsch & Rollins   76 Blk/Bwf Strs\, 600#\, Weaned 85 days\, Running out on Winter Grass supplemented with Hay\, 3 Rounds of Shots: Vista Once\, 7-way w/Somnus\, Injectable Ivomec\, No Implants\, Home Raised \nSand Hill Cattle LLC   75 Blk (2 Bwf) Strs & Hfrs\, 550-600#\, Weaned since Nov. 1\, Been on Oat Hay mix with 1st Cutting of Alfalfa hay\, Branding and Pre-cond. Shots: Vista Once SQ\, Vision 7 w/Somnus\, Poured w/Ivomec\, High Elevation\, High Desert\, Summered @7000+’ \nM Diaomnd Angus   71 Blk Strs & Hfrs\, 600-625#\, Weaned 100 days\, Running out on Pastures with Distillers\, Bunk Broke\, 2 Rounds of Shots: Vision 7-way w/Somnus\, Vista Once\, Steers are Implanted\, Heifers ONLY is Producer All Natural \nAdam Percival   70 Blk/Rd Strs & Hfrs\, 550-750#\, Weaned since Nov. 1\, Bunk Broke\, Been on Corn Silage\, Branding Shots: Bovi-Shield Gold One Shot\, 8-way w/Somnus\, Injectable Wormer\, Poured\, Steers are Knife Cut\, Producer All Natural \nNetz Ranch   70 Mostly Blk few Rd Strs & Hfrs\, Weaned a long time\, Bunk Broke\, Been on a Grower Ration\, 2 Rounds of Shots: Vista Once\, 7-way w/Somnus\, Fusguard\, Poured (2x) \nThe Ponderosa Ranch   70 Mx Strs & Hfrs\, 500-700#\, Weaned a long time\, Hay Fed\, 2 Rounds of Shots \nEHB Ranch Inc.   28 Blk/Rd Strs\, 600#\, Weaned 45 days\, Been on Grass/Alfalfa Hay Mix\, Complete Vac. Program\, High Elevation; Running at 6500+’ \n****29 Blk/Rd Hfrs\, 550#\, Weaned 45 days\, Been on Grass/Alfalfa Hay Mix\, Complete Vac. Program\, High Elevation; Running at 6500+’ \n****11 Blk/Rd Bull Clvs\, 400-600#\, Weaned 45 days\, Been on Grass/Alfalfa Hay Mix\, Complete Vac. Program\, High Elevation; Running at 6500+’ \nBracket Livestock   59 Mx Strs & Hfrs\, 600-900#\, Heifers are Spayed (except for 4)\, Weaned 45 days\, Been on Long Stem Hay\, 2 Rounds of Shots: Vista Once PMH\, Vision 7 w/Somnus\, Steers are Knife Cut \nJim Licking   55 Mostly Blk Strs & Hfrs\, 600-625#\, Weaned since Dec. 1\, Bunk Broke\, Branding & Pre-cond. Shots: Ultra Choice 7\, Bovi-Shield Gold\, Poured Dectomax\, Steers are Knife Cut\, Home Raised \nJeff & Cailey Garrett   55 Blk Strs & Hfrs\, 475-500#\, Weaned 70 days\, Bunk Broke\, Been on a Light Grower Ration\, Branding Shots: Vista Once\, Vision 7\, Pre-cond. Shots: Pyramid 5+Presponse\, Vision 7\, Longrange Wormer\, Weaning Shots: Express 5\, Vision 7\, Ivermectin Pour\, May/June Born Calves \nP O Ranch   55 Blk Strs & Hfrs\, 550-650#\, Weaned since Nov. 1st\, Running Out on Hay Pivot Stubble supplemented with Grains\, Alfalfa Hay Mix\, Been on a Free Choice Mineral Program\, Branding Shots: Bovi-Shield Gold One Shot\, UltraBac 7/Somnubac\, Pre-cond. Shots: Bovi-Shield Gold One Shot\, UltraBac 7/Somnubac\, Dectomax\, Booster Shots: Bovi-Shield Gold One Shot\, No Implants\, Home Raised \nBig Creek Ranch   51 Angus/Sim-Angus Strs\, 500#\, Weaned 60+ days\, Grass Hay Fed\, MLS Tubs\, Branding Shots: 5-way\, 7-way\, Pre-cond. Shots: One Shot\, 7-way w/Somnus \nDean House Family   50 Blk Strs & Hfrs\, 550-700#\, Weaned 90 days\, Bunk Broke\, Been on a Light Grower Ration\, Branding Shots: Bovi-Shield Gold 5\, Vision 7 w/Somnus\, A& D\, Nasalgen\, Dectomax Pour On\, Fancy set of High Elevation Calves\, Sired by Sitz Angus Bulls \nRoger & Pam Peterson   41 Blk (1 Rd) Hfrs\, 450-600#\, Weaned since December\, Hay Fed\, Branding Shots: Pyramid 5+Presponse\, Vision 7\, Booster Shots: Pyramid 5+Presponse\, Vision 7 w/Somnus\, No Implants\, Producer All Natural \nMiles Land & Livestock   41 Mostly Blk Hfrs\, 525-625#\, Weaned since Sept.\, Bunk Broke\, Been on a Light Grower Ration\, Complete Vac. Program \nCraig & Emarie McCarrel   40 Mx Strs & Hfrs\, 500-600#\, Weaned 60 days\, Bunk Broke\, Hay & Corn Silage\, Branding & Weaning Shots: Bovi-Shield Gold One Shot\, Ultra Choice 8\, No Implants\, Steers are Knife Cut \nMark Miller   40 Mx Strs\, 450#\, Weaned 90+ days\, Bunk Broke\, Been on Hay and Haylage\, Complete Vac. Program (3 Rounds of shots)\, No Implants \nA Mill Iron Angus   40 Blk/Bwf Strs\, 500-600#\, Weaned a long time\, Bunk Broke\, Been on a Light Grower Ration\, 3 Rounds of Shots \nTom Thurston   30 Blk Strs & Hfrs\, 550-700#\, Weaned 90 days\, Bunk Broke\, Been on a Light Grower Ration\, Branding Shots: Bovi-Shield Gold 5\, Vision 7 w/Somnus\, A& D\, Nasalgen\, Dectomax Pour On\, Fancy set of High Elevation Calves\, Sired by Sitz Angus Bulls \nJ C & Leann McLaughlin   30 Mx Strs & Hfrs\, 450-550#\, Weaned 45 days\, Running Out\, Grass/Alfalfa Hay Mix\, Bio Mos Tubs\, No Shots\, Sired by Red Angus Bulls \nO 5 Livestock/Buzz Orton   25 Blk Hfrs\, 600-650#\, Weaned since October\, Running out on grass\, Complete Vac. Program\, Fancy Replacement Quality Heifers\, All Originated off the CP Ranch \nMike Baker   23 Blk Strs & Hfrs\, 600-700#\, Weaned 60+ days\, 2 Rounds of Shots:  Bovi-Shield Gold One Shot\, 8-way\, Sired by SimAngus Bulls\, April/May Calves \nKal & Vicki Herring   20 Blk/Bwf Strs & Hfrs\, 400-500#\, Weaned a long time\, Bunk Broke\, Been on a Light Grower Ration\, 3 Rounds of Shots \nKip & Shawna Glendy   18 Mx Strs & Hfrs\, 625-750#\, Weaned a long time\, Running Out on Native Pastures\, Free Choice Salt & Mineral Program\, Purnia Lick Tubs\, Branding & Pre-cond. Shots: Vista Once SQ\, Vision 7\, Steers are Knife Cut \nBob Halverson   17 Blk/Rd Strs & Hfrs\, 600-700#\, Weaned since Oct.\, Bunk Broke\, Alfalfa Hay Fed\, Branding Shots: Vira Shield 6\, Vision 7\, Booster Shots: Vira Shield 6\, Vision 7\, No Implants\, Producer All Natural \nBrian Zerbe   16 Blk Strs & Hfrs\, 350-450#\, Weaned since Oct.\, Hay Fed\, 2 Rounds of Shots: 7-way\, Bovi-Shield Gold\, Nasalgen\, Wormed \nPat & Dawson Reichert   15 Blk Strs & Hfrs\, 500-600#\, Weaned 75 days\, Hay Fed\, No Grain\, Branding Shots Only \nL 3 Cattle Co.   15 Blk Hfrs\, 570-580#\, Weaned 150 days\, Bunk Broke\, Running out supplemented with Hay & Protein Tubs\, Branding Shots: Pyramid 5+Presponse SQ\, Ultra Choice 7\, Valzben\, Pre-cond. Shots: Pyramid 5+Presponse SQ\, Ultra Choice 7\, In Nov.: Bangs Vac. & Poured\, Replacement Quality\, Selling due to dry conditions only \nBartlett Cattle Co.  15 Blk/Bwf Strs & Hfrs\, 500-600#\, Weaned a long time\, Bunk Broke\, Been on a Light Grower Ration\, 3 Rounds of Shots \nRick Jones   14 Blk Hfrs\, 600#\, Weaned 60 days\, Branding & Pre-cond Shots\, Producer All Natural \nMichael Booth   14 Blk Strs\, 500-800#\, Weaned 75+ days\, Bunk Broke\, Growing Ration\, Branding Shots: Nasalgen 3 PMH\, Weaning Shots: Pyramid 5+Presponse\, Vision 7 w/Somnus\, No Implants\, Producer All Natural \nDavid & Susan Walker   10 Blk Strs\, 650-675#\, Weaned 45 days\, Bunk Broke\, Hay Fed with Extruded Corn\, Complete Vac. Program\, Producer All Natural \nHayden Loflin   8 Blk Strs & Hfrs\, 500-600#\, Weaned 90 days\, Bunk Broke\, Been on a Grower Ration\, Pre-cond. Shots: Pyramid 5+Presponse\, Vision 7\, No Implants \nT A Ranch/Colorado   7 Mx Strs & Hfrs\, 400-600#\, Weaned 45 days\, Bunk Broke\, Running  out on grass pasture supplemented with Alfalfa Hay & Grain\, Branding Shots: BarVac 7\, Pyramid 5+Presponse SQ\, Pre-cond. Shots (Nov. 30): BarVac 7\, Pyramid 5+Presponse SQ \nDalton Ward   5 Blk Hfrs\, 600#\, Weaned since October\, Hay Fed\, Cake Broke\, Shots: Pyramid 5+Presponse (3x)\, Vision 7 w/Somnus (3x) \nEd & Ronda Haas   5 Mx Strs & Hfrs\, 600-700#\, Weaned since Sept.\, Running out on grass\, Supplemented with Grass Hay and Cake\, Bunk Broke\, Branding Shots: Alpha 7\, Vira Shield 6\, Multimin\, Weaning Shots: Vision 7\, Bovi-Shield Gold 5\, Somnubac\, Dectomax\, Steers are Knife Cut\, No Sickness at all\, Home Raised\, Producer All Natural \nDennis Vanatta   5 Red Strs\, 600#\, Weaned since Oct. 31\, Alfalfa Hay Fed\, Branding Shots: 7-way\, Nasalgen\, Booster Shots: Nasalgen\, Poured\, No Implants\, Producer All Natural \nJamie Wiggam   5 Mx Bull/Str Calves\, 500-800#\, Weaned 60+ days\, Branding Shots: BVD\, Inforce\, 7-way\, Pre-cond. Shots: 7-way\, Vista Once\, Ultrabac 7 \nBrit & Morgan Douglas   3 Blk/Rd Strs\, 550-700#\, Weaned 90 days\, Been on a Light Grower Ration\, Full Vac. Program\, No Implants \nCullen Ranch   1 Blk/Rd Str\, 550-700#\, Weaned 90 days\, Been on a Light Grower Ration\, Full Vac. Program\, No Implants \nKelly Artery   3 Blk/Rd Strs\, 550-700#\, Weaned 90 days\, Been on a Light Grower Ration\, Full Vac. Program\, No Implants \n  \nPre-cond. Calves \nJeremy Evans   50 Blk/Bwf Strs & Hfrs\, 425-500#\, Branding Shots: Vira Shield 6\, Vision 7\, Booster Shots: Vira Shield 6\, Vision 7\, Nasalgen 3 PMH\, Ivomec\, No Implants\, Summered at 7500’\, Running out on grass with Alfalfa Hay \nW B Livestock   2 Blk Hfrs\, 500#\, 2 Rounds of Shots \n \nCalves \nMelissa & Rosemarie Harding   12 Blk Str/Bull Calves\, 350-450#\, Branding Shots: One Shot\, Nasalgen\, No Implants \nDennis Brooks   12 Mx Strs/Hfr (1 hd)\, 475-525#\, Complete Vac. Program \n MANY MORE CONSIGNMENTS BY SALE DAY \nCheck out www.torringtonlivestock.com for more consignments and to view sales and bid online!!! \nFOR MORE INFORMATION CALL 307-532-3333
URL:https://torringtonlivestock.com/event/wednesday-january-21st-2026-feeder-calf-special/
END:VEVENT
END:VCALENDAR