BEGIN:VCALENDAR
VERSION:2.0
PRODID:-//Torrington Livestock Market - ECPv6.15.20//NONSGML v1.0//EN
CALSCALE:GREGORIAN
METHOD:PUBLISH
X-WR-CALNAME:Torrington Livestock Market
X-ORIGINAL-URL:https://torringtonlivestock.com
X-WR-CALDESC:Events for Torrington Livestock Market
REFRESH-INTERVAL;VALUE=DURATION:PT1H
X-Robots-Tag:noindex
X-PUBLISHED-TTL:PT1H
BEGIN:VTIMEZONE
TZID:America/Denver
BEGIN:DAYLIGHT
TZOFFSETFROM:-0700
TZOFFSETTO:-0600
TZNAME:MDT
DTSTART:20250309T090000
END:DAYLIGHT
BEGIN:STANDARD
TZOFFSETFROM:-0600
TZOFFSETTO:-0700
TZNAME:MST
DTSTART:20251102T080000
END:STANDARD
BEGIN:DAYLIGHT
TZOFFSETFROM:-0700
TZOFFSETTO:-0600
TZNAME:MDT
DTSTART:20260308T090000
END:DAYLIGHT
BEGIN:STANDARD
TZOFFSETFROM:-0600
TZOFFSETTO:-0700
TZNAME:MST
DTSTART:20261101T080000
END:STANDARD
BEGIN:DAYLIGHT
TZOFFSETFROM:-0700
TZOFFSETTO:-0600
TZNAME:MDT
DTSTART:20270314T090000
END:DAYLIGHT
BEGIN:STANDARD
TZOFFSETFROM:-0600
TZOFFSETTO:-0700
TZNAME:MST
DTSTART:20271107T080000
END:STANDARD
END:VTIMEZONE
BEGIN:VEVENT
DTSTART;TZID=America/Denver:20260123T100000
DTEND;TZID=America/Denver:20260123T100000
DTSTAMP:20260424T143511
CREATED:20251212T205024Z
LAST-MODIFIED:20260202T142948Z
UID:4945-1769162400-1769162400@torringtonlivestock.com
SUMMARY:Friday\, January 23rd\, 2026 - All Classes
DESCRIPTION:TORRINGTON LIVESTOCK MARKETS \nFriday\, January 23rd 2026\n All Classes\nStarting at 10:00 am MDT with Weigh-ups\n                                                             \nBred Cows/Heifers \nBrackett Livestock   10 Mx Cows\, Mx Ages\, CF: Mx \n  \nWeighups \nGarret Ranch   80 Mx Cows \nGreg Gardner   55 Mx Cows \nCattleCorp/Richard Leavitt   45 Mx Cows \nRosemarie & Melissa Harding   7 Mx Cows \n  \n  \n\nMANY MORE CONSIGNMENTS BY SALE DAY\nCheck out www.torringtonlivestock.com for more consignments and to view sales and bid online!!! \nFOR MORE INFORMATION CALL 307-532-3333
URL:https://torringtonlivestock.com/event/friday-january-23rd-2026-all-classes/
END:VEVENT
END:VCALENDAR