BEGIN:VCALENDAR
VERSION:2.0
PRODID:-//Torrington Livestock Market - ECPv6.15.20//NONSGML v1.0//EN
CALSCALE:GREGORIAN
METHOD:PUBLISH
X-ORIGINAL-URL:https://torringtonlivestock.com
X-WR-CALDESC:Events for Torrington Livestock Market
REFRESH-INTERVAL;VALUE=DURATION:PT1H
X-Robots-Tag:noindex
X-PUBLISHED-TTL:PT1H
BEGIN:VTIMEZONE
TZID:America/Denver
BEGIN:DAYLIGHT
TZOFFSETFROM:-0700
TZOFFSETTO:-0600
TZNAME:MDT
DTSTART:20250309T090000
END:DAYLIGHT
BEGIN:STANDARD
TZOFFSETFROM:-0600
TZOFFSETTO:-0700
TZNAME:MST
DTSTART:20251102T080000
END:STANDARD
BEGIN:DAYLIGHT
TZOFFSETFROM:-0700
TZOFFSETTO:-0600
TZNAME:MDT
DTSTART:20260308T090000
END:DAYLIGHT
BEGIN:STANDARD
TZOFFSETFROM:-0600
TZOFFSETTO:-0700
TZNAME:MST
DTSTART:20261101T080000
END:STANDARD
BEGIN:DAYLIGHT
TZOFFSETFROM:-0700
TZOFFSETTO:-0600
TZNAME:MDT
DTSTART:20270314T090000
END:DAYLIGHT
BEGIN:STANDARD
TZOFFSETFROM:-0600
TZOFFSETTO:-0700
TZNAME:MST
DTSTART:20271107T080000
END:STANDARD
END:VTIMEZONE
BEGIN:VEVENT
DTSTART;VALUE=DATE:20260128
DTEND;VALUE=DATE:20260129
DTSTAMP:20260424T142834
CREATED:20251212T205100Z
LAST-MODIFIED:20260202T143025Z
UID:4947-1769558400-1769644799@torringtonlivestock.com
SUMMARY:Wednesday\, January 28th\, 2026 - Feeder/Calf Special
DESCRIPTION:TORRINGTON LIVESTOCK MARKETS \nWednesday\, January 28th\, 2026\nFeeder & Calf Special\nStarting at 9:00am\nCattle Country Video – 1:00pm MT \nLot 175   D & W Ranch   186 Steer Calves. 50% Red; 40% CharX; 10% Blk. Base Wt: 825 lbs. Wt Stop: 850 lbs. Slide: 14 cents. Location: 2 miles S of Torrington\, WY. Delivery: 2/3/26 to 2/6/26. Origin: Ranch Raised. Branding Shots: Vision 8\, Nasalgen 3 & Presponse HM. Precond Shots: Vision 8/Somnus\, Nasalgen 3 & Presponse HM\, Express. Injectable Dectomax. Ralgro. Weigh: Early am gather out of pen\, weigh on ground w/a 3% and sort for loads. Rep: Justin Smith 307-340-0724. \n  \nLot 176   D & W Ranch   375 Heifer Calves. 50% Red; 40% CharX; 10% Blk. Base Wt: 825 lbs. Wt Stop: 850 lbs. Slide: 14 cents. Location: 2 miles S of Torrington\, WY. Delivery: 2/3/26 to 2/6/26. Origin: Ranch Raised. Branding Shots: Vision 8\, Nasalgen 3 & Presponse HM. Precond Shots: Vision 8/Somnus\, Nasalgen 3 & Presponse HM\, Express. Injectable Dectomax. Ralgro. Weigh: Early am gather out of pen\, weigh on ground w/a 3% and sort for loads. Rep: Justin Smith 307-340-0724. \n  \nLot 177   Mountain Valley Livestock   188 Weaned Steer Calves. 100% Black. Base Wt: 825 lbs. Wt Stop: 850 lbs. Slide: 14 cents. Location: 15 miles NW of Douglas\, WY. Delivery: 2/2/26 to 2/7/26. Origin: Ranch Raised. Feed: Grower Ration: 20 lbs silage\, 6 lbs ground hay & 10 lbs corn. Shots at Birth: Alpha C & D. Two Rounds: Vision 7/Somnus/Spur\, Nasalgen 3 PMH\, Vista BVD-CFP\, Vista Once\, Endovac. Ivermectin CDS. Weigh: Early am gather from pen\, sort for loads\, haul on buyer’s pre-weighed trucks and weigh w/a 2%. Comments: Weighed at 796 lbs on 1/20/26. These fancy\, reputation steers will get big. Lots of bone\, depth\, rib and purebred genetics. Rep: Michael Schmitt 307-532-1776. \n  \nLot 178   JDS Livestock   160 Weaned Heifer Calves. 100% Blk/Bwf. Base Wt: 600 lbs. Wt Stop: 620 lbs. Slide: 20 cents off/on up to 20 lbs over/under base wt. Location: JDS Feedyard\, 9.5 miles N of Scottsbluff\, NE. Delivery: 2/2/26 to 2/6/26. Feed: High roughage grower ration to go back to grass. 1.5#/day predicted ADG. Shots: Complete modified live program as calves; Pyramid 5+Presponse & Dectomax when purchased. Weigh: Early am gather from pen\, weigh on the ground w/a 3%\, sort & weigh back cuts. Approx two 48\,000 lb net loads. Comments: Choice to fancy set of western NE heifers. Handled strictly to go back to grass. Weaned 60-90 days. No Implants by this owner. Sort the biggest and best from 185 head – 25 head off the bottom. Test weighed 1/27 at 585 lbs w/a 3%. Rep: Chuck Petersen 307-575-4015. \n  \nLot 179   Seven Gems Ranch   80 Weaned Replacement Heifers. 99% Blk\, 1% Bwf. Base Wt: 725 lbs. Wt Stop: 740 lbs. Slide: 16 cents. Location: 5 miles West of Bridgeport\, NE. Delivery: 1/29/26 to 2/6/26. Feed: Growing Ration – 20% Ground hay\, 70% silage\, 10% rylage. 23#/hd/day. Branding Shots: Vista Once\, Vision 7/Spur. Precond & Weaning Shots: SafeGuard\, Multimin\, VL5 & Clean Up. Weigh: Early morning gather from pen load on buyer’s pre-weighed trucks\, haul 6 miles\, weigh on the truck w/a 3%. Comments: Fancy\, one iron\, home raised\, deep bodied\, top end of 175 hd. No replacements kept. Sort from 85 hd. March-April Born. Rep: Ty Thompson 307-340-0770. \n  \nLot 180   Pokorny Ranch   156 Weaned Heifer Calves. 95% Blk; 5% Bwf. Base Wt: 610 lbs. Wt Stop: 620 lbs. Slide: 18 cents. Location: 12 miles SW of Riverton\, WY. Delivery: 1/29/26 to 1/31/26. Feed: Growing Ration – 45% Ground Hay; 30% Beet Pulp; 15% Corn; Bovatec; 6% DDG. Complete Mineral Program. Branding Shots: Stimulator 5\, ProBac 4\, Vision 7. Precond Shots: ProBac 4 Plus\, Vision 7\, MoxiSolv Injectable Wormer. January Shots: Stimulator 5 & Clean Up II. Weigh: Early morning gather\, weigh on the ground w/a 2%. Comments: Fancy\, home raised heifers\, wintered to go to grass. Test weighed @ 641 lbs. Rep: Ty Thompson 307-340-0770. \n  \nLot 181   Pokorny Ranch   91 Weaned Heifer Calves. 95% Blk; 5% Bwf. Base Wt: 530 lbs. Wt Stop: 540 lbs. Slide: 25 cents. Location: 12 miles SW of Riverton\, WY. Delivery: 1/29/26 to 1/31/26. Feed: Growing Ration – 45% Ground Hay; 30% Beet Pulp; 15% Corn; Bovatec; 6% DDG. Complete Mineral Program. Branding Shots: Stimulator 5\, ProBac 4\, Vision 7. Precond Shots: ProBac 4 Plus\, Vision 7\, MoxiSolv Injectable Wormer. January Shots: Stimulator 5 & Clean Up II. Weigh: Early morning gather\, weigh on the ground w/a 2%. Comments: Fancy\, home raised heifers\, wintered to go to grass. Test weighed @ 538 lbs. Rep: Ty Thompson 307-340-0770. \n  \nLot 182   Pokorny Ranch   62 Weaned Steer Calves. 98% Blk; 2% Bwf. Base Wt: 800 lbs. Wt Stop: 810 lbs. Slide: 14 cents. Location: 12 miles SW of Riverton\, WY. Delivery: 1/29/26 to 1/31/26. Feed: Growing Ration – 45% Ground Hay; 30% Beet Pulp; 15% Corn; Bovatec; 6% DDG. Complete Mineral Program. Branding Shots: Stimulator 5\, ProBac 4\, Vision 7. Precond Shots: ProBac 4 Plus\, Vision 7\, MoxiSolv Injectable Wormer. January Shots: Stimulator 5 & Clean Up II. Weigh: Early morning gather\, weigh on the ground w/a 2%. Comments: Fancy\, one iron\, home raised. Family brands. Pre-sorted on January 26 from 110 hd. 62 head weighed 808 lbs on January 27th. Rep: Ty Thompson 307-340-0770. \nwww.cattlecountryvideo.com \n  \nFeeders \nVollman Ranch   375 Fancy Blk Strs\, 625-850#\, Weaned a long time\, Bunk Broke\, Been on a Grower Ration\, Branding & Pre-cond. Shots: One Shot BVD\, Inforce 3\, Ultra Choice 7\, At Weaning: Poured\, Booster Shot (Dec. 20): Bovi-Shield Gold 5 \nJerry Reichert   186 Blk/Rd Strs & Hfrs\, 800#\, Weaned since Oct. 28\, Bunk Broke\, Been on a Light Grower Ration\, Branding Shots: Vision 7\, Weaning Shots: Vision 7\, Vira Shield 6\, Poured w/ Ivomec\, No Implants\, Home Raised \nHorse Creek Farm & Feeding   72 Blk Strs\, 775#\, Weaned since Nov. 1\, Bunk Broke\, Been on a Grower Ration\, Complete Vac. Program\, No Implants\, Producer All Natural\, Home Raised \n****59 Blk Hfrs\, 700#\, Guaranteed Open\, Weaned since Nov. 1\, Bunk Broke\, Been on a Grower Ration\, Compelte Vac. Program\, No Implants\, Producer All Natural\, Home Raised \nVal Eklund   80 Mostly Blk (1 Red) Strs & Hfrs\, 750-850#\, Weaned a long time\, Been on a High Roughage Ration\, Bunk Broke\, 3 Rounds of Shots: Bovi-Shield Gold 5\, Vision 7\, Shots at Weaning: Inforce 3\, Poured\, Home Raised \nBrian Nusbaum   54 Weaned Blk Strs\, 775-850#\, Weaned since Oct. 20\, Branding Shots: Nasalgen PMH\, Alpha 7\, Pre-cond. Shots: Vista Once SQ\, Vision 7\, Booster Shots: Pyramid 5\, Synanthic Wormer\, Poured w/Clean-up\, 25+ years of Stevenson\, Green Mountain\, Sevenson Diamond Dot Angus Genetics\, Angus Verified-GMS: Beef Score: 141\, Feedlot: 145\, Grid Score: 123\, Material: 142 \n****21 Weaned Blk Hfrs\, 650-700#\, Weaned since Oct. 20\, Branding Shots: Nasalgen PMH\, Alpha 7\, Pre-cond. Shots: Vista Once SQ\, Vision 7\, Booster Shots: Pyramid 5\, Synanthic Wormer\, Poured w/Clean-up\, 25+ years of Stevenson\, Green Mountain\, Sevenson Diamond Dot Angus Genetics\, Angus Verified-GMS: Beef Score: 141\, Feedlot: 145\, Grid Score: 123\, Material: 142 \nBrent Gilbert   61 Mostly Blk/Bwf Strs & Hfrs\, 650-700#\, Weaned since Sept.\, Been on a Grower Ration: Corn Silage/Hay\, 2 Rounds of Shots (Spring/Fall)\, Implanted w/Synovex at Branding\, Home Raised \nSparrow Ranch Limited   27 Mx Hfrs\, 1050-1100#\, All Shots \nSnowcap Livestock   24 Mx Hfrs\, 775-850#\, Complete Vac. Program \nShawn Chasek   9 Mx Strs & Hfrs\, 900#\, Weaned since October\, Bunk Broke\, Hay Fed with 4 # of Corn\, Been on a Mineral Program\, Complete Vac. Program \n  \nWeaned Calves \nDewey Hageman   300 Char-x few Blk Strs & Hfrs\, 525-700#\, Weaned a long time\, Been on a Grower Ration going back to grass\, Bunk Broke\, Complete Vac. Program\, Steers are Knife Cut\, Home Raised \nLewis Ranch/Bruce Lewis   187 Mx Strs & Hfrs\, 490-575#\, Weaned 30 days\, Hay Fed\, Cake Broke\, Pre-cond. Shots and Weaning Shots: 7-way\, Vira Shield 6\, No Implants\, Steers are Knife Cut\, Home Raised \nRon & Barb Jespersen   75 Blk/Bwf few Red (1 Char) Strs\, 500-550#\, Weaned a long time\, Fed on Cornstalks for 1.5#/per day\, Branding Shots: Bovi-Shield Gold One Shot\, Vision 7 w/Somnus\, Weaning Shots: Bovi-Shield Gold One Shot\, Vision 7 w/Somnus\, Poured w/Dectomax\, Booster Shots: Bovi-Shield Gold 5\, Steers Only are NHTC  \n****75 Blk/Bwf few Red (1 Char) Hfrs\, 475-550#\, Weaned a long time\, Fed on Cornstalks for 1.5#/per day\, Branding Shots: Bovi-Shield Gold One Shot\, Vision 7 w/Somnus\, Weaning Shots: Bovi-Shield Gold One Shot\, Vision 7 w/Somnus\, Poured w/Dectomax\, Booster Shots: Bovi-Shield Gold 5 \nY Z Limited   150 Blk Strs & Hfrs\, 550-650#\, Weaned for 45 days\, Hay Fed\, 2 Rounds of Shots \nRob\, Brian & Tyler Boner   100 Blk/Bwf few Rd Strs\, 550-650#\, Weaned 90 days\, Hay Fed and Silage\, Bunk Broke\, Branding Shots: Vision 7 w/Somnus\, Vista Once SQ\, Nasalgen\, Pre-cond. Shots: Vision 7 w/Somnus\, Vista Once SQ\, Poured \nDean & Brenda Anderson   80 Blk Angus Strs & Hfrs\, 600#\, Weaned 54 days\, Running out on Hay Fields\, Branding Shots Ultra Choice 7\, Pyramid 5+Presponse SQ\, Weaning Shots: Ultra Choice 7\, Pyramid 5+Presponse SQ\, No Implants\, Home Raised \nSteve Palm   76 Blk Strs\, 600-700#\, Weaned since Nov. 14\, Bunk Broke\, Been on a Grower Ration\, Complete Vac. Program\, Home Raised \nSpencer Eyre   75 Blk/Rd Strs & Hfrs\, 400-550#\, Weaned since Nov. 15\, Bunk Broke\, Been on Ground Hay Only\, 2 Rounds of Shots \nBen & Lori Mast   75 Blk Strs\, 550-750#\, Weaned 50 days Bunk Broke\, Running out supplemented with Hay\, Free Choice Redmond Mineral\, Salt\, Garlic Oil\, Shots at Branding and Pre-cond.: 5-way\, 7-way w/Spur\, Hot Wire Broke\, Been worked on Foot and Four Wheelers \nGarson Ranch   50 Blk Strs\, 400-500#\, Weaned since Oct. 15\, Hay Fed\, Loomix Tubs\, 3 rounds of shots\, No Implants\, High Elevation \nErvin Gara   50 Mostly Blk Strs & Hfrs\, 450-700#\, Weaned 90 days\, Been on Alfalfa/ Grass Hay\, Shots at Bith: Vision 7 w/Somnus\, No Implants\, No Brands\, Home Raised \nGiorgis Ranch   50 Mostly Blk few Red/Char Strs & Hfrs\, 400-500#\, Weaned 75+ days\, Been on Alfalfa/Grass Hay Mix\, Liquid Feed\, An Intensive Vitafirm and Nutrilix Mineral Program\, at Birth: CD & T\, Branding Shots: Endovac\, 8-way\, Bovi-Shield Gold One Shot\, Pre-cond. Shots: Endovac\, 8-way w/Somnus\, Bovi-Shield Gold One Shot\, Booster Shots: Bovi-Shield Gold 5\, Poured\, High Elevation\, 40+ years of AI’ing Program \nJerry Sterkel   25 Red/Rwf Strs\, 625#\, Weaned 75 days\, Been on Hay and Protein Lick Tubs\, Branding Shots: 7-way\, Weaning Shots: 7-way\, No Implants\, Home Raised \n****20 Hereford Strs\, 575#\, Weaned 75 days\, Been on Hay and Protein Lick Tubs\, Branding Shots: 7-way\, Weaning Shots: 7-way\, No Implants\, Home Raised \nBrian Peterson   45 Blk/Bwf Hfrs\, 540-580#\, Weaned 100+ days\, Bunk Broke\, Been on a Grower Ration to go back to grass\, 3 Rounds of Shots\, Poured w/Clean-up and Safeguard Wormer at Weaning\, Bangs Vac.\, 1-iron\, Home Raised\, Replacement Quality \nMarty Shepard   44 Mx Hfrs\, 640#\, Weaned a long time\, Complete Vac. Program\, Been on a Grower Ration \nGrant Ranch/Rick Grant   40 Blk Strs\, 525#\, Weaned since Oct. 25\, Running out on meadows with 12-14# of hay per day\, Branding Shots: 7-way\, BVD One Shot\, Enforce\, Pre-cond. Shots: 7-way w/Somnus\, Bovi-Shield Gold\, One Shot\, No Implants\, Knife Cut \nSDRE   33 Blk Strs & Hfrs\, 550-650#\, Weaned for 45 days\, Hay Fed\, 2 Rounds of Shots \nSullivan Ranch   32 Blk/Bwf few Red Strs\, 650-700#\, Weaned 90+ days\, Been on a High Roughage Ration (cattle are on a program to gain 2-2.5#/per day)\, Bunk Broke\, Shots: Nasalgen 3 PMH (3x)\, Vision 7 (3x)\, Vista Once (3x)\, Endovac & SafeGuard\, Sired by Ken Haas\, Frank G-H Blk Angus Bulls\, and RWB Hereford Bulls \nJon Carr   30 Blk/Bwf Hfrs\, 550#\, Weaned 90+ days\, Hay Fed\, Cake Broke\, Spring & Fall Shots: Vision 7 w/Somnus\, Vista Once\, Cydectin Pour On\, Safeguard Oral Wormer\, Bangs Vac.\, Home Raised\, Sired by Ellingson Angus and Topp Hereford Bulls \nLazy V Six Inc.   27 Red Angus Strs\, 600-650#\, Weaned 120 days\, Bunk Broke\, Been on Hay and Silage\, Been on a Complete Mineral Program\, Branding Shots: 5-way\, 7-way\, Pre-cond. Shots: One Shot BVD\, Inforce 3\, Ultra Choice 7\, Weaning Shots: Bovi-Shield Gold 5\, Dewormed w/Safeguard\, No Implants \nShawn Chasek   25 Mx Strs & Hfrs\, 500-700#\, Weaned since October\, Bunk Broke\, Hay Fed w/2 # of Corn\, Been on a Mineral Program 3 Rounds of Shots:  Bovi Shield Gold 5 \nTravis & Shelly Rodewald   20 Blk Angus Hfrs\, 400#\, Weaned a long time\, Been on a Light Grower Ration\, Bunk Broke\, Branding\, Pre-cond.\, & Weaning Shots: Bovi-Shield Gold One Shot\, Vision 8 w/Somnus+Spur\, Safeguard Wormer\, 1-iron\, Home Raised\, High Desert Calves \nRon Zavorka   20 Blk Hfrs\, 500-650#\, Weaned 90 days\, Hay Fed\, Bunk Broke\, Branding Shots: Pyramid 5+Presponse\, Vision 7\, No Implants\, Producer All Natural\, Home Raised \nKalan Seaman   12 Blk Strs\, 600-800#\, Weaned since Nov. 1\, Bunk Broke\, Been on a Light Grower Ration\, Branding Shots: Pyramid 5+Presponse\, Vision 7 w/Somnus\, Weaning Shots: Pyramid 5+Presponse\, Vision 7 w/Somnus\, Dectomax Injectable\, SafeGuard Wormer\, Producer All Natural \nBruce Cuthbertson   10 Blk few Bwf Hfrs\, 625#\, Weaned since Oct. 15\, Branding Shots: Pyramid 5\, Vision 7\, Weaning Shots: Nasalgen\, Ivomec Pour On \nDelaney Bend Farms   8 Blk/Bwf Strs\, 600-700#\, Weaned 60 days\, Fed a Grass/Alfalfa Hay Mix\, 3 Rounds of Shots: BarBac\, No Implants\, Home Raised\, Producer All Natural  \nRosenbaum Livestock   8 Mx Strs\, 500#\, Weaned for 90 days\, Hay Fed\, Branding and Pre-cond. Shots: Vista Once SQ\, Vision 7 w/Somnus \nShmidl Ranch/Jeff Shmidl   6 Sim-Angus/Bwf/Char/Angus-x Strs\, 600-700#\, Weaned 75 days\, Been on Grass/Alfalfa Hay Mix\, Branding Shots: Bovi-Shield Gold One Shot\, 7-way\, Pre-cond. Shots: Bovi-Shield Gold One Shot\, 7-way \nWill Jurek   2 Red/Rwf Strs\, 500#\, Weaned since Sept.\, Been on Barley\, Pea Hay & 2# of Corn\, Branding Shots: Calvary 9\, Vira Shield 6\, Weaning Shots: Calvary 9\, Vira Shield 6\, No Implants\, Producer All Natural \nDavid Cushman   2 Blk Hfrs\, 500#\, Weaned for 60 days\, Grass Hay Fed\, No Shots \n \nPre-cond. Calves \nGlen Palmer   170 Mx Strs & Hfrs\, 550-650#\, 2 Rounds of Shots: Calvary 9\, Pyramid 5+Presponse\, Steers are Knife Cut\, Producers All Natural\, Coming off their mothers \n  \n Calves \nBrian Eyre   7 Blk/Rd Strs & Hfrs\, 500-600#\, Started on Grass Hay along side of Mothers\, Branding Shots: Bovi-Shield Gold One Shot\, Ultrabac 8\, July/August Calves \n  \nMANY MORE CONSIGNMENTS BY SALE DAY \nCheck out www.torringtonlivestock.com for more consignments and to view sales and bid online!!! \nFOR MORE INFORMATION CALL 307-532-3333
URL:https://torringtonlivestock.com/event/wednesday-january-28th-2026-feeder-calf-special/
END:VEVENT
END:VCALENDAR