BEGIN:VCALENDAR
VERSION:2.0
PRODID:-//Torrington Livestock Market - ECPv6.15.20//NONSGML v1.0//EN
CALSCALE:GREGORIAN
METHOD:PUBLISH
X-ORIGINAL-URL:https://torringtonlivestock.com
X-WR-CALDESC:Events for Torrington Livestock Market
REFRESH-INTERVAL;VALUE=DURATION:PT1H
X-Robots-Tag:noindex
X-PUBLISHED-TTL:PT1H
BEGIN:VTIMEZONE
TZID:America/Denver
BEGIN:DAYLIGHT
TZOFFSETFROM:-0700
TZOFFSETTO:-0600
TZNAME:MDT
DTSTART:20250309T090000
END:DAYLIGHT
BEGIN:STANDARD
TZOFFSETFROM:-0600
TZOFFSETTO:-0700
TZNAME:MST
DTSTART:20251102T080000
END:STANDARD
BEGIN:DAYLIGHT
TZOFFSETFROM:-0700
TZOFFSETTO:-0600
TZNAME:MDT
DTSTART:20260308T090000
END:DAYLIGHT
BEGIN:STANDARD
TZOFFSETFROM:-0600
TZOFFSETTO:-0700
TZNAME:MST
DTSTART:20261101T080000
END:STANDARD
BEGIN:DAYLIGHT
TZOFFSETFROM:-0700
TZOFFSETTO:-0600
TZNAME:MDT
DTSTART:20270314T090000
END:DAYLIGHT
BEGIN:STANDARD
TZOFFSETFROM:-0600
TZOFFSETTO:-0700
TZNAME:MST
DTSTART:20271107T080000
END:STANDARD
END:VTIMEZONE
BEGIN:VEVENT
DTSTART;VALUE=DATE:20260211
DTEND;VALUE=DATE:20260212
DTSTAMP:20260424T132028
CREATED:20260105T184048Z
LAST-MODIFIED:20260212T221444Z
UID:5048-1770768000-1770854399@torringtonlivestock.com
SUMMARY:Wednesday\, February 11th\, 2026 - Feeder Special
DESCRIPTION:TORRINGTON LIVESTOCK MARKETS \nWednesday\, February 11th\, 2026\nFeeder & Calf Special\nStarting at 9:00am\nCattle Country Video – 1:00 pm MT \nLot 204   Maxfield Ranch   600 Blk/Bwf\, few Red Steer Calves. Base Wt: 625 lbs. Wt Stop: 625 lbs. Slide: 0 cents. Location: Maxfield Ranch which is 3 miles West of Lyman\, WY. Delivery: 2/25/26 to 2/28/26.  Feed: Grass hay & Lick Tubs. Shots: BoviShield Gold 5\, Inforce 3\, 8-way & Pour on StandGuard. Weigh: Early am gather weigh 15 hd at a time and weigh on the ground w/a 2%. Comments: Ultra set of super green\, hay fed calves. The middle cut of 1200 hd. These cattle were sorted to be Maxfield Ranch’s grass cattle that typically weigh 950 lbs in September. Only selling due to drought. Rep: Jeff Ward 307-399-9863. \nLot 205   Gardner Ranch   80 Weaned Steer Calves. 100% Black. Base Wt: 720 lbs. Wt Stop: 730 lbs. Slide: 12 cents. Location: Corrals; 20 miles SW of Shoshoni\, WY. Delivery: 2/12/26 to 2/14/26. Feed: Growing ration: 34#/hd/day; 25# silage\, 5.5# ground hay\, 2# whole corn\, Bovatec Mineral. Branding Shots: Vista Once SQ & Vision 7/Spur. Weaning Shots: Vista Once SQ\, Vision 7/Somnus & Ivomec. Weigh: Early am gather from pen\, load on buyer’s pre-weighed truck\, haul 2 miles and weigh on the truck w/a 3%. Comments: Fancy home raised steers. The top end of 200 hd. Pre-sorted 2/5/26 and test weighed at 732 lbs gross. Rep: Ty Thompson 307-340-0770. \nLot 206   Gardner Ranch   91 Weaned Steer Calves. 100% Black. Base Wt: 610 lbs. Wt Stop: 620 lbs. Slide: 18 cents. Location: Corrals; 20 miles SW of Shoshoni\, WY. Delivery: 2/12/26 to 2/14/26. Feed: Growing ration: 34#/hd/day; 25# silage\, 5.5# ground hay\, 2# whole corn\, Bovatec Mineral. Branding Shots: Vista Once SQ & Vision 7/Spur. Weaning Shots: Vista Once SQ\, Vision 7/Somnus & Ivomec. Weigh: Early am gather from pen\, load on buyer’s pre-weighed truck\, haul 2 miles and weigh on the truck w/a 3%. Comments: Fancy home raised steers. Pre-sorted 2/5/26 and test weighed at 619 lbs gross. Rep: Ty Thompson 307-340-0770. \nLot 207   Gardner Ranch   100 Weaned Heifer Calves. 100% Black. Base Wt: 605 lbs. Wt Stop: 615 lbs. Slide: 16 cents. Location: Corrals; 20 miles SW of Shoshoni\, WY. Delivery: 2/12/26 to 2/14/26. Feed: Growing ration: 34#/hd/day; 25# silage\, 5.5# ground hay\, 2# whole corn\, Bovatec Mineral. Branding Shots: Vista Once SQ & Vision 7/Spur. Weaning Shots: Vista Once SQ\, Vision 7/Somnus & Ivomec. Weigh: Early am gather from pen\, load on buyer’s pre-weighed truck\, haul 2 miles and weigh on the truck w/a 3%. Comments: Fancy home raised heifer calves. Wintered for Grass. Pre-sorted from 130 hd.  Test weighed 2/7/26 to 616 lbs gross. Rep: Ty Thompson 307-340-0770. \nLot 208   Thoman Brothers   95 Weaned Heifer Calves. 92% Blk/Bwf; 8% Red/Rwf. Base Wt: 640 lbs. 2-way Slide: 18 cents off/on up to 25# over/under base weight. Wt Stop: 665 lbs. Location: Thoman Pens\, 18 miles NW of Riverton\, WY. Delivery: 2/12/26 to 2/21/26. Feed: High roughage ration consisting of ground hay & silage. Shots at Birth: 8-way\, Multimin\, Selenium & CalfGuard. Branding Shots: Vista Once\, 8-way & Multimin. Weaning Shots: Vista Once\, 8-way\, Multimin\, SafeGuard\, Ivermectin & Clean Up. Weigh: Early am gather from pen\, weigh on the ground w/a 3%\, sort for loads. Comments: Choice to fancy set of high elevation calves. Big end of 350 hd. Nice set of high desert heifers that have been grown right. Will make an excellent set of yearlings. Rep: Zach Johnson 307-575-2171. \nLot 209   Matt & Jeanna Allmaras   81 Heifer Caves. 95% Blk\, 5% Bwf. Base Wt: 675 lbs. Wt Stop: 700 lbs. Slide: 16 cents. Location: Stevenson Feedlot which is 5 miles West of Wheatland\, WY. Delivery: 2/13/26 to 2/14/26. Feed: Light grower ration\, fed to gain 1.8 – 2 lbs/day. Branding Shots: 7-way\, Nasalgen 3 PMH & Vista BVD. Weaning Shots: Pyramid 5+Presponse\, Inforce 3\, Poured with Clean Up & Wormed with SafeGuard. Weigh: Early morning gather\, weigh on ground w/a 3%. Comments: Very nice ranch raised heifers run at elevation at Muddy Gap. These heifers have been weaned since October 17th. Wintered for grass\, they are green\, good heifers and are good enough to breed or spay for grass. Not bangs vac yet. Rep: Justin Smith 307-340-0724. \nwww.cattlecountryvideo.com \nFeeders \nRoger & Brock Osguthorpe   260 Blk few Hereford Strs & Hfrs\, 700-800#\, Weaned since October\, Bunk Broke\, Been on Corn Silage and Hay\, Been on a Complete Mineral & Salt Program\, 2 Rounds of Shots: Bovi-Shield Gold  One Shot\, Inforce 3\, 8-way w/Somnus Valco\, FeAppease\, Multi-min\, Poured\, No  Implants \nThaler Land & Livestock   200 Char Hfrs\, 700-850#\, Weaned since early October\, Bunk Broke\, Been on a Grower Ration\, Weaned on By-O-Reg Breath-Rite Tubs\, Branding Shots: Inforce 3\, Bovi-Shield Gold One Shot\, Ultra Choice 7\, Pre-cond. Shots: Bovi-Shield Gold One Shot\, Ultra Choice 7\, Weaning Shots: Bovi-Shield Gold 5\, FerAppease\, Pour On\, No Implants\, April Born Calves \nDuck Bar Ranch LLC   108 Char-x Hfrs\, 650#\, Weaned a long time\, Running out on pasture till the last 30 days\, now in corral on a Grower Ration\, Bunk Broke\, 3 Rounds of Shots\, Safeguard Wormer and Poured\, Home Raised \nBremer Land & Livestock   92 Blk few Bwf/Red Hfrs\, 800-825#\, Weaned 150 days\, Been on a Grower Ration\, Bunk Broke\, Branding Shots: Vision 7 w/Somnus\, Vira Shield 6\, Pre-cond. Shots: Pyramid + Presponse\, Weaning Shots: Pyramid 4\, Vision 7 w/Somnus \nDr. Joe & Kristen Skavdahl   65 Mx Hfrs\, 650#\, Weaned a long time\, Been on a Light Grower Ration\, Compete Modified Live Vac. Program\, Bangs Vac. \nLucas Moore/Jack Miskimins   64 Blk/Bwf Hfrs\, 650#\, Weaned since Oct. 15\, 3 Rounds of a Complete Modified Live Vac. Program\, No Implants\, Home Raised\, Replacement Quality \nBummer Livestock   50 Blk/Bwf Hfrs\, 650#\, Weaned a Long time\, Bunk Broke\, Been on a Light Grower Ration\, Complete Modified Live Vac. Program\, Home Raised \nD & W Ranch   40 Char-x/Red few Blk Strs & Hfrs\, 650-800#\, Weaned since End of October\, Bunk Broke\, Been on a Grower Ration\, Branding Shots: Vision 8\, Nasalgen 3\, Presponse HM\, Pre-cond. Shots: Vision 8w/Somnus\, Nasalgen 3\, Presponse HM\, Express\, Ivison 7\, Pyramid 3\, Injectable Dectomax\, Injectable Wormer\, Pour On \nCynithia Crawford   30 Mx Strs\, 850-1000#\, Running out on grass supplemented with Hay\, Protein Tubs\, Complete Salt & Mineral Program\, Complete Vac. Program \nDual Springs   19 Hereford Strs & Hfrs\, 625-1000#\, Weaned a long time\, Been on a Grower Ration\, 2 Rounds of Shots\, No Implants\, Home Raised \nNewman Ranch   16 Mx Hfrs\, 800#\, Guaranteed Open\, Weaned a long time\, Bunk Broke\, Branding & Weaning Shots: Vista Once\, Vision 7\, Poured w/Clean-up\, Bangs Vac. \nMountain Valley Livestock   9 Blk Strs\, 650-700#\, Weaned a long time\, Bunk Broke\, Been on a Grower Ration\, Complete Vac. Program \nGary & Jane Stearns   2 Red Str/Hfr\, 800-1000#\, Complete Vac. Program\, Coming off grass\, Home Raised \n  \nWeaned Calves \nFalls Ranch   711 Blk Strs\, 575-750#\, Weaned a long time\, Bunk Broke\, Been on a Grower Ration\, 3 Rounds of Shots\, Home Raised\, Vermilion Genetics\, Reputation Cattle \nJack Creek Land & Livestock   420 Fancy Mostly Blk Strs\, Majority will weigh 575-675#\, Weaned since Nov.\, Been on a Grower Ration\, Branding Shots: Vira Shield Pro Bac w/Somnus\, Vision 7 w/Spur\, Multimin\, Weaning Shots:  Inforce\, Endovac. One Shot BVD. Vision 7 Somnus w/Spur\, Pinke Eye A & B\, Ivermmax\, Endovac\, Booster Shots:  Bovi-Shield 5\, Somnus\, Pine eye A & B\, Endovac\, Home Raised\, High Elevation \nCody Humphrey   150 Mostly Blk Strs\, 625-725#\, Weaned 90 days\, Bunk Broke\, Been on a Light Grower Ration\, Branding Shots: Vista Once\, Vision 7\, Weaning Shots: Vista\, Vision 7\, Nasalgen\, No Implants\, Home Raised \nDouble S Ranch   150 Mx Strs & Hfrs\, 575-700#\, Weaned since Oct. 17\, Been on a Light Grower Ration\, Bunk Broke\, Branding Shots: 7-way\, Nasalgen 3 PMH\, Vista\, BVD\, Weaning Shots: Pyramid 5+Presponse\, Inforce 3\, Poured w/Clean-up\, Safeguard Wormer\, Wintered for grass\, Green\, Home Raised\, Some of the heifers would make good Replacement Heifers \nFlying A Ranch/Robert Britain   95 Blk few Bwf Strs & Hfrs\, 500-650#\, Weaned 100 days\, Bunk Broke\, Been on a Grower Ration\, 2 Rounds of Shots: 7-way w/Somnus\, Vista Once\, Bangs Vac.\, No Implants\, Home Raised\, Heifers are Bangs Vac.\, No Replacements Kept \nDiamond Tail Ranch/Tim Flitner   85 Blk strs & Hfrs\, 550-700#\, Weaned a long time\, Running out\, Complete Vac. Program\, No Implants\, Really nice set of Strs & Hfrs\, Home Raised \nBennett Cattle Co/Noah’s Ark   72 Mx Strs\, 500-600#\, Weaned since Oct.\, Hay Fed Only\, Shots at Birth: Alpha CD\, Nasalgen 3\, Branding Shots: 20/20 Vision 7\, Nasalgen 3 PMH\, Pre-cond. Shots: Vista Once\, 7-way\, Sired by Paint Rock Angus Bulls\, Home Raised \nRobert & Alicia Hawkins   70 Blk/Bwf Hfrs\, 600-700#\, Weaned 75 days\, Free Choice Hay\, 2# of Beet Pulp\, Complete Mineral Program\, Shots at Birth: Alpha 7\, Multi-min\, Branding Shots: pyramid 5+Presponse\, Vision 7 w/Somnus\, Pre-cond. Shots: Pyramid 5+Presponse\, Vision 7 w/Somnus\, Poured\, Sim/Angus Sired Calves\, Bunk Broke\, Electric Fence Broke\, Replacement Quality (will pay for Bangs Vac. If buyer wants)\, Green\, Home Raised \nWade Phipps   70 Blk/Bwf Strs & Hfrs\, 600-750#\, Weaned Nov. 1\, Bunk Broke\, Been on a Light Grower Ration\, Shots at Birth: Vision 7\, Branding Shots: Vision 7\, Vista Once\, Pre-cond. Shots: Vision 7 w/Somnus\, Vista Once\, Weaning Shots: Titanium 5\, Safeguard\, Poured w/Clean-up \nHarlan & Charlie Bradshaw   63 Blk (1 Rd) Strs & Hfrs\, 550-750#\, Weaned since October\, Free Choice Hay\, Branding Shots\, Pre-cond. Shots: Vira Shield 6\, Vision 7\, One Shot Ultra\, Poured\, Heifers are Bangs Vac. \nTop Hill Assoc.   23 Blk Hfrs\, 600-650#\, Weaned a long time\, Complete Vac. Program \n****30 Hereford few Blk Hfrs\, 450-500#\, Weaned a long time\, Complete Vac. Program \nS S Ranch   40 Blk Angus/Sim-X Hfrs\, 600-700#\, Weaned a long time\, Running Out on Hay Meadows & Protein Tubs (last 30 days have been on a Grower Ration)\, Bunk Broke\, 3 Rounds of Shots: Vision 7 w/Somnus\, Pyramid 5+Presponse\, Poured w/Clean-up \nAdam Warner   35 Mostly Blk Strs\, 550-750#\, Weaned 90 days\, Hay Fed\, Branding & Weaning Shots: 7-way\, Pyramid 5+Presponse\, Poured On\, Sired by Reyes Angus Bulls \nDeBerard Cattle Co.   23 Hereford Strs\, 500-700#\, Weaned since October\, Bunk Broke\, Free Choice Hay\, Silage\, Salt & Mineral Program\, Weaning Shots: 20/20 Vision 7+Spur\, Inforce 3\, Poured \nJack Garson   23 Blk Strs & Hfrs\, 600-700#\, Weaned since October\, Running out\, Hay Fed\, Branding Shots: Pyramid 5+Presponse\, Vision 7\, High Elevation\, AI’d Sired \nSchmaltz Cattle   23 Blk/Bwf few Red/Char Strs\, 600#\, Weaned a long time\, Been on a Light Grower Ration\, Complete Modified Live Vac. Program\, No Implants\, Oral Wormer\, Poured \nRussell AE   21 Blk/Bwf Strs\, 425-475#\, Weaned 90 days\, Bunk Broke\, Been on a Light Grower Ration\, Pre-cond. Shots: Pyramid 5+Presponse\, 7-way\, Booster Shots: Pyramid 5+Presponse\, 7-way\, Poured\, High Elevation\, Home Raised \nKalan Seaman   19 Blk/Rd Hfrs\, 600-800#\, Weaned since Nov. 1\, Bunk Broke\, Been on a Light Grower Ration\, Branding Shots: Pyramid 5+Presponse\, 7-way w/Somnus\, Pre-cond. Shots: pyramid 5+Presponse\, 7-way w/Somnus\, Dectomax Injectable\, Safeguard Wormer \nPipestone Ranch   12 Mx Hfrs\, 600-800#\, Complete Vac. Program \nTom & Michelle Herbst   10 Blk Hfrs\, 450#\, Weaned a long time\, Been on Grass/Alfalfa Hay Mix\, Branding Shots: Ultrabac 8\, Pyramid 5+Presponse\, Weaning Shots: U;trabac 8\, Pyramid 5+Presponse\, Booster Shot on Jan. 1: Pyramid 5\, Home Raised \nElmer Beaver   6 Mx Strs & Hfrs\, 600-725#\, Weaned a long time\, Bunk Broke\, Been on a Light Grower Ration\, Complete Vac. Program \nKruse Ranch/James Kruse   4 Hereford Strs\, 450-500#\, Weaned since November\, Bunk Broke\, Free Choice Hay\, Salt & Mineral Program\, Branding & Pre-cond. Shots: Pyramid 5+Presponse\, Vision 7+Spur\, Poured\, Home Raised \nTina Beecham   2 Rwf Hfrs\, 500#\, Weaned a long time\, Hay Fed\, Branding Shots: One Shot\, Ultrabac 7 \n  \n Calves \nJim Waite   19 Red/Blk Strs & Hfrs\, 500#\, Branding Shots: 7-way\, Home Raised\, Eating hay along side of mothers \nMANY MORE CONSIGNMENTS BY SALE DAY \nCheck out www.torringtonlivestock.com for more consignments and to view sales and bid online!!! \nFOR MORE INFORMATION CALL 307-532-3333
URL:https://torringtonlivestock.com/event/wednesday-february-11th-2026-feeder-special/
END:VEVENT
END:VCALENDAR