BEGIN:VCALENDAR
VERSION:2.0
PRODID:-//Torrington Livestock Market - ECPv6.15.20//NONSGML v1.0//EN
CALSCALE:GREGORIAN
METHOD:PUBLISH
X-ORIGINAL-URL:https://torringtonlivestock.com
X-WR-CALDESC:Events for Torrington Livestock Market
REFRESH-INTERVAL;VALUE=DURATION:PT1H
X-Robots-Tag:noindex
X-PUBLISHED-TTL:PT1H
BEGIN:VTIMEZONE
TZID:America/Denver
BEGIN:DAYLIGHT
TZOFFSETFROM:-0700
TZOFFSETTO:-0600
TZNAME:MDT
DTSTART:20250309T090000
END:DAYLIGHT
BEGIN:STANDARD
TZOFFSETFROM:-0600
TZOFFSETTO:-0700
TZNAME:MST
DTSTART:20251102T080000
END:STANDARD
BEGIN:DAYLIGHT
TZOFFSETFROM:-0700
TZOFFSETTO:-0600
TZNAME:MDT
DTSTART:20260308T090000
END:DAYLIGHT
BEGIN:STANDARD
TZOFFSETFROM:-0600
TZOFFSETTO:-0700
TZNAME:MST
DTSTART:20261101T080000
END:STANDARD
BEGIN:DAYLIGHT
TZOFFSETFROM:-0700
TZOFFSETTO:-0600
TZNAME:MDT
DTSTART:20270314T090000
END:DAYLIGHT
BEGIN:STANDARD
TZOFFSETFROM:-0600
TZOFFSETTO:-0700
TZNAME:MST
DTSTART:20271107T080000
END:STANDARD
END:VTIMEZONE
BEGIN:VEVENT
DTSTART;VALUE=DATE:20260213
DTEND;VALUE=DATE:20260214
DTSTAMP:20260424T131907
CREATED:20260105T184145Z
LAST-MODIFIED:20260215T002733Z
UID:5050-1770940800-1771027199@torringtonlivestock.com
SUMMARY:Friday\, February 13th\, 2026 - All Classes
DESCRIPTION:TORRINGTON LIVESTOCK MARKETS \nFriday\, February 13\, 2026\n All Classes\nStarting at 9:00 am MDT with Weigh-ups\nBred Cows/Heifers \nTable Mountain Ranch LLC   38 Mx Cows\, Mx Ages\, Bred to Lucky 7 Angus Bulls\, CF: April 15th \nTriangle 2 Cattle   25 Mx Hfrs\, CF: Mx \nLungren Land & Cattle   14 Blk Cows\, Mx Ages\, Bred to Lucky 7 Angus\, Paint Rock Angus or Redland Blk Angus Bulls\, CF: May/June\, Home Raised \nTaylor Ranches   8 Mx Cows/Hfrs\, CF: Mx \nO D Cattle Co.   5 Mx Cows\, Mx Ages\, CF: June/July \nJohn Sutherland   4 Mx Cows\, Mx Ages\, CF: Mx \nJim Hastings   2 Mx Cows\, Mx Ages\, CF: Mx \nBaker Trust   2 Mx Cows\, Mx Ages\, Bred to Blk Bulls\, CF: March 20 to June 30 \nKruse Livestock   1 Bwf Hfr\, Bred to Low Birth Weight Blk Bulls\, CF: April 25 for 20 days \n  \nFeeders/Calves \nKevin Gaukel   36 Blk/Bwf/Char Hfrs\, 700-800#\, Running out on pasture supplemented with hay \n****1 Ylrg Bull\, 700-800# \nUpper Basin Ranch   5 Mx Strs & Hfrs\, 775-1200 # \nFrank Woods   4 Longhorn-x Strs & Hfrs\, 400# \nMorris Hochstetler   4 Mx Hfrs\, 1200 #\, Open \nHorseshoe Valley Ranch   3 Blk Hfrs\, 800#\, Open \nShepard Farms   3 Mx Strs & Hfr\, 600# \nGary Stearns   1 Mx Hfr\, 1100#\, Open \nO D Cattle Co.   1 Mx Str\, 500# \nXL Angus Ranch   1 Blk Str\, 500# \n  \nWeighups \nJack Pfister Ranch   13 Blk Hfretts \n****31 Blk Cows \nTaylor Ranches   44 Mx Cows/Hfretts \nLungren Land & Cattle   27 Mx Cows/Hfretts \nRiverbottom Ranch   25 Mx Cows \nO D Cattle Co.   20 Mx Cows/Bull \nHerman Livestock   8 Blk Hfretts \n****10 Mx Cows \nLynn/Justin Mayfield   7 Mx Bulls \nFrank Woods   4 Longhorn Cows \n****1 Mx Cow \nScott Rabe   3 Mx Bulls \nDiamond Tail Ranch   3 Mx Cows \nHorseshoe Valley Ranch   3 Blk Cows \nJohn Sutherland   2 Mx Cows \nTrevor Barner   2 Blk Cows \nXL Angus Ranch   2 Blk Cow/Bull \nTrey & Tehl Campbell   2 Blk Bulls \nTravis Snowden   1 Blk Cow \nJim Hastings   1 Blk Cow \nMANY MORE CONSIGNMENTS BY SALE DAY \nCheck out www.torringtonlivestock.com for more consignments and to view sales and bid online!!! \nFOR MORE INFORMATION CALL 307-532-3333
URL:https://torringtonlivestock.com/event/friday-february-13th-2026-all-classes/
END:VEVENT
END:VCALENDAR