BEGIN:VCALENDAR
VERSION:2.0
PRODID:-//Torrington Livestock Market - ECPv6.15.20//NONSGML v1.0//EN
CALSCALE:GREGORIAN
METHOD:PUBLISH
X-WR-CALNAME:Torrington Livestock Market
X-ORIGINAL-URL:https://torringtonlivestock.com
X-WR-CALDESC:Events for Torrington Livestock Market
REFRESH-INTERVAL;VALUE=DURATION:PT1H
X-Robots-Tag:noindex
X-PUBLISHED-TTL:PT1H
BEGIN:VTIMEZONE
TZID:America/Denver
BEGIN:DAYLIGHT
TZOFFSETFROM:-0700
TZOFFSETTO:-0600
TZNAME:MDT
DTSTART:20250309T090000
END:DAYLIGHT
BEGIN:STANDARD
TZOFFSETFROM:-0600
TZOFFSETTO:-0700
TZNAME:MST
DTSTART:20251102T080000
END:STANDARD
BEGIN:DAYLIGHT
TZOFFSETFROM:-0700
TZOFFSETTO:-0600
TZNAME:MDT
DTSTART:20260308T090000
END:DAYLIGHT
BEGIN:STANDARD
TZOFFSETFROM:-0600
TZOFFSETTO:-0700
TZNAME:MST
DTSTART:20261101T080000
END:STANDARD
BEGIN:DAYLIGHT
TZOFFSETFROM:-0700
TZOFFSETTO:-0600
TZNAME:MDT
DTSTART:20270314T090000
END:DAYLIGHT
BEGIN:STANDARD
TZOFFSETFROM:-0600
TZOFFSETTO:-0700
TZNAME:MST
DTSTART:20271107T080000
END:STANDARD
END:VTIMEZONE
BEGIN:VEVENT
DTSTART;VALUE=DATE:20260225
DTEND;VALUE=DATE:20260226
DTSTAMP:20260424T131631
CREATED:20260105T184326Z
LAST-MODIFIED:20260226T161447Z
UID:5056-1771977600-1772063999@torringtonlivestock.com
SUMMARY:Wednesday\, February 25th\, 2026 - Feeder Special
DESCRIPTION:TORRINGTON LIVESTOCK MARKETS \nWednesday\, February 25th\, 2026\nFeeder & Calf Special\nStarting at 9:00am\nCattle Country Video – 1:00 pm MT \nLot 212   Stratton Sheep Co   300 Weaned Steer Calves. 99% Blk; 1% Bwf. Base Wt: 685 lbs. Wt Stop: 700 lbs. Slide: 18 cents. Location: 20 miles SW of Shoshoni\, WY. Delivery: 2/26/26 to 3/1/26. Feed: Growing ration: 30 lbs/hd/day\, 50% silage\, 40% ground hay\, 10% triticale. Branding Shots: Vista Once\, 7-way/Somnus. Weaning Shots in October: BoviShield Gold 7\, SafeGuard\, Pennchlor. Weigh: Early am gather from pen and weigh on ground w/a 3%. Comments: Fancy one iron and home raised steer calves. Wintered to go to grass. This is the biggest and best of 500 head. Pre-sorted 2/20 at 698 lbs gross. Rep: Ty Thompson 307-340-0770. \nLot 213   Nichols Family   80 Weaned Steer Cavles. 100% Blk/Bwf. Base Wt: 700 lbs. Wt Stop: 725 lbs. Slide: 16 cents off/on up to 25# over/under base wt. Location: 7 miles E of Bridgeport\, NE. Delivery: 3/2/26 to 3/7/26. Feed: Grass cattle ration consisting of: 48% corn silage\, 13% high moisture corn\, 5% dry distillers grain\, 5% wet distillers grain\, 28% ground roughage\, 1% mineral. 1.5lb/day predicted ADG. Shots at Birth: Alpha 7. Branding Shots: One Shot BVD\, Inforce 3\, I-Site XP. Precond Shots: One Shot BVD\, Inforce 3\, I-Site XP. Weaning Shots: BoviShield Gold One Shot\, Dectomax\, Valbazen. Post Weaning Booster: Pyramid 5 & Vision 7. Weigh: Early am gather from pen\, load on buyer’s pre-weighed truck\, haul 3 miles to Cross Roads Coop\, weigh on the truck w/a 2%. Approximately One 56\,000 lb net load. Comments: Crossbred steers with genetics to get big. Feed them or grass them. Started calving May 1st. Handy location off Hwy 385 freight friendly. Very complete vac history. Pre-sorted and test weighed prior to auction (60 hd off the bottom). No Implants. Rep: Chuck Petersen 307-575-4015. \nLot 214   Nichols Family   90 Weaned Heifer Cavles. 100% Blk/Bwf. Base Wt: 680 lbs. Wt Stop: 705 lbs. Slide: 18 cents off/on up to 25# over/under base wt. Location: 7 miles E of Bridgeport\, NE. Delivery: 3/2/26 to 3/7/26. Feed: Grass cattle ration consisting of: 48% corn silage\, 13% high moisture corn\, 5% dry distillers grain\, 5% wet distillers grain\, 28% ground roughage\, 1% mineral. 1.5lb/day predicted ADG. Shots at Birth: Alpha 7. Branding Shots: One Shot BVD\, Inforce 3\, I-Site XP. Precond Shots: One Shot BVD\, Inforce 3\, I-Site XP. Weaning Shots: BoviShield Gold One Shot\, Dectomax\, Valbazen. Post Weaning Booster: Pyramid 5 & Vision 7. Weigh: Early am gather from pen\, load on buyer’s pre-weighed truck\, haul 3 miles to Cross Roads Coop\, weigh on the truck w/a 2%. Approximately One 56\,000 lb net load. Comments: Crossbred heifers with genetics to get big. Feed them or grass them. Started calving May 1st. Handy location off Hwy 385 freight friendly. Very complete vac history. Pre-sorted and test weighed prior to auction (60 hd off the bottom). No Implants. Rep: Chuck Petersen 307-575-4015. \nLot 215   Jenkins Ranch   65 Weaned Steer Calves. 98% Blk/Bwf; 2% Hereford. Base Wt: 800 lbs. Wt Stop: 825 lbs. Slide: 14 cents. Location: 49 miles S of Limon\, CO. Delivery: 3/1/26 to 3/7/26. Feed: 35% ground hay\, 45% silage\, 15% corn\, 5% supplement. Branding Shots: Vista Once\, UltraBac 7. Precond Shots: Vista Once\, Vision 7/Somnus. Weaning Shots: Vista 5\, Ivomec Pour On. Weigh: Early am gather from pen and weigh on ground w/a 3%. Comments: Fancy set of home raised steers. Excellent frame and condition to really gain. Weaned since November 17. March & April born calves. No Implants and all natural closed herd from a 4th generation rancher. Rep: Jeff Ward 307-399-9863 or Hunter Dockery 307-340-1202. \nLot 216   Reid Cattle Co   66 Weaned Steer Calves. 55% CharX\, 35% Blk/Bwf\, 10% Red/Rwf. Base Wt: 825 lbs. Wt Stop: 850 lbs. Slide: 14 cents. Location: 49 miles S of Limon\, CO. Delivery: 3/20/26 to 3/25/26. Feed: 35% ground hay\, 45% silage\, 15% corn\, 5% supplement. Branding Shots: Vista Once\, UltraBac 7. Pre-Weaning Shots: Vista Once\, Vision 7/Somnus. Weaning Shots: Vista 5\, Ivomec Pour On. Weigh: Early am gather from pen and weigh on ground w/a 3%. Comments: Fancy load of feeding steers. Medium to light flesh with plenty of frame to grow. Weaned since November 8th. Test weighed on February 11th. Home raised and no implants. Rep: Jeff Ward 307-399-9863 or Hunter Dockery 307-340-1202. \n Lot 217   Reid Cattle Co   62 Weaned Heifer Calves. 63% CharX\, 32% Blk/Bwf\, 5% Red/Rwf. Base Wt: 780 lbs. Wt Stop: 805 lbs. Slide: 16 cents. Location: 49 miles S of Limon\, CO. Delivery: 3/20/26 to 3/25/26. Feed: 35% ground hay\, 45% silage\, 15% corn\, 5% supplement. Branding Shots: Vista Once\, UltraBac 7. Pre-Weaning Shots: Vista Once\, Vision 7/Somnus. Weaning Shots: Vista 5\, Ivomec Pour On. Weigh: Early am gather from pen and weigh on ground w/a 3%. Comments: Get one load of these fancy heifers. Lots of quality and frame. Test weighed February 11th. Home raised and no implants. Coming late March. Rep: Jeff Ward 307-399-9863 or Hunter Dockery 307-340-1202. \nwww.cattlecountryvideo.com \nFeeders \nFalls Ranch   811 Blk Hfrs\, 550-700#\, Weaned a long time\, Bunk Broke\, Been on a Grower Ration\, 3 Rounds of Shots\, Bangs Vac.\, Home Raised\, NO Replacements kept from the Wyoming Ranch (200 hd is from the Montana Ranch)\, Vermilion Genetics\, Easy to handle \nBox E Cattle Co.   180 Blk Strs\, 800#\, Weaned since Oct. 20\, Bunk Broke\, Been on a Grower Ration\, 2 Rounds of Shots: Vista Once\, Vision 7 w/Somnus\, Implanted with Revalor G on Oct. 20th\, Sired by Lucky 7 Angus Bulls\, Home Raised \nE & A Livestock   170 Blk Strs & Hfrs\, 650-750#\, Weaned a long time\, Bunk Broke\, Been on a Grower Ration\, 3 Rounds of Shots\, Steers were Implanted at weaning\, Heifers are NOT Implanted\, No Replacements Kept. \nMatt Haun   100 Blk Strs\, 800-850#\, Weaned a long time\, Bunk Broke\, Been on a Light Grower Ration\, Complete Modified Live Vac. Program\, No Implants \nTom Rogers   70 Mx Strs & Hfrs\, 650-750#\, Weaned a long time\, Been on a High Roughage Ration\, Branding Shots\, Booster Shots in Nov.: A Modified Live Vac. Program \nS & T Farms/Scott & Blake Fegler   70 Char-x/Red Angus Strs & Hfrs\, 770-950#. Heifers are Guaranteed Open\, Weaned 90 days\, Running out on Pasture\, Strictly Hay Fed (mostly grass with some alfalfa)\, Purina Mineral Progarm\, Shots at Birth: Vision 7\, Once PMH\, Branding and Pre-cond. Shots: Vision 7\, Once PMH\, Pyramid 5\, Weaning Shots: Vision 7\, Poured with Clean-up\,  January 15\, 2026 Poured again with Clean-up\, Heifers are Bangs Vac.\, Replacement Quality\, Sired by Pieper Red Angus Bulls \nHigh Cliff Ranch   45 Mx Strs & Hfrs\, 700-800#\, Complete Vac. Program \nRoaring Fork Cattle Co.   40 Blk Hfrs\, 800#\, Open\, Complete Vac. Program \nMiles Land & Livestock   38 Mx Strs\, 650-700#\, Weaned since Sept. 10\, Been on a Grower Ration\, Bunk Broke\, Complete Modified Live Vac. Program\, Home Raised \nRJ Farms   38 SimAngus Strs\, 650-750#\, Weaned since October\, Bunk Broke\, Ground Alfalfa and Barley Hay w/1.5# of Ground Corn\, Shots at Birth: C & D\, Tetanus\, Branding Shots: Pinkeye\, 7-way w/Somnus\, Vista Once\, Weaning Shots: Nasalgen 3 P:MH\, 7-way w/Somnus\, Poured w/Ivermectin\, Home Raised \nBerry Herefords   23 Blk/Bwf Strs\, 650-750#\, Weaned a long time\, Complete Modified Live Vac. Program\, No Implants\, Knife Cut \nSalo Cattle Co.   12 Mx Strs\, 995#\, Complete Vac. Program\, Producer All Natural\, Home Raised \n****5 Mx Hfrs\, 928#\, Complete Vac. Program\, Producer All Natural\, Home Raised \nIndian Trail Ranch   13 Mx Strs\, 750-775#\, Weaned a long time\, 3 Rounds of Shots: Bovi-Shield Gold\, 8-way \nGlade Wooley   13 Mx Strs\, 800-875#\, Weaned a long time\, Hay Fed\, Silage and 4# of Grain\, Branding Shots: Bovi-Sheild Gold 5\, One Shot\, 8-way\, Pre-cond. Shots: 8-way\, Ivermectin Pour On\, No Implants \n  \nWeaned Calves \nTable Mountain Ranch LLC   280 Blk Strs & Hfrs\, 500-550#\, Weaned a long time\, Hay Fed Only (Grass/Alfalfa/Oat Mix)\, 2 Rounds of Shots: Vista Once\, 7-way w/Somnus\, No Implants\, Producer All Natural \nNick Brown   180 Blk few Bwf Strs\, 625#\, Weaned a long time\, Pre-cond. Shots: Vision 7 w/Spur\, Vista Once SQ\, Weaning Shots: Express 5 HS\, Poured\, Bunk Broke\, Been on a Ration of Chopped Hay\, Silage\, 2# of Corn and Distillers\, Been on a Complete Mineral Program\, 12-iron\, Home Raised\, EID Tagged\, IMI Global\, Powerful Angus stgeers coming out of southwestern North Dakota. Backed by years of AI and ET Genetics \nCody Humphrey   170 Blk Strs\, 575-675#\, Weaned a long time\, Been on a Light Grower Ration\, Bunk Broke\, Shots: Vista Once (2x)\, Vision 7 (2x)\, Naslagen (1x)\, Poured w/Ivermec\, No Implants\, Home Raised \nDoug Derouchey   100 Blk Strs & Hfrs\, 500-700#\, Weaned a long time\, Been on a Light Grower Ration\, 3 Rounds of Shots: Vision 7\, One Shot BVD\, Nasalgen 3\, Poured w/Clean-up\, No Implants\, Wintered for grass \nCasey Epler/Bonnie Bath   100 Blk Strs & Hfrs\, 575-700#\, 70% Weaned for 90+ days/30% Weaned for 35 days\, Been on Grass/Oat Hay\, Free Choice Smartlic Protein Tubs\, Free Choice Mineral Program\, Branding Shots: Vira Shield 6 +VL5\, Vision 7\, Weaning Shots: Bovi-Shield Gold (2x)\, Vision 7 (1x)\, Poured w/Clean-up\, Safe Guard Wormer\, Sired by Hancock Angus Bulls \nEllgen Ranch   90 Blk/Bwf Strs & Hfrs\, 550-600#\, Weaned since Oct.\, Been n a Light Grower Ration\, Branding Shots: 7-way\, Nasalgen\, Weaning Shots: Vista Once\, 7-way w/Somnus\, Poured w/Ivermec\, Booster Shots (60 days later): Vista Once\, 7-way w/Spur\, High Elevation\,Wintered for grass \nNotch Peak Ranch   90 Mostly Blk/Bwf few Red/Rwf Strs & Hfrs\, 550-600#\, Weaned a long time\, Running out on grass supplemented with Millet/Alfalfa/Grass Hay Mix\, Branding Shots; Bovi-Shield Gold 5\, Vision 7 w/Somnus\, Multimin\, Pre-cond. Shots: Bovi-Sheild Gold 5\, Vision 20/20\, Weaning Shots: Bovi-Sheild Gold 5\, Vision 7 w/Somnus+Spur\, Ivermec Pour On\, Strictly Wintered for Grass\, Home Raised\, High Elevation \nKruse Livestock LLC   25 Blk/Bwf/Rwf Strs\, 450-500#\, Weaned 90 days\, Bunk Broke\, Been on a Light Grower Ration to go back to grass\, Free Choice Salt & Mineral Program\, Branding & Precond. Shots: Pyramid 5+Presponse SQ\, Vision 7/Somnus +Spur\, Steers are Implanted with Synovex C and are Knife Cut\, Home Raised\, June Calves \n****30 Blk/Bwf/Rwf Hfrs\, 450-500#\, Weaned 90 days\, Bunk Broke\, Been on a Light Grower Ration to go back to grass\, Free Choice Salt & Mineral Program\, Branding & Precond. Shots: Pyramid 5+Presponse SQ\, Vision 7/Somnus +Spur\, Heifers are NOT Implanted\, Home Raised\, June Calves \nCattlecorp LLC   75 Blk Hfrs\, 400-500#\, Weaned a long time\, Running out\, Hay Fed\, 2 Rounds of Shots\, Bangs Vac.\, No Implants \nCreekside Ranch   70 Simental/SimAngus Strs & Hfrs\, 525-700#\, Weaned a long time\, Running Out\, Hay Fed & Lick Tubs\, Been on a Grower Ration the last 30 days\, 3 Rounds of a Complete Modified Live Vac. Program\, 2 Rounds of Vision 7 w/Somnus\, Poured w/Clean-up \nThe Frozen Ranch   67 Mx Hfrs\, 550-650#\, Weaned a long time\, Hay Fed\, Complete Vac. Program \nDon Grenemeyer   40 Mostly Blk Strs & Hfrs\, 550-650#\, Weaned 90 days\, Been on Hay & Silage \, Bunk Broke\, Complete Vac. Program \nEd & Bev Allen   40 Mostly Bwf Strs & Hfrs\, 600-650#\, Weaned since December 5\, Been on Alfalfa & Millet Hay and Extruded Corn\, Branding Shots: Pyramid 5+Presponse SQ\, Alpha 7\, Pre-cond. Shots: Pyramid 5+Presponse SQ\, Alpha 7\, Weaning Shots: Pyramid 5+Presponse\, Alpha 7\, Poured w/Dectomax\, Booster Shots on Dec. 26: Pyramid 5+Presponse\, Poured w/Ivomec \nBeck Ranch/Dana Beck   40 Blk Strs\, 400-500#\, Weaned a long time\, Running out\, Strictly Hay Fed\, Complete Modified Live Vac. Program\, No Implants \nBrenton Family Livestock   30 Blk Angus Strs\, 500#\, Weaned since Nov. 1\, Branding Shots: Pyramid 5+Presponse\, Inforce 3\, Poured w/Ivermectin\, Booster Shot: Titanium 3\, Sired from Stevenson/Lisco Bulls \nJim & Tiffany Wiser   30 Red Angus few Red Angus-x Hfrs\, 450-550#\, Weaned 75 days\, Been on Alfalfa Hay\, 2 Rounds of Shots: Vira Shield 6\, Vision 7 w/Spur\, Wormed 30 days ago w/Ivermec\, No Implants\, Hot Wire Broke\, No Brands\, Home Raised \nJY Ranch   25 Mx Strs & Hfrs\, 450-550#\, Weaned a long time\, Hay Fed Only\, No Shots \n Powd Boles 14 Blk/Bwf/Rd Strs\, 500#\, Weaned 30+ days\, Running out on pasture supplemented with Hay and Cake\, Branding Shots: Vista Once SQ\, Covexin 8\, Weaning Shots: Vista Once SQ\, Covexin 8 \nThe Bennette Creek Sheep Co.   10 Mx Hfrs\, 400-500#\, Weaned since Oct.\, Hay Fed\, Complete Vac. Program\, Bangs Vac.\, May/June Calves \nPetsch & Rollins Ranch   5 Mx Strs & Hfrs\, 575-600#\, Weaned 120 days\, Hay Fed\, 3 Rounds of Modified Live Vac. Program\, Home Raised \nLee Carpenter   4 Blk/Bwf Strs\, 700-725#\, Weaned a long time\, Hay Fed\, 2 Rounds of Shots \nMick Steinhausen   4 Blk/Hereford/Char Strs\, 500#\, Weaned a long time\, Complete Vac. Program \nBrian Wing   3 Blk Strs\, 500-600#\, Weaned a long time\, Hay Fed\, Complete Vac. Program\, Home Raised   \nThane Aschenhurst   2 Mx Strs\, 600#\, Weaned 90 days\, Been on Alfalfa Hay & Lick Tubs\, 2 Rounds of Shots\, Producer All Natural\, Home Raised \n  \n Calves \nRhonda Whitney   15 Red Angus Strs & Hfrs\, 400#\, Branding Shots: 7-way \nMANY MORE CONSIGNMENTS BY SALE DAY \nCheck out www.torringtonlivestock.com for more consignments and to view sales and bid online!!! \nFOR MORE INFORMATION CALL 307-532-3333
URL:https://torringtonlivestock.com/event/wednesday-february-25th-2026-feeder-special/
LOCATION:Feeder Special\, 626 West Valley Rd\, Torrington\, WY\, 82240\, United States
END:VEVENT
END:VCALENDAR