BEGIN:VCALENDAR
VERSION:2.0
PRODID:-//Torrington Livestock Market - ECPv6.15.20//NONSGML v1.0//EN
CALSCALE:GREGORIAN
METHOD:PUBLISH
X-ORIGINAL-URL:https://torringtonlivestock.com
X-WR-CALDESC:Events for Torrington Livestock Market
REFRESH-INTERVAL;VALUE=DURATION:PT1H
X-Robots-Tag:noindex
X-PUBLISHED-TTL:PT1H
BEGIN:VTIMEZONE
TZID:America/Denver
BEGIN:DAYLIGHT
TZOFFSETFROM:-0700
TZOFFSETTO:-0600
TZNAME:MDT
DTSTART:20250309T090000
END:DAYLIGHT
BEGIN:STANDARD
TZOFFSETFROM:-0600
TZOFFSETTO:-0700
TZNAME:MST
DTSTART:20251102T080000
END:STANDARD
BEGIN:DAYLIGHT
TZOFFSETFROM:-0700
TZOFFSETTO:-0600
TZNAME:MDT
DTSTART:20260308T090000
END:DAYLIGHT
BEGIN:STANDARD
TZOFFSETFROM:-0600
TZOFFSETTO:-0700
TZNAME:MST
DTSTART:20261101T080000
END:STANDARD
BEGIN:DAYLIGHT
TZOFFSETFROM:-0700
TZOFFSETTO:-0600
TZNAME:MDT
DTSTART:20270314T090000
END:DAYLIGHT
BEGIN:STANDARD
TZOFFSETFROM:-0600
TZOFFSETTO:-0700
TZNAME:MST
DTSTART:20271107T080000
END:STANDARD
END:VTIMEZONE
BEGIN:VEVENT
DTSTART;VALUE=DATE:20260227
DTEND;VALUE=DATE:20260228
DTSTAMP:20260424T132353
CREATED:20260105T184357Z
LAST-MODIFIED:20260304T021203Z
UID:5058-1772150400-1772236799@torringtonlivestock.com
SUMMARY:Friday\, February 27th\, 2026 - All Classes
DESCRIPTION:TORRINGTON LIVESTOCK MARKETS \nFriday\, February 27\, 2026\n All Classes\nStarting at 10:00 am MDT with Weigh-ups\nBred Heifers \nMiles Land & Livestock   41 Char-x Hfrs\, Bred to TD Angus or Reyes Bulls\, CF: March 22 for 21 days\, Shots: Pre-Guard\, Poured \n  \nBred Cows \nCody Humphrey   40 Blk Cows\, Mx Ages\, Bred to Blk Bulls\, CF: Mid-April \nPete Harrison   2 Mx Cows\, Mx Ages\, Bred to Blk Simental Bulls\, CF: Mx \nDaniel Harrison   1 Mx Cow\, Mx Age\, Bred to Blk Simental Bull\, CF: Now \n  \nFeeders/Calves \n88 Ranch Land & Livestock   15 Longhorn Strs & Hfrs\, 650-725#\, Heifers are Open \nChanse Darling   6 Roping Strs\, 650-700# \n****1 Watusi Str\, 850-950# \n****1 Watusi Bull\, 850# \nNate Reisdorer   5 Roping Strs\, 700# \nRick Zerbe   1 Blk Str\, 600#\, Weaning Shots: 7-way\, Coming off grass \nKen Dixon   1 Ylg Bull\, 600# \n  \nWeighups \nBerger Ranches   42 Mx Cows\, Been on Fed f or 90 days\, Home Raised \nRiverbottom Ranch   40 Mx Cows \nPete & Daniel Harrison   22 Mx Cows \nScissors Ranch   7 Mx Cows/Bull \nBar JL Livestock   6 Mx Cows/Bull \nAllison Schaneman   4 Mx Cows\, Exposed \nJanet Talbott   3 Hereford Cows \nRick Zerbe   1 Blk/Bwf Cow\, Exposed (3yr old\, Bred to Blk Bulls\, CF: April 1st for 45 days) \n****1 Jersey Milk Cow\, Exposed (3 yr old\, Bred to Blk Bulls\, CF: April 1 for 45 days) \nRiver Canyon Ranch   1 Str\, 1500# \n****1 Cow \nBrian Zerbe   1 Bull \nDylan Hill   1 Cow \nFlying Heart Ranch/Tim Carpenter   1 Cow \nBill Reffalt   1 Mx Cow \nFred Reichert   1 Cow \nBob Stoddard   1 Bull \nDoug Dunlap   1 Blk Bull \nCV Ranch Inc.   1 Bull \nBruce Murray   1 Hereford Cow \n MANY MORE CONSIGNMENTS BY SALE DAY \nCheck out www.torringtonlivestock.com for more consignments and to view sales and bid online!!! \nFOR MORE INFORMATION CALL 307-532-3333
URL:https://torringtonlivestock.com/event/friday-february-27th-2026-all-classes/
END:VEVENT
END:VCALENDAR