BEGIN:VCALENDAR
VERSION:2.0
PRODID:-//Torrington Livestock Market - ECPv6.15.20//NONSGML v1.0//EN
CALSCALE:GREGORIAN
METHOD:PUBLISH
X-ORIGINAL-URL:https://torringtonlivestock.com
X-WR-CALDESC:Events for Torrington Livestock Market
REFRESH-INTERVAL;VALUE=DURATION:PT1H
X-Robots-Tag:noindex
X-PUBLISHED-TTL:PT1H
BEGIN:VTIMEZONE
TZID:America/Denver
BEGIN:DAYLIGHT
TZOFFSETFROM:-0700
TZOFFSETTO:-0600
TZNAME:MDT
DTSTART:20250309T090000
END:DAYLIGHT
BEGIN:STANDARD
TZOFFSETFROM:-0600
TZOFFSETTO:-0700
TZNAME:MST
DTSTART:20251102T080000
END:STANDARD
BEGIN:DAYLIGHT
TZOFFSETFROM:-0700
TZOFFSETTO:-0600
TZNAME:MDT
DTSTART:20260308T090000
END:DAYLIGHT
BEGIN:STANDARD
TZOFFSETFROM:-0600
TZOFFSETTO:-0700
TZNAME:MST
DTSTART:20261101T080000
END:STANDARD
BEGIN:DAYLIGHT
TZOFFSETFROM:-0700
TZOFFSETTO:-0600
TZNAME:MDT
DTSTART:20270314T090000
END:DAYLIGHT
BEGIN:STANDARD
TZOFFSETFROM:-0600
TZOFFSETTO:-0700
TZNAME:MST
DTSTART:20271107T080000
END:STANDARD
END:VTIMEZONE
BEGIN:VEVENT
DTSTART;VALUE=DATE:20260304
DTEND;VALUE=DATE:20260305
DTSTAMP:20260424T115458
CREATED:20260212T222025Z
LAST-MODIFIED:20260312T142831Z
UID:5275-1772582400-1772668799@torringtonlivestock.com
SUMMARY:Wednesday\, March 4th\, 2026 - Feeder Special
DESCRIPTION:Torrington Livestock Markets\nFeeder Special\nWednesday\, March 4th\, 2026 – 10:00 am \nCattle Country Video – 1:00 pm \nLot 301 – Tyler & Jaimee Mollohan – 180 Weaned Heifer Calves\, Base Wt: 835\, Slide: 14¢ off/on up to 25# over/under base weight\, Wt Stop: 860\, Frame: Med-Large\, Flesh: Medium\, Breed: 100% Black & BWF – Black Angus & Black Angus X\, Location: Mollohan Corrals\, 28 mi S of Sterling\, CO\, Origin: Purchased From WY & CO\, Delivery: 3/5/2026–3/14/2026\, Feed: High roughage grower ration consisting of Millet Hay (12%)\, Wheat Hay (12%)\, Beet Pulp (32%)\, Corn Silage (41%)\, DDG (3%)\, Balance Maintenance Supplement\, 2# predicted ADG\, Shots: All heifers double vaccinated with modified live vaccines; Weaning – Pyramid 5\, Autogenous Bacterin for Histophilus somni\, Mannheimia haemolytica Types 1 & 6\, Mycoplasma bovis\, Pasteurella multocida Type A\, Weigh Up: Early AM gather from pen\, weigh on the ground w/ 3% shrink\, weigh back any cuts\, Approx. 3–50\,000 lb net loads\, Comments: Choice to fancy set of feeding heifers purchased in load lots off Cattle Country Video\, Big end of 2\,200 heifers purchased\, Fed a grass cattle grower ration\, No implants by this owner\, Guaranteed open\, Rep: CCV Chuck Petersen (307) 575-4015 \n  \nLot 302 – Tyler & Jaimee Mollohan – 130 Weaned Heifer Calves\, Base Wt: 845\, Slide: 14¢ off/on up to 25# over/under base weight\, Wt Stop: 870\, Frame: Med-Large\, Flesh: Medium\, Breed: 100% Charolais English X\, Location: Mollohan Corrals\, 33 mi S of Sterling\, CO\, Origin: Purchased From CO\, Delivery: 3/5/2026–3/14/2026\, Feed: High roughage grower ration consisting of Millet Hay (12%)\, Wheat Hay (12%)\, Beet Pulp (32%)\, Corn Silage (41%)\, DDG (3%)\, Balance Maintenance Supplement\, 2# predicted ADG\, Shots: All heifers double vaccinated with modified live vaccines; Weaning – Pyramid 5\, Autogenous Bacterin for Histophilus somni\, Mannheimia haemolytica Types 1 & 6\, Mycoplasma bovis\, Pasteurella multocida Type A\, Weigh Up: Early AM gather from pen\, weigh on the ground w/ 3% shrink\, weigh back any cuts\, Approx. 2–55\,000 lb net loads\, Comments: Choice to fancy set of feeding heifers purchased from Cattle Country Video (Wolever Ranch)\, Big end of 2\,200 heifers purchased\, Fed a grass cattle grower ration\, No implants by this owner\, Guaranteed open\, Rep: CCV Chuck Petersen (307) 575-4015\, Rep Option: Yes\, Wt Var: Uneven \n  \nLot 303 – Greg Gardner Livestock – 100 Weaned Steer Calves\, Base Wt: 655\, Slide: 18¢ off @ base weight\, Wt Stop: 665\, Frame: Med-Large\, Flesh: Med\, Breed: 100% Black; Black Angus cows; Registered Black Angus (Vermillion and Paintrock) bulls\, Location: 5W Feedlot\, 17 mi E of Lusk\, WY\, Origin: Ranch Raised\, Delivery: 3/5/2026–3/8/2026\, Feed: Growing Ration\, Shots: Branding – Vision 7\, Triangle 4 PHK; Weaning – Vision 7/Somnus\, Vista Once PMH\, Ivermectin; Oct – Vista 5\, MultiMin\, Weigh Up: Early AM gather from pen\, weigh on the ground w/ 3%\, Comments: Fancy\, home-raised\, one iron steer calves\, Wintered to go to grass\, Pre-sorted from 130 hd\, Test weighed 101 hd at 664 lbs gross on 02/26\, Rep: Torrington – Ty Thompson (307) 340-0770 \nwww.cattlecountryvideo.com \nFeeders \nShinn Park Ranch/Garry Forney   134 Black Angus and Angus/Simental Hfrs\, 725#\, Weaned 120 days\, Running out on grass meadows supplemented with Grass Hay\, Branding Shots: Bovi-Shield Gold 5\, 7-way\, Weaning Shots: Bovi-Shield Gold\, 8-way\, Bangs Vac.\, Have had a Lutalyse Shot\, Choice to Fancy\, Very Green\, High Altitude (born and raised over 7000’)\, Replacement Quality \n****43 Black Angus and Angus/Simental Hfrs\, 600#\, Weaned 120 days\, Running out on grass meadows supplemented with Grass Hay\, Branding Shots: Bovi-Shield Gold 5\, 7-way\, Weaning Shots: Bovi-Shield Gold\, 8-way\, Bangs Vac.\, Have had a Lutalyse Shot\, Choice to Fancy\, Very Green\, High Altitude (born and raised over 7000’)\, Feeder Quality \n****3 Blk Angus and Angus/Simental Strs\, 625#\, Weaned 120 days\, Running out on grass meadows supplemented with Grass Hay\, Branding Shots: Bovi-Shield Gold 5\, 7-way\, Weaning Shots: Bovi-Shield Gold\, 8-way\, High Altitude (born and raised over 7000’) \nBug Inc.   96 Mostly Blk Strs\, 700#\, Weaned a long time\, Been on a Light Grower Ration plus Hay\, Branding Shots: 7-way\, Anthrax \n****78 Blk Hfrs\, 700#\,Weaned a long time\, Been on a Light Grower Ration plus Hay\, Branding Shos: 7-way\, Anthrax \nCSU-Maxwell Ranch   165 70% Blk/Bwf//70% Red/Rwf Strs\, 625-750#\, Weaned a long time\, Been on a Grass Grower Ration\, Pre-cond. Shots at ranch with a Modified Live Vac. Program\, 2 Booster Shots: (Weaning and Post-Weaning) with a Modified Live Vac. Program\, Home Raised \nWurdeman Bros.   87 Blk/Bwf Hfrs\, 750#\, Weaned a long time\, Been on a High Roughage Grower Ration\, Shots at Birth: Vision 7 Somnus\, Branding Shots: Vista Once SQ\, Vision 7 Somnus\, Multimin\, Pre-cond. Shots: Vista Once SQ\, Vision 7 Somnus\, Nasalgen 3 PMH\, Weaning Shots: Pyramid 5\, Nasalgen 3 PMH\, Vision 7 Somnus\, \,Safe Guard Wormer\, Pouerd w/Ivomec\, Bangs Vac.\, Recent Shots: Express FP5 VL5 HB\, Poured w/Ivemec \nBowers Farm   75 Mostly Blk Strs & Hfrs\, 650#\, Weaned a long time\, Been on a Grower Ration\, 2 Rounds of Shots:  Pyramid 5+Presponse\, Producer All Natural \nLon Eisenbarth   33 Blk Strs\, 800-850#\, Running Out\, Bunk Broke\, Full Vac. Program \nBaxter Bagley   20 Blk Hfrs\, 850#\, Guaranteed Open\, Been on a Grower Ration\, 3 Rounds of Shots\, Bangs Vac.\, Producer All Natural \nJeff & Karen Macy   19 Red/Blk Strs/Hfrs & Bulls\, 800-850#\, Weaned a long time\, Bunk Broke\, Been on Alfalfa Hay and Flaxlic Tubs\, Pre-cond. Shots: Vira Shield 6 VL5 HB\, Vision 7 Somnus\, Poured w/Dectomax \nTobin Livestock   9 Blk Angus Strs\, 650#\, Weaned since Sept. 20\, Branding Shots\, Pre-cond. Shots: Pyramid 5+Prespnse\, Vision 7 w/Somnus\, Valcor Wormer \nDavid & Francie Claus    6 Mx Strs & Hfrs\, 650-700#\, Weaned since November4\, Bunk Broke\, Been on a Sorghum Silage/Ground Hay Ration\, Branding Shots: Visa Once SQ\, Vision 7 w/Somnus\, Weaning Shots: Vista Once SQ\, Nasalgen 3 PMH\, Vision 7 Somnus\, Poured w/Promectin\, Booster Shots \n(Feb. 6/26): Vista Once SQ\, Vision 7 Somnus\, Poured w/Promectin \nScott Forrest   3 Mx Hfrs\, 850-900#\, Open\, Complete Vac. Program\, Coming off grass\, Producer All Natural \nBecky Cover   1 Shorthorn Str\, 1050#\, Complete Vac. Program\, Poured on Jan. 5\, 2026 \nNeil Forgey   1 Mx Hfr\, 800#\, Open \nJC Forgey   1 Blk Hfr\, 800#\, Open \n  \nWeaned Calves \nNorma\, Mark & Justin Bruegger   197 Blk/Bwf Strs\, 550-600#\, Weaned a long time\, Running out on Hay Fields supplemented w/Hay and Cake\, Branding Shots:  Vision 7 w/Somnus\, Nasalgen 3 PMH\, Pre-cond. Shots: Vision 7 w/Somnus\, Vista Once SQ\, Multimin\, Knife Cut \n7 C Cattle Co.   165 Mx Strs & Hfrs\, 475-525#\, Weaned a long time\, Hay Fed\, Complete Vac. Program \nJeb Hanson/Traphagen Ranchbaxs   99 Blk Strs\, 600#\, Weaned since Mid-December\, Bunk Broke\, Been on a Grower Ration\, Branding Shots\, Weaning Shots: Vista Once \, Vision 7 w/Somnus\, Poured w/Ivermec\, Safeguard Wormer\, No Implants \n****7 Blk Hfrs\, 600#\, Weaned since Mid-December\, Bunk Broke\, Been on a Grower Ration\, Branding Shots\, Weaning Shots: Vista Once \, Vision 7 w/Somnus\, Poured w/Ivermec\, Safeguard Wormer\, No Implants \nPlatt Cattle Co   100 Blk few Red Hfrs\, 400-500#\, Weaned 90 days\, Been on Alfalfa/Sudan Hay\, Branding Shots:  Ultrbac 8\, Weaning Shots:  Pyramid 5+Presponse SQ\, Ultrabac 8\, Vit A & D\, Poured w/Cydectin Treated with a preventative dose of Corid for Coccidiosis\, No Implants\, Sired by Ken Haas Angus Bulls\, Green \nKerns Cattle   82 Blk Strs & Hfrs\, 500-525#\, Weaned fr90 days\, Bunk Broke\, Been on a Grower Ration\, Branding Shots: Alpha 7\, Pyralmid 5+Presponse SQ\, Pre-cond. Shots: Pyramid 5+Presponse SQ\, Corona\, Weaning Shots: Pyramid 5+Presponse SQ \nJimmy & Tiffany Wiser   66 Mx Strs\, 450-550#\, Weaned 80 days\, Been on Alfalfa Hay\, 2 Rounds of Shots: Vira Shield 6\, Vision 7 w/Spur\, Wormer & Poured w/Ivomec 30 days ago\, No Implants\, Hot Wire Broke\, No Brands \nBrad & Susan Horrocks   60 Blk/Bwf Strs & Hfrs\, 600-700#\, Weaned since Oct.\, Hay Fed Only\, 2 Rounds of Shots\, Home Raised \nTyrell Snow   42 Blk/Bwf/Rd/Rwf Hfrs\, 600-750#\, Weaned a long time\, Complete Vac. Program\, Home Raised \nSlash RS Ranch   41 Mx Strs & Hfrs\, 475-500#\, Weaned 60 days\, Bunk Broke\, Grass/Alfalfa Hay Mix\, Salt & Mineral Program\, Shots at Birth; Multimin 90\, Branding Shots: Bovi-Shield Gold One Shot\, Vision 7 w/Somnus\, Ivomec Injectable\, Pre-cond. Shots (Nov. 6); Bovi-Shield Gold One Shotk\, Vision 7 w/Somnus\, Ivomec Injectable \nS S Ranch   39 Mx Hfrs\, 500-625#\, Weaned a long time\, Running Out on pasture\, Hay Fed\, Lick Tubs\, Complete Modified Live Vac. Program (3x)\, Poured w/Clean-up\, Summer Calves \nBrenton Family Livestock LLC   30 Blk Hfrs\, 500#\, Weaned since Nov. 1\, Branding Shots: Pyramid 5+Presponse\, Inforce 3\, Back Poured w/Ivermectin\, Booster Shot: Titanium 3\, Home Raised (6500’ Elevation) \nBob Stoddard   29 Blk Strs\, 600#\, Weaned since October\, Complete Vac. Program\, Home Raised \nScissors Ranch   25 Blk Hfrs\, 550-600#\, Weaned a long time\, Bunk Broke\, Been on a Silage/Hay Ration\, 2 Rounds of Shots (Branding & Pre-cond.) \nHarms Ranch/Janyce Harms   23 Blk/Char Strs & Hfrs\, 600#\, Weaned a long time\, Been on a High Roughage Ration\, Branding Shots: 7-way\, Ralgro\, Pre-cond. Shots: 7-way \nTy Lerwick   23 Blk/Bwf Hfrs\, 550-600#\, Weaned a long time\, Complete Vac. Program \nRyan & Kailee Haefele   21 Red Hfrs\, 525#\, Weaned 80 days\, Been on a Light Grower Ration\, Complete Vac. Program\, Poured w/Ivermectin\, Purchased from a Reputation Producer \nKeith Lerwick   21 Blk/Bwf Hfrs\, 550#\, Weaned a long time\, Complete Vac. Program \nKyle Cruth   15 Blk/Bwf Strs & Hfrs\, 300-600#\, Weaned 60+ days\, Hay Fed\, Complete Mineral Program\, 2 Rounds of Modified Live Vac. Program\, Poured w/Ivermectin\, Oral Safe Guard Drench\, No Implants\, Producer All Natural\, Sired by Blk Angus Bulls \nScott Forrest   14 Mx Strs & Hfrs\, 500#\, Weaned 30+ days\, Been on Alfalfa/Grass Hay Mix\, Branding Shots: Vision 7\, Pre-cond. Shots: Vision 7 w/Somnus+Spur\, Pyramid 5+Presponse SQ\, Poured w/Ivermax\, Producer All Natural \nBlaine & Tiffany Galbreath   12 Blk/Rd/Char Strs & Hfrs\, 375#\, Weaned 30 days\, Hay Fed\, Free Choice Mineral Progam\, 2 Rounds of Shots \nWill Jurek   7 Blk (1 Rd) Hfrs\, 600#\, Weaned since Sept.\, Been on Alfalfa Hay and 2# of Cake\, 2 Rounds of Shots: Covexin 8 Vira Shield 6\, Bangs Vac. \nMarlio Rodriguez   6 Angus few Hereford/Angus -x Strs & Hfrs\, 600-650#\, Weaned since October\, Running Out\, Hay Fed\, Cake Broke\, 2 Rounds of Shots: 7-way\, Not Branded \n****1 Jersey Bull\, 600#\, Weaned since October\, Running Out\, Hay Fed\, Cake Broke\, 2 Rounds of Shots: 7-way\, Not Branded \nC & R Livestock   7 Longhorn/Corr. Strs & Hfrs\, 500-600#\, Weaned a long time\, Running Out\, Hay Fed\, Complete Modified Live Vac. Program \nDirk & Susan Myrtle   7 Blk Angus Strs & Hfrs\, 450-550#\, Weaned since November\, Running out on Corn Stalks\, and Hay Fields\, Shots: P:yramid 5\, Safe Guard Wormer\, Heifers are Bangs Vac. \nJames Komma   7 Blk (1Rd) Strs & Hfrs\, 600-650#\, Weaned a long time\, Bunk Broke\, Some Corn\, Complete Vac. Program \nJC Forgey   5 Blk/Rwf Strs & Hfrs\, 450-500#\, Weaned a long time\, Hay Fed \nJerry & Tammy Heggie   4 Blk Gelvb. Strs & Hfrs\, 600#\, Weaned 30 days\, Free Choice Hay\, CattlActive Stress Tubs\, Shots at Birth: CattlActive\, Branding Shots: Vista 7 w/Spur\, CattlActive\, Heifers are Bangs Vac. And Guaranteed Open\, High Altitude Born and Raised at 7200’ \nRoger Rouselle   2 Blk Strs\, 600#\, Weaned a long time\, Producer All Natural \nBecky Cover   1 Bwf Str\, 550#\, Weaned a long time\, Complete Vac. Program\, Poured on Jan. 5\, 2026 \nMANY MORE CONSIGNMENTS BY SALE DAY \nCheck out www.torringtonlivestock.com for more consignments and to view sales and bid online!!! \nFOR MORE INFORMATION CALL 307-532-3333
URL:https://torringtonlivestock.com/event/wednesday-march-4th-2026-feeder-special/
END:VEVENT
END:VCALENDAR