BEGIN:VCALENDAR
VERSION:2.0
PRODID:-//Torrington Livestock Market - ECPv6.15.20//NONSGML v1.0//EN
CALSCALE:GREGORIAN
METHOD:PUBLISH
X-WR-CALNAME:Torrington Livestock Market
X-ORIGINAL-URL:https://torringtonlivestock.com
X-WR-CALDESC:Events for Torrington Livestock Market
REFRESH-INTERVAL;VALUE=DURATION:PT1H
X-Robots-Tag:noindex
X-PUBLISHED-TTL:PT1H
BEGIN:VTIMEZONE
TZID:America/Denver
BEGIN:DAYLIGHT
TZOFFSETFROM:-0700
TZOFFSETTO:-0600
TZNAME:MDT
DTSTART:20250309T090000
END:DAYLIGHT
BEGIN:STANDARD
TZOFFSETFROM:-0600
TZOFFSETTO:-0700
TZNAME:MST
DTSTART:20251102T080000
END:STANDARD
BEGIN:DAYLIGHT
TZOFFSETFROM:-0700
TZOFFSETTO:-0600
TZNAME:MDT
DTSTART:20260308T090000
END:DAYLIGHT
BEGIN:STANDARD
TZOFFSETFROM:-0600
TZOFFSETTO:-0700
TZNAME:MST
DTSTART:20261101T080000
END:STANDARD
BEGIN:DAYLIGHT
TZOFFSETFROM:-0700
TZOFFSETTO:-0600
TZNAME:MDT
DTSTART:20270314T090000
END:DAYLIGHT
BEGIN:STANDARD
TZOFFSETFROM:-0600
TZOFFSETTO:-0700
TZNAME:MST
DTSTART:20271107T080000
END:STANDARD
END:VTIMEZONE
BEGIN:VEVENT
DTSTART;VALUE=DATE:20260313
DTEND;VALUE=DATE:20260314
DTSTAMP:20260424T120104
CREATED:20260212T222232Z
LAST-MODIFIED:20260316T151927Z
UID:5281-1773360000-1773446399@torringtonlivestock.com
SUMMARY:Friday\, March 13th\, 2026 - All Classes
DESCRIPTION:TORRINGTON LIVESTOCK MARKETS \nFriday\, March 13th\, 2026\n All Classes\nStarting at 10:00 am MDT with Weigh-ups\nBred Cows \nSlim Ranch   20 Mx Cows few Hfrs\, Cows Mx Ages\, Bred to Blk Bull\, CF: Mx \n  \nPairs \nTriangle 2 Cattle   9 Mx Cow Pairs\, Mx Ages \n  \nFeeders/Calves \nMerritt Harris   4 Roping Steers (last years)\, 600# \nBryan Van Buren   4 Blk Angus Strs & Hfrs\, 600#\, Weaned a long time\, Running out on pasture supplemented with Hay\, Weaning Shots; 7-way\, Producer All Natural\, Heifers are Guaranteed Open \nJohn & Loree Wetstein   3 Mx Strs & Hfr\, 620-1060#\, Weaned a long time\, Been on Native Hay\, 16% Cake and Bull Power\, Bunk Broke\,  Branding Shots: Ultabac 7 Somubac\, Vista Once SQ\, Weaning Shots: Ultrabac 7 Somubac\,k Vista Once SQ\, No Implants\, Poured w/Dectomax\, Home Raised\, Running over 7300’ \n  \nWeighups \nBerger Ranches   40 Mx Hfretts\, Open\, Home Raised\, Been on Fed for 100+ days \n****35 Mx Cows\, Open\, Home Raised\, Been on Fed for 100+ days \nFalkenburg Ranch   10 Mx Cows \nDeGering Livestock   10 Blk Hfretts \nWindy Peak Ranch    9 Mx Hfretts \nKen Haas Angus   7 Blk Cows \nShawn Booth   6 Mx Cows/Bulls \nTy Lerwick   5 Blk Bulls \nJunk Cattle Family   4 Mx Cows \nCherry Creek Angus   2 Blk Bulls \nBryan Van Buren   1 Blk Bull\, 5 yr old\, 1800-2000# \nGuy Landers   1 Bwf Cow \nMichael Booth   1 Cow \n  \nSplitters/Baby Calves \nDoug\, Kim\, Cole & Jackie DesEnfants   1 Bwf Baby Heifer Calf \nDeGering Livestock   1 Hfr Pair\, Blk Bull Calf at side. Born on Feb. 21 \nMANY MORE CONSIGNMENTS BY SALE DAY \nCheck out www.torringtonlivestock.com for more consignments and to view sales and bid online!!! \nFOR MORE INFORMATION CALL 307-532-3333
URL:https://torringtonlivestock.com/event/friday-march-13th-2026-all-classes/
END:VEVENT
END:VCALENDAR