BEGIN:VCALENDAR
VERSION:2.0
PRODID:-//Torrington Livestock Market - ECPv6.15.20//NONSGML v1.0//EN
CALSCALE:GREGORIAN
METHOD:PUBLISH
X-ORIGINAL-URL:https://torringtonlivestock.com
X-WR-CALDESC:Events for Torrington Livestock Market
REFRESH-INTERVAL;VALUE=DURATION:PT1H
X-Robots-Tag:noindex
X-PUBLISHED-TTL:PT1H
BEGIN:VTIMEZONE
TZID:America/Denver
BEGIN:DAYLIGHT
TZOFFSETFROM:-0700
TZOFFSETTO:-0600
TZNAME:MDT
DTSTART:20250309T090000
END:DAYLIGHT
BEGIN:STANDARD
TZOFFSETFROM:-0600
TZOFFSETTO:-0700
TZNAME:MST
DTSTART:20251102T080000
END:STANDARD
BEGIN:DAYLIGHT
TZOFFSETFROM:-0700
TZOFFSETTO:-0600
TZNAME:MDT
DTSTART:20260308T090000
END:DAYLIGHT
BEGIN:STANDARD
TZOFFSETFROM:-0600
TZOFFSETTO:-0700
TZNAME:MST
DTSTART:20261101T080000
END:STANDARD
BEGIN:DAYLIGHT
TZOFFSETFROM:-0700
TZOFFSETTO:-0600
TZNAME:MDT
DTSTART:20270314T090000
END:DAYLIGHT
BEGIN:STANDARD
TZOFFSETFROM:-0600
TZOFFSETTO:-0700
TZNAME:MST
DTSTART:20271107T080000
END:STANDARD
END:VTIMEZONE
BEGIN:VEVENT
DTSTART;VALUE=DATE:20260320
DTEND;VALUE=DATE:20260321
DTSTAMP:20260424T115600
CREATED:20260212T222341Z
LAST-MODIFIED:20260327T002714Z
UID:5285-1773964800-1774051199@torringtonlivestock.com
SUMMARY:Friday\, March 20th\, 2026 - Bred Cow Special/All Classes
DESCRIPTION:TORRINGTON LIVESTOCK MARKETS \nFriday\, March 20th\, 2026\n All Classes & Bred Cow Special – Starting at 9 with Weigh Ups – Bred Cows/Hfrs will sell at Noon starting with the 150 Bred Heifers on Cattle Country Video\n\nCattle Country Video – Noon\nLot 330 – Lone Tree Ranch – 50 Bred Heifers\, Base Wt: 960\, Slide: $2/lb off @ 26 lbs under base wt\, Frame: Med\, Flesh: Med\, Breed: 95% Black; 5% BWF; Angus Bred\, Location: Lone Tree Ranch\, 25 mi SE of Mountain View\, WY\, Origin: Ranch Raised\, Delivery: 3/21/2026–3/28/2026\, Feed: Native meadows\, grass hay & liquid protein\, Shots: (3X) Modified Live as calves; Ultra Choice 8\, ViraShield 6 VL5\, Poured/Clean-Up\, Other Info: Herring Angus/Indreland Angus genetics; Preg Checked 10/22/2025 by licensed vet; Expected Calving Dates 5/1/2026–6/10/2026\, Weigh Up: Mid-morning gather\, weigh on the ground straight and sort for load\, Comments: Choice set of high-elevation\, home-raised bred heifers selling due to dry conditions\, Buyer has option on one load up to three loads\, Cattle are very gentle—dog broke\, horse broke\, and 4-wheeler broke\, Bid with confidence on an excellent set of ranch heifers\, Rep: CCV – Zach Johnson / Lander Nicodemus (307) 575-2171 / (307) 421-8141 \nLot 331 – Lone Tree Ranch – 50 Bred Heifers\, Base Wt: 960\, Slide: $2/lb off @ 26 lbs under base wt\, Frame: Med\, Flesh: Med\, Breed: 95% Black; 5% BWF; Angus Bred\, Location: Lone Tree Ranch\, 25 mi SE of Mountain View\, WY\, Origin: Ranch Raised\, Delivery: 3/21/2026–3/28/2026\, Feed: Native meadows\, grass hay & liquid protein\, Shots: (3X) Modified Live as calves; Ultra Choice 8\, ViraShield 6 VL5\, Poured/Clean-Up\, Other Info: Herring Angus/Indreland Angus genetics; Preg Checked 10/22/2025 by licensed vet; Expected Calving Dates 5/1/2026–6/10/2026\, Weigh Up: Mid-morning gather\, weigh on the ground straight and sort for load\, Comments: Choice set of high-elevation\, home-raised bred heifers selling due to dry conditions\, Buyer has option on one load up to three loads\, Cattle are very gentle—dog broke\, horse broke\, and 4-wheeler broke\, Bid with confidence on an excellent set of ranch heifers\, Rep: CCV – Zach Johnson / Lander Nicodemus (307) 575-2171 / (307) 421-8141 \nLot 332 – Lone Tree Ranch – 50 Bred Heifers\, Base Wt: 960\, Slide: $2/lb off @ 26 lbs under base wt\, Frame: Med\, Flesh: Med\, Breed: 95% Black; 5% BWF; Angus Bred\, Location: Lone Tree Ranch\, 25 mi SE of Mountain View\, WY\, Origin: Ranch Raised\, Delivery: 3/21/2026–3/28/2026\, Feed: Native meadows\, grass hay & liquid protein\, Shots: (3X) Modified Live as calves; Ultra Choice 8\, ViraShield 6 VL5\, Poured/Clean-Up\, Other Info: Herring Angus/Indreland Angus genetics; Preg Checked 10/22/2025 by licensed vet; Expected Calving Dates 5/1/2026–6/10/2026\, Weigh Up: Mid-morning gather\, weigh on the ground straight and sort for load\, Comments: Choice set of high-elevation\, home-raised bred heifers selling due to dry conditions\, Buyer has option on one load up to three loads\, Cattle are very gentle—dog broke\, horse broke\, and 4-wheeler broke\, Bid with confidence on an excellent set of ranch heifers\, Rep: CCV – Zach Johnson / Lander Nicodemus (307) 575-2171 / (307) 421-8141                                                              \nComplete or Partial Dispersals \nMilton Moffett   150 Mx Cows\, Partial Dispersal\, Running Ages (3 to 10 yr olds)\, Bred to Lucky 7 Angus or Deer Creek Angus Low Birth Weight Bulls\, CF: April 1 for 60 days\, Poured in the fall \nJD and Donna Mathis   46 Mx Cows\, Complete Dispersal\, Mx Ages\, Bred to Blk Bulls\, CF: Mid-April for 60 days \n  \nBred Heifers \nJoanne Watt   3 Red Angus Hfrs\, Bred to Red Angus Bulls\, CF: July 5th \n  \nBred Cows \nHorblit Ranch   15 Mostly Blk few Rd Cows\, 5-9 yr olds\, Bred to Ochsner-Roth Blk Angus Bulls\, CF: April\, Been on a Complete Vac. Program\, Home Raised \nBenton Family Livestock   12 Blk Angus Cows\, 1500#\, Bred to Diamond / Peak Registered Angus Bulls\, CF: April 10\, Shots: Vira Shield 6 +VL5\, Vision 7 w/Somnus\, Poured last week\, Home Raised \nSewell Ranching LLC   10 Blk/Bwf Cows\, SM-SS\, Bred to Blk Bulls\, CF: Late Summer/Fall\, In the Fall: Poured w/Clean-up\, Injectable Wormer\, 1-iron \nStuart & Linda McLaen   6 Red Angus Cows\, Mx Ages\, Bred to Red Angus Bulls\, CF: April \nClay Kelly   4 Blk Cows\, 3-5 yr olds\, Bred to Blk Bulls\, CF: April/May \nMatt Derstine   2 Mx Cows\, Mx Ages\, Bred to Red Angus Bulls\, CF: May/June \nTim Ricker   1 Mx Cow\, 6-8 yr  old\, Bred to Blk Bull\, CF: Now \n  \nPairs \nJason Goertz   2 Red Angus Cow Pairs\, 1100#\, Mx Ages\, Tagged to Match\, Calves Born Mid-Feb.\, Calf Shots: Calf Guard\, Alpha C & D \nWill & Jennie Whitlock   1 Cow Pair\, 7 yr old\, Bull Calf at side (180#) \nMatt Derstine   1 Cow Pair\, SM \n  \nBreeding Bulls \nVince Kasperbauer   7 Breeding Bulls\, 3 & 4 year olds (3 Hd from Becton Red Angus\, 4 Hd from WEBO Angus) Trich Test and Ready to go\, Bought as Heifer Bulls and have gotten too big\, Lots of Breeding Life Left \n  \nFeeders/Calves \nKelley Land & Cattle    100 Blk Hfrs\, 675-825#\, Complete Vac Program\, Running Out\, Hay Fed\, High Elevation\, Home Raised (NOT All Natural) \nLeonard Nockels Living Trust   10 Mx Calves\, 250-600# \nJohn & Loree Wetstein   2 Blk Angus Str & Hfr\, 620-650#\, Weaned 75 days\, Been on Native Hay\, Bull Power and 14% Cake\, Branding Shots: Vista Once SQ\, Ultrabac 7/Somnus\, Weaning Shots: Vista Once SQ\, Ultrabac 7/Somubac\, No Implants\, Home Raised\, High Elevation (7300’) \n****1 Blk Angus Str\, 1060#\, Running out on pasture\, Cake Broke\, Complete Vac. Program\, High Elevation\, Home Raised \nMatt Derstine   3 Mx Hfrs\, 650-700#\, Weaned a long time\, Hay Fed\, Complete Vac. Program \n  \nWeighups \nKelley Land & Cattle   68 Blk Hfretts\, Straight 3 yr  olds \n****23 Mx Cows \nLeonard Nockels Living Trust   45 Mx Cows/Hfretts/Bulls \nWyncote Farms   15 Mx Cows\, Been on Fed for 100 days \nBox B Livestock   12 Mx Cows \nJD & Donna Mathis   2 Mx Bulls (Trich and Fertility Test\, 1 hd is a coming 2 yr old and 1 hd is a coming 4 yr old) \n****1 Str\, 1100#\, 2 yr old \nJorgensen Land & Cattle   2 Blk Bulls \nJason Cole   1 Hereford Bull \n  \nSplitters/Baby Calves \nWyncote Farms   2 Mx Splitters \n****1 Bottle Calf \nMANY MORE CONSIGNMENTS BY SALE DAY \nCheck out www.torringtonlivestock.com for more consignments and to view sales and bid online!!! \nFOR MORE INFORMATION CALL 307-532-3333
URL:https://torringtonlivestock.com/event/friday-march-20th-2026-bred-cow-special-all-classes/
END:VEVENT
END:VCALENDAR