BEGIN:VCALENDAR
VERSION:2.0
PRODID:-//Torrington Livestock Market - ECPv6.15.20//NONSGML v1.0//EN
CALSCALE:GREGORIAN
METHOD:PUBLISH
X-WR-CALNAME:Torrington Livestock Market
X-ORIGINAL-URL:https://torringtonlivestock.com
X-WR-CALDESC:Events for Torrington Livestock Market
REFRESH-INTERVAL;VALUE=DURATION:PT1H
X-Robots-Tag:noindex
X-PUBLISHED-TTL:PT1H
BEGIN:VTIMEZONE
TZID:America/Denver
BEGIN:DAYLIGHT
TZOFFSETFROM:-0700
TZOFFSETTO:-0600
TZNAME:MDT
DTSTART:20250309T090000
END:DAYLIGHT
BEGIN:STANDARD
TZOFFSETFROM:-0600
TZOFFSETTO:-0700
TZNAME:MST
DTSTART:20251102T080000
END:STANDARD
BEGIN:DAYLIGHT
TZOFFSETFROM:-0700
TZOFFSETTO:-0600
TZNAME:MDT
DTSTART:20260308T090000
END:DAYLIGHT
BEGIN:STANDARD
TZOFFSETFROM:-0600
TZOFFSETTO:-0700
TZNAME:MST
DTSTART:20261101T080000
END:STANDARD
BEGIN:DAYLIGHT
TZOFFSETFROM:-0700
TZOFFSETTO:-0600
TZNAME:MDT
DTSTART:20270314T090000
END:DAYLIGHT
BEGIN:STANDARD
TZOFFSETFROM:-0600
TZOFFSETTO:-0700
TZNAME:MST
DTSTART:20271107T080000
END:STANDARD
END:VTIMEZONE
BEGIN:VEVENT
DTSTART;VALUE=DATE:20260327
DTEND;VALUE=DATE:20260328
DTSTAMP:20260424T115243
CREATED:20260212T222443Z
LAST-MODIFIED:20260406T155155Z
UID:5289-1774569600-1774655999@torringtonlivestock.com
SUMMARY:Friday\, March 27th\, 2026 - All Classes
DESCRIPTION:TORRINGTON LIVESTOCK MARKETS \nFriday\, March 27th\, 2026\n All Classes\nStarting at 9:00 am MDT with Weigh-ups\nBred Cows/Heifers \nIrvine Ranch   70 Blk Cows\, Mx Ages\, Bred to Blk Bulls\, CF: May \nWyoming Longhorn Ranch   5 Longhorn Cows\, Mx Ages\, Bred to Blk Longhorn or Simmental Bulls\, CF: Mx \n  \nPairs \nWyoming Longhorn Ranch   12 Longhorn Cow Pairs\, Mx Ages \nCharley Creek Ranch   1 Cow Pair\, Mx Age \n  \nFeeders/Calves \nChad Westbrook   6 Blk/Rd Hfrs\, 550# \nDean & Markia Anderson   3 Red Bull Calves\, 500# \nFalenburg Ranch   2 Blk Strs\, 575#\, Complete Vac. Program\, Poured \nDavid Sherrod   1 Red Hfr\, 775# \n  \nWeighups \nLong Springs Cattle Co.   113 Mx Cows/Hfretts \nT A Ranch/Saratoga   73 Mx Cows\, Been on Fed for 100 days (PTO in November; at that time Poured w/Clean-up and Injectable Wormer was given) \nGordan Medows    71 Mx Cows/Hfretts (PTO @ ranch) \nDerrick Hessler   25 Mx Cows\, Been on Fed for 100 days \nSingleton Land & Cattle   16 Mx Cows \n****4 Mx Bulls \nStellpflug Family Trust   15 Mx Cows \nFitzhugh Ranch   7 Red Cows \nScissors Ranch   7 Blk Cows \nDr. Brent Kaufman   6 Blk Cows\, All Natural \nBrinklee Sorensen   6 Mx Cows\, Exposed (Hfr to 3 yr olds\, Bred to Pureblood Shorthorn Bull; bull  in Mid-May/Pulled—Mid Aug.) \nForshee Land & Livestock   6 Blk/Rd Bulls \nDean & Markia Anderson   5 Red Bulls \nFalkenburg Ranch   3 Mx Cows \nZumBrunnen Angus   4 Blk Cows \nCharley Creek Ranch   2 Mx Bulls \nEmalie McNealey   2 Mx Cows\, Exposed (Hfr to 3 yr old\, Bred to Pureblood lShorthorn Bull; bull in Mid-May/Pulled—Mid-Aug.) \nMarvin & Donna Peters   2 Blk Hfretts \nBryan Bruch   2 Blk/Bwf Hfretts \nDustin Kilts   2 Blk Bulls \nRon Zavorka   2 Blk Cows \nDavid Sherrod   1 Red Angus Bull\, 2 yr old \nJames Jankovsky   1 Cow \nEllgen Ranch   1 Red Bull \nDarin/Candy Geringer   1 Blk Bull \n  \nSplitters/Baby Calves \nJames Jankovsky   1 Cow Pair \n  \nHorses \nPending   14 Mx Horses: Mostly Geldings\, Stud\, Will Have Coggins Test \nThought of the Day: \nThere is always a reason to smile \nMANY MORE CONSIGNMENTS BY SALE DAY \nCheck out www.torringtonlivestock.com for more consignments and to view sales and bid online!!! \nFOR MORE INFORMATION CALL 307-532-3333
URL:https://torringtonlivestock.com/event/friday-march-27th-2026-all-classes/
END:VEVENT
END:VCALENDAR