BEGIN:VCALENDAR
VERSION:2.0
PRODID:-//Torrington Livestock Market - ECPv6.15.20//NONSGML v1.0//EN
CALSCALE:GREGORIAN
METHOD:PUBLISH
X-WR-CALNAME:Torrington Livestock Market
X-ORIGINAL-URL:https://torringtonlivestock.com
X-WR-CALDESC:Events for Torrington Livestock Market
REFRESH-INTERVAL;VALUE=DURATION:PT1H
X-Robots-Tag:noindex
X-PUBLISHED-TTL:PT1H
BEGIN:VTIMEZONE
TZID:America/Denver
BEGIN:DAYLIGHT
TZOFFSETFROM:-0700
TZOFFSETTO:-0600
TZNAME:MDT
DTSTART:20250309T090000
END:DAYLIGHT
BEGIN:STANDARD
TZOFFSETFROM:-0600
TZOFFSETTO:-0700
TZNAME:MST
DTSTART:20251102T080000
END:STANDARD
BEGIN:DAYLIGHT
TZOFFSETFROM:-0700
TZOFFSETTO:-0600
TZNAME:MDT
DTSTART:20260308T090000
END:DAYLIGHT
BEGIN:STANDARD
TZOFFSETFROM:-0600
TZOFFSETTO:-0700
TZNAME:MST
DTSTART:20261101T080000
END:STANDARD
BEGIN:DAYLIGHT
TZOFFSETFROM:-0700
TZOFFSETTO:-0600
TZNAME:MDT
DTSTART:20270314T090000
END:DAYLIGHT
BEGIN:STANDARD
TZOFFSETFROM:-0600
TZOFFSETTO:-0700
TZNAME:MST
DTSTART:20271107T080000
END:STANDARD
END:VTIMEZONE
BEGIN:VEVENT
DTSTART;VALUE=DATE:20260403
DTEND;VALUE=DATE:20260404
DTSTAMP:20260424T102318
CREATED:20260310T205901Z
LAST-MODIFIED:20260406T155237Z
UID:5456-1775174400-1775260799@torringtonlivestock.com
SUMMARY:Friday\, April 3rd\, 2026 - All Classes
DESCRIPTION:TORRINGTON LIVESTOCK MARKETS \nFriday\, April 3\, 2026\n All Classes\nStarting at 9:00 am MDT with Weigh-ups\nBred Cows & Heifers \nBig Creek Ranch   80 Blk/Bwf Cows\, Gate Cut of their 7 yr olds and Older\, Bred to Circle L or Kal Herring Blk Sim-x Bulls\, CF: Mid-April\, Home Raised\, High Elevation\, Selling only due to drought conditions \nBuckhaults Cow Co.  56 Blk Cows\, 1450#\, 3-10 yr olds\, Bred to Blk Bulls\, CF: April/May\, Shots: Vira Sield 6 HB\, Poured w/Clean-up\, Home Raised\, 1-iron \nWilliam Young   45 Mx Cows\, Mx Ages\, Bred to Blk or Hereford Bulls\, CF: Now\, Shots at Preg Check: Vira Shield 6 VL5\, Vision 7\, Ivermectin Injectable\, Selling due to drought conditions \nT A Ranch/Saratoga   44 Blk Cows\, Mx Ages\, Bred to Blk Bulls\, CF: May-July\, Shots: Vibrio Lepto\, Poured w/Clean-up\, Injectable Wormer \nCody Humphrey   10 Blk Hfrs\, Bred to Blk Bulls\, CF: April\, Bangs Vac. \nBuford Industries   6 Mx Hfrs\, Bred Krebs Ranch Bulls\, CF: May \nKyle Cruth   5 Mx Cows\, 3-4 yr olds\, CF: Summer/Fall\, Been Running Out with a Full Salt & Purina Mineral Program with a High Magnesium Lick Tubs\, Oral Wormer & Poured at Preg Check 1st week of January\, Mostly Home Raised\, Producer All Natural \nDoug Derouchey   5 Blk Hfrs\, Bred to Blk Bulls\, CF: Summer\, Red Tagged \nMario Rodriguez   3 Mx Cows\, Mx Ages\, Bred to Blk Angus Bulls\, CF: Now (Note: the Rwf/Hereford is Registered and papers are available upon request) \nPatrick Bros.   2 Red Angus Hfrs\, Bred to Red Angus Bulls\, CF: April \nHeart Bent Arrow   1 Red Cow\, ST\, Bred to Angus Bull\, CF: Summer \n  \nWeighups \nT A Ranch/Saratoga   100 Mx Cows\, Been on Fed for 100 days (PTO in November; at that time Poured w/Clean-up and Injectable Wormer was given) \nShepard Farms   40 Mx Cows \nKenny Porter   28 Mostly Blk few Rd Hfretts \n****4 Blk Cows \nKyle Cruth   22 Mx Cows \nLyman Ranch   10 Mx Cows/Bulls \nBuckhaults Cow Co.   9 Blk Cows \n88 Ranch Land & Livestock   9 Blk Bulls \nR & K Farms   8 Mx Cows/Bulls \nT-A Ranch/Medicine Bow   2 Mx Bulls \n4K Beef   2 Mx Bulls \nJustin Briggs   5 Blk/Hereford Bulls \nFlyhing Z Enterprises   5 Mx Cows/Bulls \nT Bar L Livestock   3 Blk Cows/Hfretts \nMatt Carr   3 Blk Hfretts/Cow \nL 3 Cattle Co.   3 Mx Cows \nDoug/Kim/Cole/Jackie DesEnfants   2 Blk Hfrett/Cow \nBrace & Linda Rhamy   2 Mx Hfretts \nMichael Cain   2 Mx Cows \nValerie & Michael Heatherly   2 Blk Cows \nBrian Fabre   1 Mx Cow \nRachel Podilla   1 Blk Bull \nCory Johnson   1 Red Bull \nFetterman Ranch   1 Cow \nTyler Braisted    1 Cow \nHeart Bent Arrow   1 Blk Cow \nMeg DeBolt   1 Char Cow \n  \nSplitters/BabyCalves \nDoug/Kim/Cole/Jackie DesEnfants   1 Brockle Face Bull Calf\, 9 days old\, has been Banded \nMarcus Anderson   1 Bottle Hfr Calf\, Born on March 26 \nMANY MORE CONSIGNMENTS BY SALE DAY \nCheck out www.torringtonlivestock.com for more consignments and to view sales and bid online!!! \nFOR MORE INFORMATION CALL 307-532-3333
URL:https://torringtonlivestock.com/event/friday-april-3rd-2026-all-classes/
END:VEVENT
END:VCALENDAR