BEGIN:VCALENDAR
VERSION:2.0
PRODID:-//Torrington Livestock Market - ECPv6.15.20//NONSGML v1.0//EN
CALSCALE:GREGORIAN
METHOD:PUBLISH
X-ORIGINAL-URL:https://torringtonlivestock.com
X-WR-CALDESC:Events for Torrington Livestock Market
REFRESH-INTERVAL;VALUE=DURATION:PT1H
X-Robots-Tag:noindex
X-PUBLISHED-TTL:PT1H
BEGIN:VTIMEZONE
TZID:America/Denver
BEGIN:DAYLIGHT
TZOFFSETFROM:-0700
TZOFFSETTO:-0600
TZNAME:MDT
DTSTART:20250309T090000
END:DAYLIGHT
BEGIN:STANDARD
TZOFFSETFROM:-0600
TZOFFSETTO:-0700
TZNAME:MST
DTSTART:20251102T080000
END:STANDARD
BEGIN:DAYLIGHT
TZOFFSETFROM:-0700
TZOFFSETTO:-0600
TZNAME:MDT
DTSTART:20260308T090000
END:DAYLIGHT
BEGIN:STANDARD
TZOFFSETFROM:-0600
TZOFFSETTO:-0700
TZNAME:MST
DTSTART:20261101T080000
END:STANDARD
BEGIN:DAYLIGHT
TZOFFSETFROM:-0700
TZOFFSETTO:-0600
TZNAME:MDT
DTSTART:20270314T090000
END:DAYLIGHT
BEGIN:STANDARD
TZOFFSETFROM:-0600
TZOFFSETTO:-0700
TZNAME:MST
DTSTART:20271107T080000
END:STANDARD
END:VTIMEZONE
BEGIN:VEVENT
DTSTART;VALUE=DATE:20260415
DTEND;VALUE=DATE:20260416
DTSTAMP:20260424T102553
CREATED:20260310T210112Z
LAST-MODIFIED:20260414T204159Z
UID:5460-1776211200-1776297599@torringtonlivestock.com
SUMMARY:Wednesday\, April 15th\, 2026 - Feeder Special
DESCRIPTION:TORRINGTON LIVESTOCK MARKETS \nWednesday\, April 15\, 2026\nFeeder & Calf Special\nStarting at 8:00am\nCattle Country Video Lots at 1:00 pm\nLot 430 – FX Land Company – 550 Yearling Steers\, Base Wt: 710\, Slide: 18¢ off @ base weight\, Wt Stop: 735\, Frame: Med-Large\, Flesh: Med\, Breed: 100% Black/BWF\, Location: FX Land Co.\, 20 mi N of Scottsbluff\, NE\, Origin: Purchased from E WY\, W NE & W SD\, Delivery: 4/16/2026–4/21/2026\, Feed: Native pasture\, salt\, mineral & cake\, Shots: Complete vaccination at purchase\, boosted with 20/20 Vision 7/Spur and poured in January\, Weigh Up: Early AM gather\, sort for loads\, haul on buyer’s pre-weighed trucks and weigh with a 2% shrink\, Comments: Fancy steers purchased in load lots and locally with outstanding eye appeal and reliable delivery\, buyer has option on gate cut of two loads or more\, cattle have been running out receiving cake\, green and ready to explode on grass or full feed\, Rep: Torrington – Michael Schmitt (307) 532-1776 \n  \nLot 431 – Kruse Livestock (Joe & Katie) – 74 Weaned Steer Calves\, Base Wt: 770\, Wt Stop: 795\, Slide: 16¢ off @ base weight\, Frame: Med\, Flesh: Med\, Wt Var: Uneven\, Breed: Black Angus\, BWF & Hereford cows; Hereford\, Ehlke\, Coyote Ridge & Bayer’s bulls\, Location: Flock Feedlot\, 5 mi NE of Lingle\, WY\, Origin: Ranch Raised\, Delivery: 4/16/2026–4/21/2026\, Feed: Light grower ration to go back to grass\, Shots: Branding – Pyramid 5 + Presponse\, Vision 7 Somnus/Spur; Pre-Cond – Pyramid 5 + Presponse\, Vision 7 Somnus/Spur; Synovex C\, Other Info: Scurs; Knife Cut; Implanted\, Weigh Up: Early AM gather\, sort for color\, load on buyer’s pre-weighed truck\, haul 5 miles to Lingle and weigh with a 3% shrink\, Comments: May and June calves\, test weighed 04/08\, bunk broke and weaned since November\, normally taken back to grass and sold in the fall\, selling due to dry conditions\, light end was sorted off and sold at Torrington Livestock on 02/01\, one iron calves\, Rep: Justin Smith (307) 340-0724 \n  \nLot 432 – Kruse Livestock (Joe & Katie) – 80 Weaned Steer Calves\, Base Wt: 725\, Wt Stop: 750\, Slide: 16¢ off @ base weight\, Frame: Med\, Flesh: Med\, Wt Var: Uneven\, Breed: Black Angus\, BWF & Hereford cows; Hereford\, Ehlke\, Coyote Ridge & Bayer’s bulls\, Color: 40% RWF; 35% Hereford; 25% Red\, Location: Flock Feedlot\, 5 mi NE of Lingle\, WY\, Origin: Ranch Raised\, Delivery: 4/16/2026–4/21/2026\, Feed: Light grower ration to go back to grass\, Shots: Branding – Pyramid 5 + Presponse\, Vision 7 Somnus/Spur; Pre-Cond – Pyramid 5 + Presponse\, Vision 7 Somnus/Spur; Synovex C\, Other Info: Scurs; Knife Cut; Implanted\, Weigh Up: Early AM gather\, sort for color\, load on buyer’s pre-weighed truck\, haul 5 miles to Lingle and weigh with a 3% shrink\, Comments: May and June calves\, test weighed 04/08\, bunk broke and weaned since November\, normally taken back to grass and sold in the fall\, selling due to dry conditions\, light end was sorted off and sold at Torrington Livestock on 02/01\, one iron calves\, Rep: Justin Smith (307) 340-0724 \n  \nLot 433 – Indian Creek Cattle – 129 Weaned Steer Calves\, Base Wt: 845\, Slide: 16¢ off/on up to 25# over/under base weight\, Wt Stop: 880\, Frame: Med to Med-Large\, Flesh: Light-Med\, Breed: 100% Black/BWF; Black Angus\, Angus X & some Red Angus cows; Registered Black Angus (Miller Angus & Mt. Rushmore Angus) bulls\, Location: Symonds Feedlot\, 10 mi N of Mitchell\, NE; 10 mi W of Scottsbluff\, NE\, Origin: Ranch Raised\, Delivery: 4/18/2026–4/25/2026\, Feed: Light grower ration targeting 2–2.25 lbs/day gain\, Shots: Spring & Fall program; Weaning – Inforce 3\, Probac 4\, Safeguard; Booster – BoviShield Gold 5 & 7-Way/Somnus\, Weigh Up: Early AM gather from empty bunk\, weigh on the ground with a 3% shrink\, sort and weigh back cuts\, Comments: Fancy home-raised black and BWF steers\, backgrounded for grass condition\, light to medium flesh with flexibility to go either direction\, good frame\, bone and muscle to get big\, no implants\, strong shot program\, easy to handle\, test weighed on 04/06\, Rep: CCV – Richard Zweifel (605) 209-6307 \n  \nLot 434 – Indian Creek Cattle – 239 Weaned Heifer Calves\, Base Wt: 725\, Slide: 18¢ off/on up to 25# over/under base weight\, Wt Stop: 750\, Frame: Med to Med-Large\, Flesh: Light-Med\, Breed: 100% Black/BWF; Black Angus\, Black X & some Red Angus cows; Registered Black Angus (Millar Angus & Mt. Rushmore Angus) bulls\, Location: Symonds Feedyard\, 10 mi N of Mitchell\, NE; 10 mi W of Scottsbluff\, NE\, Origin: Ranch Raised\, Delivery: 4/18/2026–4/25/2026\, Feed: Light grower ration targeting 1.75 lbs/day gain\, Shots: Spring & Fall program; Weaning – Inforce 3\, Probac 4\, Safeguard; Booster – BoviShield Gold 5 & 7-Way/Somnus\, Weigh Up: Early AM gather from empty bunk\, weigh on the ground with a 3% shrink\, sort and weigh back cuts\, Comments: Fancy home-raised heifers\, green to light flesh and ideal for grass\, opportunity to sort out a strong set of replacements or run all as grass/feedlot heifers\, good frame and bone with growth potential\, good disposition and extensive shot program\, test weighed on 04/06\, Rep: CCV – Richard Zweifel (605) 209-6307 \n  \nLot 435 – Heiting Cattle Inc. – 126 Weaned Steer Calves\, Base Wt: 875\, Slide: 14¢ off/on up to 25# over/under base weight\, Wt Stop: 900\, Frame: Med to Med-Large\, Flesh: Light-Med\, Breed: 100% Black/BWF\, Location: Heiting Ranch\, 3 mi S of Hay Springs\, NE; 45 mi N of Alliance\, NE\, Origin: Purchased From W SD & W NE\, Delivery: 4/20/2026–4/22/2026\, Feed: Grower ration targeting 2.5 lbs/day gain\, Shots: One Shot BVD\, Inforce 3\, Dectomax injectable\, Pyramid 5 + Presponse\, Vision 7/Somnus; Booster – BoviShield Gold & 7-Way/Spur\, Weigh Up: Early AM gather from empty bunk\, sort to buyer’s pre-weighed truck\, haul 3 miles and weigh on the truck with a 3% shrink\, Comments: Choice to fancy steers selling due to a previous CCV purchase coming in heavier than desired for grass\, good frame with light to medium flesh\, cattle that will go to work and get big\, test weighed\, Rep: CCV – Richard Zweifel (605) 209-6307 \n  \nLot 436 – Tyler & Jaimee Mollohan – 110 Yearling Steers\, Base Wt: 980\, Slide: 12¢ off/on up to 25# over/under base weight\, Wt Stop: 1005\, Frame: Med-Large\, Flesh: Med\, Breed: Black/BWF with 40 hd Charolais English X and Red/RWF; predominantly Black Angus & Black Angus Continental X\, Location: Mollohan Feedyard\, 33 mi SE of Sterling\, CO\, Origin: Purchased From CO\, Delivery: 4/16/2026–4/23/2026\, Feed: High roughage grower ration – ground wheat hay (20%)\, corn silage (60%)\, dried distillers grain (13%) & milo (7%)\, ADG predicted at 2.25–2.5 lbs/day\, Shots: Weaning – Pyramid 5\, Autogenous Bacterin for Histophilus somni\, Mannheimia haemolytica Types 1 & 6\, Mycoplasma bovis\, Pasteurella multocida Type A\, Weigh Up: Early AM gather from pen\, weigh on the ground with a 3% shrink and weigh back any cuts\, approx. 2–54\,000 lb loads\, Comments: Big-framed\, thick-made feeder steers originally intended for grass but performed well this winter\, pre-sorted and test weighed\, no implants by this owner\, Rep: CCV – Chuck Petersen (307) 575-4015 \n  \nLot 437 – Gary\, Karen & Nathan Hill – 70 Weaned Heifer Calves (Replacement Quality)\, Base Wt: 800\, Wt Stop: 815\, Slide: 16¢ off/on up to 15# over/under base weight\, Frame: Large\, Flesh: Med\, Wt Var: Slightly Uneven\, Breed: Angus & SimAngus cows; Lucky 7 Angus bulls\, Color: 100% Black\, Location: Jenkins Cutoff Corrals\, 9 mi S of Silt\, CO (175 mi W of Denver\, CO)\, Origin: Ranch Raised\, Delivery: 4/20/2026–4/25/2026\, Feed: High mountain grass hay\, alfalfa\, salt & mineral program\, Shots: Birth – Vision 7; Branding – BoviShield Gold 5\, Vision 7 Somnus/Spur\, Pro-Bac 4\, MultiMin 90; Pre-Cond – BoviShield Gold\, Vision 7\, pour-on\, Other Info: No horns; Banded; Bangs Vaccinated\, Weigh Up: Early AM gather\, sort\, weigh with a 3% shrink on the ground and sort for load\, Comments: Choice to fancy set of one iron\, black-hided\, feed-efficient\, high elevation replacement heifers\, test weighed on 04/08\, Rep: Scott Redden (970) 596-3588 \n  \nLot 438 – Gary\, Karen & Nathan Hill – 160 Heifer Calves\, Base Wt: 630\, Wt Stop: 655\, Slide: 25¢ off/on up to 25# over/under base weight\, Frame: Large\, Flesh: Med\, Wt Var: Uneven\, Breed: Lucky 7 Angus & SimAngus cows; Wagner Charolais\, Pitch Fork Charolais & SimAngus bulls\, Color: 70% Charolais X; 30% Black\, Location: Jenkins Cutoff Corrals\, 9 mi S of Silt\, CO (175 mi W of Denver\, CO)\, Origin: Ranch Raised\, Delivery: 4/20/2026–4/25/2026\, Feed: High mountain grass\, salt & mineral program\, Shots: Birth – Vision 8 Somnus/Spur\, MultiMin 90; Branding – BoviShield Gold 5\, Vision 8 Somnus/Spur\, Pro-Bac 4\, MultiMin 90; Pre-Cond – BoviShield Gold One Shot\, Vision 8 Somnus/Spur\, pour-on\, Other Info: No horns\, Weigh Up: Early AM gather\, sort from cows\, sex\, weigh with a 2% shrink on the ground and sort for loads\, Comments: Choice to fancy set of feed-efficient feeder heifers\, sorted best from 192 head with no replacements kept\, black heifers sourced from neighboring ranch to complete second load\, 2 loads – pay wt: 100\,800; gross wt: 102\,816\, Rep: Scott Redden (970) 596-3588 \n  \nLot 439 – Cole Creek Sheep Co – 90 Weaned Heifer Calves\, Base Wt: 650\, Wt Stop: 675\, Slide: 25¢ off/on up to 25# over/under base weight\, Frame: Med\, Flesh: Light-Med\, Wt Var: Slightly Uneven\, Breed: Black Angus cows; Registered Harlan\, Forgey & Lisco M Diamond Black Angus bulls\, Color: 100% Black\, Location: Cole Creek Ranch\, 13 mi N of Casper\, WY\, Origin: Ranch Raised\, Delivery: 4/20/2026–4/30/2026\, Feed: Running on pasture supplemented with hay and cake\, Shots: Branding – Vision 7\, Pyramid 5 + Presponse\, Ralgro implant; Weaning – Cydectin; Pre-Cond – Vision 7 & Pyramid 5 + Presponse; Winter – Lutalyse\, Other Info: Bangs Vaccinated\, Weigh Up: Early AM gather\, sort for load from 130 hd\, load on buyer’s pre-weighed truck\, haul 12 miles and weigh with a 2% shrink\, Comments: Quality set of home-raised heifers wintered on native pasture with hay and cake\, ultra green\, load sorted from 130 hd\, take or leave on black baldie\, Rep: Ben Kukowski (307) 217-1472 \n  \nLot 440 – Cooper & Andy Gray – 105 Weaned Steer Calves\, Base Wt: 500\, Slide: 40¢ off @ base weight\, Wt Stop: 510\, Frame: Med-Large\, Flesh: Med\, Breed: 100% Charolais X; Black Angus & Red Angus cows; Charolais (Linskov) bulls\, Location: Corrals\, 15 mi S of Douglas\, WY\, Origin: Ranch Raised\, Delivery: 4/16/2026–4/20/2026\, Feed: Running on native pasture with protein tubs and salt\, supplemented with hay as needed\, Shots: Branding – Vista Once & Vision 7; Pre-Cond – Pyramid 5 + Presponse & Vision 7/Somnus\, Weigh Up: Early AM gather\, weigh on the ground with a 2% shrink\, Comments: Fancy\, handy-weight\, late summer calves wintered to go to grass\, very green\, pre-sorted from 132 hd\, test weighed 106 hd at 489 lbs gross\, Rep: Torrington – Ty Thompson (307) 340-0770 \nwww.cattlecountryvideo.com \n  \nFeeders \nHester Farms   210 Blk Strs\, 725-875#\, Weaned a long time\, Bunk Broke\, Been on a Grower Ration\, Branding and Pre-cond. Shots: Vista Once\, Vision 7 w/Somnus\, Weaning Shots: Pyramid IBR\, Safeguard\, Poured w/Ivomax in March No Implants\, Knife Cut\, Home Raised\, Many generations of Ken Haas Genetics \n****140 Blk Hfrs\, 650-750#\, Weaned a long time\, Bunk Broke\, Been on a Grower Ration\, Branding and Pre-cond. Shots: Vista Once\, Vision 7 w/Somnus\, Weaning Shots: Bovi-Shield Gold 5 BL5\, Safeguard\, Poured w/Ivomax in March\, Bangs Vac.\, No Implants\, Home Raised\, Replacement Quality\, Many generations of Ken Haas Genetics \nFancy set of steers and heifers from a long time Reputation/Consignor at Torrington Livestock Markets\, \nH & T Ranch   110 Blk Strs\, 800-900#\, Weaned a long time\, Been on Light Grower Ration\, Complete Vac. Program\, No Implants\, All Home Raised\, Selling only due to drought conditions \n****140 Blk Strs\, 750-800#\, Weaned a long time\, Been on Light Grower ration\, Complete Vac. Program\, No Implants\, Mostly Home Raised with few that Originated from the Slagle Ranch\, Selling only due to drought conditions \nLazy T Ranch   140 Red Strs\, 800#\, Weaned since December\, Bunk Broke\, Been on a Light Grower Ration\, Complete Mineral Program\, Booster Shots in April: Vista Once SQ\, Vision 7 w/Somnus\, Bovi-Shield Gold 5\, Safeguard Wormer\, Poured w/Ivermec\, No Implants\, Knife Cut Sired by Reputation Bulls from 5L\, TJS and Leachman \n****65 Blk Strs\, 800#\, Weaned since December\, Bunk Broke\, Been on a Light Grower Ration\, Complete Mineral Program\, Booster Shots in April: Vista Once SQ\, Vision 7 w/Somnus\, Bovi-Shield Gold 5\, Safeguard Wormer\, Poured w/Ivermec\, No Implants\, Knife Cut Sired by Reputation Bulls from 5L\, TJS and Leachman \nSullivan Ranch   150 Blk Hfrs\, 750-850#\, Weaned a long time\, Been on a Grower Ration\, Booster Shots: Nasalgen 3 PMH\, Vision 7 w/Somnus\, Vira Shield 5 VL5\, Drench with Safeguard\, Poured w/Clean-up\, Bangs Vac\, Replacement Quality \n****25 Rwf Hfrs\, 750-850#\, Weaned a long time\, Been on a Grower Ration\, Booster Shots: Nasalgen 3 PMH\, Vision 7 w/Somnus\, Vira Shield 5 VL5\, Drench with Safeguard\, Poured w/Clean-up\, Bangs Vac\, Replacement Quality \nKayo & Betty Smith   155 Char Strs & Hfrs\, 700-1000#\, Weaned a long time\, Running Out supplement with Hay\, Complete Vac. Program\, Home Raised \nGreg Flitner/Eleven Bar One LLC   140 Blk/Bwf Strs & Hfrs\, 700#\, Weaned since Oct. 1st\, Been on a light Grower Ration\, 3 Rounds of Shots\, Poured\, No Implants\, Heifers are Bangs Vac.\, Steers are Knife Cut\, 1-iron\, Home Raised \nFarner Cattle Co.   132 Mostly Blk Hfrs\, 700-800#\, Guaranteed Open\, Been on a Grower Ration\, Complete Vac. Program \nA Mill Iron Ranch/Mark/Amanda Huffstetler   115 Blk/Bwf Hfrs\, 675-725#\, Weaned a long time\, Been on a Grower Ration: Ground Hay and Silage\, Complete Vac. Program\, Home Raised\, High Elevation\, These are their Replacement Heifers \n****15 Blk Bull Calves\, 550-600#\, Weaned a long time\, Been on a Grower Ration; Ground Hay and Silage\, Complete Vac. Program\, Home Raised\, High Elevation \nLarry Steinle   100 95% Blk bal Rd Strs\, 650#\, Weaned a long time\, Running Out on Pasture supplemented with Hay and Alf\,  Protein Tubs\, Bunk Broke\, Complete Vac. Program\, Poured\, Knife Cut\, No Implants\, Selling ONLY due to drought conditions; Normally deliver Mid-September coming off grass weighing 975#\, These steers are Growthy and Thick; Ready to Go! \nKurt Barker   95 Blk/Bwf Hfrs\, 650-750#\, Weaned a long time\, Bunk Broke\, Been on a Grower Ration\, Complete Vac. Program\, Bangs Vac.\, Home Raised\, Replacement Quality \nMark & Phillip Rossi   70 Blk few Bwf Hfrs\, 700-800#\, Weaned a long time\, Been on a Grower Ration\, Complete Vac. Program\, Bangs Vac.\, Home Raised\, High Elevation\, Many would make Good Replacement \nGeorge Holmes   60 Blk Strs & Hfrs\, 950-1050#\, Complete Vac. Program \nBartlett Livestock LLC/Jess and Debra Bartlett   55 Blk/Bwf Steers\, 850-925#\, Weaned in October\, Running out on pasture supplemented with Hay\, Bunk Broke\, Branding Shots: Vision 7 w/Spur\, Stimulator 5\, Probac 4\, Weaning Shots: Probac 4 Plus\, Vision 7\, No Implants\, Knife Cut\, High Elevation\, All Sired by Lucky 7 Bulls\, 1-iron \nBrandon/Mike Werner   50 Red Angus Strs\, 800-900#\, Weaned since October\, Bunk Broke\, Been on a Corn Silage/Ground Hay Ration\, Been on a Complete Mineral Program\, Complete Vac. Program\, Home Raised \nScissors Ranch   65 Blk Hfrs few Bull Clvs\, 700-800#\, Weaned a long time\, Branding Shots: Bovi-Shield Gold FP5 VL5\, Poured w/Ivermec\, Bangs Vac. \nBremer Land & Cattle   45 Blk Sim/Angus Hfrs\, 950-1000#\, Ran Open\, Bunk Broke\, Been on a Grower Ration\, Branding Shots: Vision 7 w/Somnus\, Vira Shield 6\, Pre-cond. Shots: Pyramid 4 +Presponse\, Weaning Shots: Pyramid 4\, Vision 7 w/Somnus\, Bangs Vac.\, Replacement Quality\, Home Raised \nCircle H Farm/Norman Hochstetler   45 Mostly Blk Hfrs\, 650-700#\, Weaned a long time\, Been on a Light Grower Ration\, Complete Vac. Program\, Poured (3x)\, Bangs Vac.\, Replacement Quality\, Sired by Ochsncr-Roth Cattle Blk Bulls \nRLX Inc.   42 Mostly Blk Strs & Hfrs\, 675-700#\, Weaned a long time\, Been on a Grower Ration\, Full Vac. Program \nDean & Marika Anderson   33 Red Hfrs\, 700#\, Weaned a long time\, Running out on pasture supplemented with Hay & Lick Tubs\, Complete Vac. Program\, Bangs Vac.\, Replacement Quality\, Home Raised \nOle Ranch Inc.   30 Mx Hfrs\, 850-1000#\, Complete Vac. Program \nMike Cain/Brian Faber   28 Blk/Bwf Hfrs\, 800-825#\, Weaned since Oct. 20th\, Running out on grass supplemented with Alfalfa Hay and 1# of corn per day\, Branding Shots: Vision 7 Somnus w/Spur\,  Pre-cond. Shots: Vision 7 Somnus w/Spur\, Pyramid 5+Presponse\, Nasalgen\, Shots on Nov. 4: Bangs Vac\, Pyramid 5+Presponse\, Dectomax Injectable\, Replacement Quality\, Selling only due to drought conditions\, Home Raised\, Bunk Broke\, Electric Fence Broke\, Blk Heifers are Sired by Ochsner-Roth Blk Bulls\, Bwf Heifers are Sired by McMurry Bulls out of Billings\, MT \nCrowfoot Cattle Co.   28 Mx Strs & Hfrs\, 840-875#\, Weaned a long time\, Been on a Grower Ration\, Complete Vac. Program\, No Implants\, Heifers are Bangs Vac. And Replacement Quality \nCynthia Crawford   26 Mostly Blk Strs\, 800#\, Weaned a long time\, Alfalfa Hay w/Tubs\, 2 Rounds of Shots: Vision 8 w/Spor\, Producer All Natural \nJustin Briggs   25 Mx Strs\, 850-900#\, Been on a Grower Ration\, Complete Vac. Program \nSteve Cummings   20 Mx Strs\, 650#\, Weaned a long time\, Been on a Grower Ration\, Shots at Birth: Alpha 7\, Branding Shots: Alpha 7\, Pyramid 5+Presponse\, Corniavirus\, Weaning Shots: Alpha 7\, Pyramid 5 +Presponse \nHilltop Hay and Livestock   12 Angus/SimAngus-x Strs & Hfrs\, 990-1080#\, Weaned Since November 4\, Bunk Broke\, Been Started on Fed\, Been on a High Quality Mineral Program\, Complete Vac. Program\, No Implants\, Heifers are Guaranteed Open\, Sired by Low PAP High Growth & Carcass Trait Bulls\, Home Raised \nFred Larsen   10 Mx Strs\, 750-825#\, Weaned since October\, Bunk Broke\, Been on a Corn Silage/Ground Hay Ration\, Been on a Complete Mineral Program\, Complete Vac. Program\, Home Raised \nJermiah Harrison   10 Mostly Blk Strs & Hfrs\, 675-700#\, Weaned a long time\, Been on a Grower Ration\, Complete Vac. Program\, Heifers are Bangs Vac. \nCarol Eisele   10 Red/Blk Angus Hfrs\, 650-700#\, Weaned a long time\, Been on a Grower Ration\, Complete Vac. Program \nWill Whitlock   7 Blk/Bwf Hfrs\, 1000#\, Guaranteed Open\, Complete Vac. Program \nTerry Jackson   6 Blk Strs & Hfrs\, 800-850#\, Weaned a long time\, Been on a Grower Ration\, No Shots \nNorth Ridge Cattle Co.   4 Mx Hfrs\, 875#\, Complete Vac. Program\, Coming off grass \nLazy A One   2 Blk Strs\, 850#\, Weaned a long time\, Bunk Broke\, Been on a Grower Ration\, Complete Vac. Program \nJack Garson   2 Blk Str/Hfr\, 700#\, Weaned a long time\, Hay Fed\, Complete Vac. Program \nMichael Harrison   1 Blk Hfr\, 675-700#\, Weaned a long time\, Been on a Grower Ration\, Complete Vac. Program\, Bangs Vac. \nDaniel Harrison   1 Blk Hfr\, 800#\, Weaned a long time\, Been on a Grower Ration\, Complete Vac. Program\, Bangs Vac. \n  \nWeaned Calves \nAaron Sorsensen   320 Blk Strs & Hfrs\, 450-500#\, Weaned for 60 days\, Bunk Broke\, Been on a Grower Ration\, One Round of Shots\, Fall Born Calves \nCody Humphrey   275 Mx Strs\, 475-675#\, Weaned 90 days\, Been on a Light Grower Ration\, Complete Vac. Program\, No Implants\, Green \nFalls Ranch   125 Blk Hfrs\, 525-625#\, Weaned a long time\, Been on a Grass Grower Ration\, Complete Modified Live Vac. Program\, Fancy\, Reputation Calves with Strictly Vermilion Genetics\, Home Raised\, Wintered for grass \n****75 Blk Strs\, 525-625#\, Weaned a long time\, Been on a Grass Grower Ration\, Complete Modified Live Vac. Program\, Fancy\, Reputation Calves with Strictly Vermilion Genetics\, Home Raised\, Wintered for grass \nBarney Ranches   200 Fancy Blk Hfrs\, 550-650#\, Weaned since November 18\, Hay Fed\, Complete Modified Live Vac. Program\, Bangs Vac.\, No Implants\, Wintered for grass\, High Elevation\, Home Raised \nSean Grote   100 Blk/Rd Hfrs\, 500-600#\, Weaned a long time\, Running out on grass supplemented with Hay and Corn\, Complete Vac. Program\, No Implants\, Wintered for grass \n****60 Blk/Rd Strs\, 450-750#\, Weaned a long time\, Running out on grass supplemented with Hay and Corn\, Complete Vac. Program\, No Implants\, Wintered for grass \nKelley Land & Cattle   120 Mostly Blk few Rd Strs\, 550-700# (majority 550-625#)\, Weaned a long time\, Bunk Broke\, Been on a Light Grower Ration\, Complete Modified Live Vac. Program\, Wintered for Grass\, Age & Source\, NHTC\, All Natural Certified thru IMI Global\, (Note: few have been Doctored; they have Notch in eartag; can be sorted off) \nStratton Sheep Co.   110 Mx Strs & Hfrs\, 450-625#\, Weaned since October\, Been on a Grower Ration (50% Ground Hay/50% Silage\, Branding Shots: Vista Once\, 7-way w/Somnus\, Weaning Shots: Bovi-Shield Gold 7\, Wormed w/Safeguard\, No Implants\, Home Raised\, Wintered for grass \nCattleCorp Cattle   100 Blk/Bwf Heifers\, 500-550#\, Weaned since October\, Running Out on pasture supplemented with Hay\, Complete Vac. Program\, Bangs Vac.\, Wintered for grass \nMatt Clark/Teichert Bros.   98 Blk/Bwf (2 Rd/Char-x) Strs & Hfrs\, 525-600#\, Weaned a long time\, Been on a Light Grower Ration\, Complete Modified Live Vac. Program\, Wintered for grass \nCharles & Tracy Martin   95 Mx Strs & Hfrs\, 450-550#\, Weaned 45 days\, Bunk Broke\, Been on a Grower Ration\, Branding Shots: Vista Once SQ\, 7-way\, No Implants\, No Brands\, September/October Born\, Sired by Angus or Sim/Angus Bulls \nC & C Livestock   90 Mx Strs\, 600-700#\, Weaned a long time\, Running out on pasture\, Complete Vac. Program\, No Implants\, Steers are Knife Cut\, Wintered for grass \nT and L Livestock   90 Mx Strs\, 600-700#\, Weaned a long time\, Running out on pasture\, Complete Vac. Program\, No Implants\, Steers are Knife Cut\, Wintered for grass \nLungren Land & Cattle Co.   84 Blk Strs & Hfrs\, 600-700#\, Weaned a long time\, Been on a Grower Ration\, Complete Vac. Program \nTerry Regan   80 Mx Strs & Hfrs\, 250-300# (few 650-700#)\, Weaned since Oct.\, Been on Chopped Hay\, Branding Shots: Nasalgen\, Pyramid 5\, Wormed w/Safe Guard\, Pre-cond. Shots: Nasalgen\, Pyramid 5\, Pinkeye\, Wormed w/Safeguard\, Booster Shots on Feb. 14: Poured w/Ivermec\, Wormed w/Safe Guard \nKelly Gardner/Gardner Livestock   52 Mx Strs & Hfrs\, 450-600#\, Weaned a long time\, Been on a Grower Ration\, Complete Modified Live Vac. Program\, Home Raised\, Wintered for grass \nNorth Ridge Cattle Co.   49 Mx Hfrs\, 550-650#\, Weaned a long time\, Been on a Grower Ration\, Complete Vac. Program\, Wintered for grass \nLarry & Carol Pancost   45 Blk Hfrs\, 550#\, Weaned a long time\, Running Out\, Hay Fed\, Complete Vac. Program\, Home Raised \nLone Tree Ranch   40 Blk Strs & Hfrs\, 500-700#\, Weaned a long time\, Running out on Hay Meadows supplemented with Grass Hay\, Complete Vac. Program\, Home Raised \nRob\, Brian\, & Tyler Boner   32 Blk/Bwf (2 Rd) Hfrs\, 500-600#\, Weaned 170 days\, Bunk Broke\, Been on Ground Hay\, Silage and Mineral Tubs\, Branding Shots: Vision 7 w/Somnus\, Vista Once\, Pre-cond Shots: Vision 7 w/Somnus\, Vista Once\, Poured \nC K Cattle Co.   31 Blk/Rd Strs\, 550-650#\, Weaned a long time\, Hay Fed\, Complete Vac. Program \nRon Lien   30 Mostly Blk Strs & Hfrs\, 400#\, Weaned a long time\, Running out on Cornstalks\, 2 Rounds of Shots \nBetschart Land & Livestock   17 Blk Strs\, 500-600#\, Weaned 35 days\, Free Choice Grass/Alfalfa Mix\, 2# of Flake Corn\, Been on a Mineral Program\, Branding Shots: Bovi-Shield Gold 5\, Vision 7 w/Somnus\, Pre-cond. Shots: Pyramid 5 w/Presponse\, Vision 7 w/Somnus\, Cydectin Pour On\, Weaning Shots: Bovi-Shield Gold 5\, Clean Up Pour on\, Home Raisedk Out of a Fall Calving Herd (Sept/Oct Born)\, Bunk Broke\, Hot Wire Broke\, 100% Sired by TD Angus Bulls \n****6 Blk Strs\, 500-600#\, Weaned 35 days\, Free Choice Grass/Alfalfa Mix\, 2# of Flake Corn\, Been on a Mineral Program\, Branding Shots: Bovi-Shield Gold 5\, Vision 7 w/Somnus\, Pre-cond. Shots: Pyramid 5 w/Presponse\, Vision 7 w/Somnus\, Cydectin Pour On\, Weaning Shots: Bovi-Shield Gold 5\, Clean Up Pour on\, Home Raisedk Out of a Fall Calving Herd (Sept/Oct Born)\, Bunk Broke\, Hot Wire Broke\, 100% Sired by TD Angus Bulls \nLuke Lungren   20 Mxd Strs/Hfrs\, 300-350#\, Weaned a long time\, Been on a Light Grower Ration\, Complete Vac Program\, Would Make Good Ropers \nRoxie Adams   16 Mx Heifers/Bull Calves\, 450-550#\, Weaned 20+ days\, Hay Fed/Creep Feed\, Bunk Broke\, No Shots\, Producer All Natural \nK Powd Boles   15 Blk Angus Strs\, 600#\, Weaned 90 days\, Running Out on pasture\, supplemented with Native Grass Hay\, 30% cake\, Branding Shots: Vista Once SQ\, Covexin 8\, Weaning Shots: Vista Once SQ\, Convexin 8\, Sired by Powder River Angus Bulls \nMick Steinhausen   15 Mx Strs & Hfrs\, 500-900#\, Been on a Grower Ration: Ground Hay/Silage/Corn\, Complete Mineral Program\, Booster Shots (30 days ago); 7-way w/Spur\, Bovi-Shield Gold 5\, Dectomax Injectable Wormer \nFlying Heart Ranch   11 Blk/Rd Strs\, 500#\, Weaned 100 days\, Hay Fed\, Lick Tubs\, Branding Shots: Vista Once\, Vision 7\, Pre-cond. Shots: Vista Once\, Vision 7\, Weaning Shots: Vista Once\, Vision 7\, Safeguard\, Poured with Clean-up\, Green\, Late Born Calves held over \nClay Cope   3 Blk Hfrs/Str\, 600#\, Weaned a long time\, Been on Grass ha and Little Corn\, Branding Shots: Vira Shield 6\, Vision 7 \nCassie Watson-Wilson   2 Red Hfrs\, 550#\, Weaned 60 day \n  \n Calves \nOak Leaf Ranch   50 Mostly Blk Strs & Hfrs\, 450#\, Branding Shots: Vision 7\, Injectable Dectomax\, Coming off mothers\, Running out on pasture and started on Hay along side of moms \n MANY MORE CONSIGNMENTS BY SALE DAY \nCheck out www.torringtonlivestock.com for more consignments and to view sales and bid online!!! \nFOR MORE INFORMATION CALL 307-532-3333
URL:https://torringtonlivestock.com/event/wednesday-april-15th-2026-feeder-special/
CATEGORIES:Wednesday Sales
END:VEVENT
END:VCALENDAR