BEGIN:VCALENDAR
VERSION:2.0
PRODID:-//Torrington Livestock Market - ECPv6.15.20//NONSGML v1.0//EN
CALSCALE:GREGORIAN
METHOD:PUBLISH
X-WR-CALNAME:Torrington Livestock Market
X-ORIGINAL-URL:https://torringtonlivestock.com
X-WR-CALDESC:Events for Torrington Livestock Market
REFRESH-INTERVAL;VALUE=DURATION:PT1H
X-Robots-Tag:noindex
X-PUBLISHED-TTL:PT1H
BEGIN:VTIMEZONE
TZID:America/Denver
BEGIN:DAYLIGHT
TZOFFSETFROM:-0700
TZOFFSETTO:-0600
TZNAME:MDT
DTSTART:20250309T090000
END:DAYLIGHT
BEGIN:STANDARD
TZOFFSETFROM:-0600
TZOFFSETTO:-0700
TZNAME:MST
DTSTART:20251102T080000
END:STANDARD
BEGIN:DAYLIGHT
TZOFFSETFROM:-0700
TZOFFSETTO:-0600
TZNAME:MDT
DTSTART:20260308T090000
END:DAYLIGHT
BEGIN:STANDARD
TZOFFSETFROM:-0600
TZOFFSETTO:-0700
TZNAME:MST
DTSTART:20261101T080000
END:STANDARD
BEGIN:DAYLIGHT
TZOFFSETFROM:-0700
TZOFFSETTO:-0600
TZNAME:MDT
DTSTART:20270314T090000
END:DAYLIGHT
BEGIN:STANDARD
TZOFFSETFROM:-0600
TZOFFSETTO:-0700
TZNAME:MST
DTSTART:20271107T080000
END:STANDARD
END:VTIMEZONE
BEGIN:VEVENT
DTSTART;VALUE=DATE:20260417
DTEND;VALUE=DATE:20260418
DTSTAMP:20260424T102245
CREATED:20260310T210146Z
LAST-MODIFIED:20260417T142029Z
UID:5462-1776384000-1776470399@torringtonlivestock.com
SUMMARY:Friday\, April 17th\, 2026 - All Classes
DESCRIPTION:TORRINGTON LIVESTOCK MARKETS \nFriday\, April 17th\, 2026\n All Classes\nStarting at 9:00 am MDT with Weigh-ups\nBaby Calves & Feeders will sell at 1:00 \nBred Heifers \nDeGering Livestock   9 Blk Hfrs\, Bred to Low Birth Weight Blk Angus Bulls\, CF: April/May\, Shots last Fall: Vira Shield 6 + VL5 \nKayo & Betty Smith   5 Char Hfrs\, Bred to Char Bull\, CF: Mx \nL 3 Cattle   1 First Calf Hfr\, Bred to Todd Platt Blk Angus Bull\, CF: April\, Shots on March 15: 7-way\, ScourGuard\, Poured w/Ivomec \n  \nBred Cows \nJames Hastings   43 Mx Cows\, Mx Ages\, Bred to Blk Bulls\, CF: Now to End of May \nL 3 Cattle   6 Mx Cows\, Running Ages\, Bred to Todd Platt Blk Angus Bull\, CF: April\, Shots on March 15: 7-way\, ScourGuard\, Poured w/Ivomec \nMarcus Anderson   4 Mx Cows\, Mx Ages\, Bred to Hereford Bulls\, CF: Late \nJana Cook   3 Mx Cows\, Mx Ages\, Bred to Red Bulls\, CF: April/May \nScott Long   2 Blk/Rd Cows\, Mx Ages\, CF: Mx \nGertrude Smith  1 Cow\, Mx Ages\, CF: Mx \nCassie Watson-Wilson  1 Cow\, Mx Age\, CF: Mx \n  \nPairs \nEleven Bar One LLC/Greg Flitner   2 Mx Cow Pairs. Mx Ages \nJana Cook   1 Hfr Cow Pair\, Mx Age \n  \nFeeders/Calves \nWilliam Jolley   30 Strs & Hfrs\, 600-675#\nTracy & Beverly Preuit   21 Blk Hfrs\, 650-700# \nRabbit Creek Ranch   15 Yearling Bulls\, 800# \nDeGering Livestock   6 Blk Hfrs\, 775# \nSpring Creek Land & Cattle   5 Mx Hfrs\, 700# \nW S Livestock   4 Blk Hfrs\, 725-800# \nSeth & Clara Kite   4 Mx Hfrs\, 700# \nHiser Farms   2 Blk Yearling Bulls\, 800# \n  \nWeighups \nGSMC LLC dba Sharpe Ranch   180 Mx Cows \n****20 Mx Bulls \nEleven Bar One LLC/Greg Flitner   30 Mx Cows \n****12 Mx Bulls \nShepard Farms   40 Mx Cows \n5 W Livestock   40 Mx Hfretts/Young Cows \nLone Tree Ranch   32 Mx Cows/Bulls \nStratton Sheep Co.   20 Mx Bulls \nWEBO Angus   18 Mx Cows \nXL Angus Ranch   14 Blk Cows/Bulls \nTaylor Ranches   10 Blk/Hereford Bulls \nDennis Brooks   8 Red Cowx \nTJ Hollingsworth   8 Blk Bulls \nScissors Ranch   6 Blk Cows/Bull \nDoug Dunlap   6 Mx Hfretts/Cows/Bull \nCooper Gray   6 Mx Cows \nKayo Smith   5 Mx Cows \nHarvat Cattle & Hay   5 Blk Cows \nGerald Sterkel   5 Mx Cows \nSumner & Shirley Shockley   4 Red Angus Cows\, Exposed to Red Angus Bulls\, CF: Late \nTillard Brothers   4 Blk Bulls \nChuck Martin   4 Blk Bulls \nMike& Brandon Werner   3 Red Cows \nLeachman Cattle   3 Mx Cows/Bull \nCraig Lovitt   3 Blk Cows \nCassie Watson-Wilson   3 Red Hfretts/Cow \nRoth Land & Cattle   2 Red Angus Cows \nChris Donnelly   2 Blk Bulls \nRowdy/Lacy Brooks   2 Blk/Rd Cows \nUniversity of Wyoming/SAREC   2 Blk Cows \nJustin Daly   2 Blk Cows \nDuck Bar Ranch   2 Blk Cows \nBrett Hageman   2 Blk Cows \nScott Ranches   2 Blk Bulls \nJ & J Ochsner   2 Blk Cows \nAaron Wilhelm   2 Blk Bulls \nFred Kirchhefer   1 Mx Cow \nW B Livestock   1 Cow \nCrow Valley Livestock   1 Hfrett \nPancost Ranch LLC   1 Cow \nW B Livestock   1 Cow \nGertrude Smith   1 Cow \nEmma Johnson   1 Blk Cow \nLane Hageman   1 Red Cow \nJay Meier   1 Char Cow \n2K Cattle   1 Hereford Bull \nTimothy Gifford   1 Cow \nJim & Connie Bowen   1 Hereford Cow \nFred Kirchhefer   1 Blk Cow \nDylan Long   1 Char Cow \n  \nBaby Calves/Splitters \nGSMC LLC dba Sharpe Ranch   2 Baby Calves \n  \nMANY MORE CONSIGNMENTS BY SALE DAY \nCheck out www.torringtonlivestock.com for more consignments and to view sales and bid online!!! \nFOR MORE INFORMATION CALL 307-532-3333
URL:https://torringtonlivestock.com/event/friday-april-17th-2026-all-classes/
CATEGORIES:Friday Sales
END:VEVENT
END:VCALENDAR