BEGIN:VCALENDAR
VERSION:2.0
PRODID:-//Torrington Livestock Market - ECPv6.15.20//NONSGML v1.0//EN
CALSCALE:GREGORIAN
METHOD:PUBLISH
X-WR-CALNAME:Torrington Livestock Market
X-ORIGINAL-URL:https://torringtonlivestock.com
X-WR-CALDESC:Events for Torrington Livestock Market
REFRESH-INTERVAL;VALUE=DURATION:PT1H
X-Robots-Tag:noindex
X-PUBLISHED-TTL:PT1H
BEGIN:VTIMEZONE
TZID:America/Detroit
BEGIN:DAYLIGHT
TZOFFSETFROM:-0500
TZOFFSETTO:-0400
TZNAME:EDT
DTSTART:20240310T070000
END:DAYLIGHT
BEGIN:STANDARD
TZOFFSETFROM:-0400
TZOFFSETTO:-0500
TZNAME:EST
DTSTART:20241103T060000
END:STANDARD
BEGIN:DAYLIGHT
TZOFFSETFROM:-0500
TZOFFSETTO:-0400
TZNAME:EDT
DTSTART:20250309T070000
END:DAYLIGHT
BEGIN:STANDARD
TZOFFSETFROM:-0400
TZOFFSETTO:-0500
TZNAME:EST
DTSTART:20251102T060000
END:STANDARD
BEGIN:DAYLIGHT
TZOFFSETFROM:-0500
TZOFFSETTO:-0400
TZNAME:EDT
DTSTART:20260308T070000
END:DAYLIGHT
BEGIN:STANDARD
TZOFFSETFROM:-0400
TZOFFSETTO:-0500
TZNAME:EST
DTSTART:20261101T060000
END:STANDARD
END:VTIMEZONE
BEGIN:VEVENT
DTSTART;VALUE=DATE:20250822
DTEND;VALUE=DATE:20250823
DTSTAMP:20260424T200104
CREATED:20250716T163557Z
LAST-MODIFIED:20250823T195847Z
UID:4049-1755820800-1755907199@torringtonlivestock.com
SUMMARY:Friday\, August 22nd - All Classes
DESCRIPTION:TORRINGTON LIVESTOCK MARKETS \nFriday\, August 22nd\, 2025\n All Classes\nStarting at 9:00 am MDT with Weigh-ups;\nBreds \nBrackett Livetock   123 90% Blk bal Red Cows\, Running Ages\, Bred to Blk Bulls\, CF:  March 29 \nKyle Cruth   4 Blk/Bwf/Red Cows\, Mx Ages\, Bred to Ochsner or Kreb Angus Bulls\, CF: Fall\, All Raised a Calf\, Gentle\, Been on a Mineral Program\, Poured w/Ivermectin\, All Natural \nTriangle 2 Cattle   2 Mx Cows\, Mx Ages\, CF: Mx \nAnthony Laffitte   1 Blk Cow\, 1100#\, Bred to K2 Red Angus Bull\, CF: Now \n  \nBred Heifers \nDietzler Farms   40 Blk/Bwf Hfrs\, 800#\, AI’d Bred to Low Birth Weight Blk Bulls\, CF: April 21\, Bangs Vac.\, Spring Shots:  Vision 7 Somnus+Spur\, Pyramid 5+Presponse SQ \n  \nPairs \nJason King   5 Mx Cow Pairs\, Mx Ages \nR & K Farms   4 Mx Cow Pairs\, Mx Ages \nAnthony Laffitte   3 Blk/Rd Cow Pairs\, 100-1300#\, Mx Ages\, Not Tagged to Match\, Calves are 1 week old to 4 months old\, Calf Shots:  7-way\, Sired by K2 Red Angus Bull \n  \nFeeders/Calves \nShaffer Livestock   30 Blk Hfrs\, 850-900#\, PTO@ ranch\, Complete Vac. Program\, Coming off grass\, Home Raised \nRyan Boner   11 Red Yearling Bulls\, 850# \n****4 Red Strs\, 900# \nSouthern Cross Dairy   3 Jersey Hfrs\, 725#\, Open \n4 Corners Dairy   3 Holstein Hfrs\, 725#\, Open \nKelly Burch   1 Hfr\, 750# \nBullard Family Trust   1 Hfr. 700# \n  \nWeighups \nShaeffer Livestock   50 Blk Cows \nRon Jespersen & Family   35 Blk Cows \nTriangle 2 Cattle   19 Mx Cows \nM Diamond Angus Ranch   16 Mx Cows/Bulls \nR & K Farms   12 Mx Bulls \nRock Lake Land & Cattle   10 Mx Cows\, Exposed (March/April) \nShannon Bruegger   10 Mx Bulls/Hfretts \nMarton Ranch   7 Blk Bulls \nRyan Boner   7 Red Bulls \nBootheel Seven Livestock   7 Bulls \nCobb Cattle Co.   6 Bulls \nKelly Burch   6 Mx Cows \nWaddle Limousine Ranch   5 Mx Bulls \nKeith Roth   4 Red Bulls \nAlvero Bazea   4 Mx Bulls \nMelissa Harding   3 Mx Cows/Bull \nBullard Family Trust   2 Bulls \nPlatte River Cattle   2 Blk Bulls \nJason King   1 Cow \n  \nDonkey \nRobert Laughlin   1 Donkey\, 15 yr old\, Current Health and Coggins \n MANY MORE CONSIGNMENTS BY SALE DAY \nCheck out www.torringtonlivestock.com for more consignments and to view sales and bid online!!! \nFOR MORE INFORMATION CALL 307-532-3333
URL:https://torringtonlivestock.com/event/friday-august-22nd-all-classes/
END:VEVENT
BEGIN:VEVENT
DTSTART;VALUE=DATE:20250820
DTEND;VALUE=DATE:20250821
DTSTAMP:20260424T200104
CREATED:20250716T163533Z
LAST-MODIFIED:20250821T143802Z
UID:4047-1755648000-1755734399@torringtonlivestock.com
SUMMARY:Wednesday\, August 20th - Feeder Special
DESCRIPTION:TORRINGTON LIVESTOCK MARKETS \nWednesday\, August 20th\, 2025\nFeeder & Calf Special\nStarting at 10:00am\nFeeders \nMatt & Cody Haun   500 Spayed Hfrs (45% Blk/40% Red/15% Char-x)\, 900-1000#\, Complete Vac. Program\, Implanted w/Revolar G\, Shots before going to grass:  Vista Once\, Vision 7 w/Somnus\, Safe Guard Drench\, Poured w/Dectomax\, Coming off grass\, Free Choice Mineral & Salt \nX Lazy Three Inc.   85 Fancy Blk Hfrs\, 850-975#\, Ran Open or PTO @ ranch\, Complete Modified Live Vac. Program\, No Implants\, Coming off grass\, Home Raised \nJ & J Livestock   55 Blk (4-5 Char-x) Hfrs\, 900#\, Guaranteed Open\, Complete Vac. Program \nLankister Livestock   52 Blk/Bwf Hfrs\, 900#\, PTO @ ranch on Aug. 19\, Complete Vac. Program\, Shots this Spring: Express 5/VL5\, Coming off grass \nJustin Barnes   46 Mx Hfrs\, 870#\, Guaranteed Open\, Complete Vac. Program\, Pre-breeding Shots this Spring\, Implanted\, Coming off grass \n****4 Mx Strs\, 900#\, Complete Vac. Program\, Implanted\, Coming off grass \nMountain Valley Livestock   43 Blk Hfrs\, 1000#\, PTO @ ranch on Aug. 18. Complete Vac. Program\, Coming off grass\, Home Raised \n****3 Blk Strs\, 1050#\, Complete Vac. Program\, Coming off grass\, Home Raised \nSullivan Ranch   38 Mostly Blk/Bwf (1 Hereford) Hfrs\, 900-1000#\, Spayed or PTO @ ranch on Aug. 18\, Complete Vac. Program\, Coming off grass\, Home Raised \nSlagle Ranch   33 Blk Hfrs\, 800-850#\, PTO @ ranch\, Complete Vac. Program\, Coming off grass\, Home Raised \nT Bar L   25 Blk Hfrs\, 725#\, PTO @ barn\, Complete Vac. Program\, Coming off grass \nKite Cattle Co.   20 Blk/Bwf Hfrs\, 900#\, PTO @ ranch on Aug. 19\, Complete Vac. Program\, Shots this Spring: Express 5/VL5\, Coming off grass \nRobert Greer/Wade Louthan   11 Blk Hfrs\, 900#\, PTO @ ranch\, Complete Vac. Program\, Bangs Vac.\, Pre-breeding Shots this Spring\, Coming off grass\, Home Raised \nDeGering Livetock   16 Blk/Bwf Strs\, 1000#\, Shots at Birth:  Alpha 7\, Branding Shots:  Vira Shield 6\, Poly-Bac\, MultiMin\, Pre-cond.: Vira Shield 6\, Poly-Bac\, Weaning Shots:  Vira Shield 6\, Poly-Bac\, Alpha 7\, Poured on Ivermectin\, Spring Shots (May):  Wormed w/Valcor\, Synovex Implanted\, Coming off grass \nPending   11 Mx Strs & Hfrs\, 750-900#\, All Shots\, Coming off grass \nR & K Farms   10 Blk Hfrs\, 940#\, PTO @ ranch\, Complete Vac. Program\, Coming off grass \nHigh Road Land Co./Erick & Kenzie Mares   9 Blk Angus Hfrs\, 950#\, PTO @ ranch\, Weaning Shots:  Vira Shield 6 VL5\, Bangs Vac.\, Coming off grass\, Home Raised \nSpringfield Ranch   6 Red Angus Hfrs\, 850-900#\, PTO @ ranch\, Complete Vac. Program\, No Implants\, Coming off grass\, Home Raised \nJori Steele   6 Mx Strs\, 600-700#\, Complete Vac. Program\, Coming off grass \nWindy Spring Ranch   6 Mx Hfrs\, 700#\, Complete Vac. Program\, Coming off grass \nKody McClun   6 Blk/Hereford-x Strs & Hfrs\, 700#\, Fall Calves\, Weaned since April\, Complete Vac. Program\, Been on a Light Grower Ration\, Full Mineral Program\, Home Raised\, Heifers are Guaranteed Open \nX H Land & Cattle   5 Blk Hfrs\, 900#\, PTO @ ranch\, Complete Vac. Program\, Coming off grass\, Home Raised \nJim Garson   5 Mx Hfrs & Str\, 650#\, Complete Vac. Program\, Coming off grass \nJack Garson   4 Blk Strs\, 750#\, Complete Vac. Program\, Coming off grass \nBart Klipstein   2 Blk Hfrs\, 800-850#\, Guaranteed Open\, Complete Vac. Program\, Bangs Vac.\, Coming off grass \nMick Steinhausen   2 Blk/Bwf Strs\, 700#\, Full Vac. Program\, Coming off grass \n  \nCalves \n K Powd Boles   18 Mostly Hfrs\, 425-475#\, Branding Shots:  Vista Once\, Vision 7\, Steers are Knife Cut \nRebecca Swisher   5 Hereford/Hereford-x Strs & Hfrs\, 350-500#\, Weaned\, Bunk Broke\, Hay Fed\, 2 Rounds of Shots:  Bovi-Shield Gold\, Poured\, Wormed with SafeGuard \n  \nMANY MORE CONSIGNMENTS BY SALE DAY \nCheck out www.torringtonlivestock.com for more consignments and to view sales and bid online!!! \nFOR MORE INFORMATION CALL 307-532-3333
URL:https://torringtonlivestock.com/event/wednesday-august-20th-feeder-special/
END:VEVENT
BEGIN:VEVENT
DTSTART;VALUE=DATE:20250815
DTEND;VALUE=DATE:20250816
DTSTAMP:20260424T200104
CREATED:20250716T163503Z
LAST-MODIFIED:20250821T142259Z
UID:4045-1755216000-1755302399@torringtonlivestock.com
SUMMARY:Friday\, August 15th - All Classes
DESCRIPTION:TORRINGTON LIVESTOCK MARKETS \nFriday\, August 15th\, 2025\n All Classes\nStarting at 9:00 am MDT with Weigh-ups;\nFeeders \nSlagle Ranch   33 Blk Hfrs\, 800-850#\, PTO @ ranch\, Complete Vac. Program\, Coming off grass\, Home Raised \nLa Joya Dulce/Wayne Jacobsen   10 Blk (1 Brown) Strs\, 1400#\, All Natural\, Grass Fed \nMichale Schieck   6 Roping Strs\, 550-750#\, Still ropeable except for the big white one \nJori Steele   6 Mx Strs\, 600-700#\, Complete Vac. Program\, Coming off grass \nSandra Hranchak   2 Mx Strs (1 British White/1 Mini Hereford)\, 650# \n  \nPairs \nBob Sadlier   15 Mx Cow Pairs\, Running Ages\, Not Exposed back to Bulls \nSandra Hranchak   1 British White Cow Pair\, Exposed back to Bull since June 28th \n  \nWeighups \nSalt Ranch LLC   40 Mx Cows \nBerger Ranch   37 Mx Cows\, Been on fed for 60 days \nBugas Ranch   25 Mx Cows \nSmith Sheep Co.   6 Mx Bulls \nBoyd Supan   3 Blk Cows \nRick Gold   2 Mx Cows \nNotch Peak Ranch   2 Red Bulls \nDavid Baylock   2 Hereford Bulls\, Registration Papers are in office \n  \n MANY MORE CONSIGNMENTS BY SALE DAY \nCheck out www.torringtonlivestock.com for more consignments and to view sales and bid online!!! \nFOR MORE INFORMATION CALL 307-532-3333
URL:https://torringtonlivestock.com/event/friday-august-15th-all-classes/
END:VEVENT
BEGIN:VEVENT
DTSTART;VALUE=DATE:20250813
DTEND;VALUE=DATE:20250814
DTSTAMP:20260424T200104
CREATED:20250716T163423Z
LAST-MODIFIED:20250828T153746Z
UID:4043-1755043200-1755129599@torringtonlivestock.com
SUMMARY:Wednesday\, August 13th - Cattle Country Video
DESCRIPTION:Cattle Country Video\nOregon Trail Classic\nTuesday\, August 12 & Wednesday\, August 13th\nGering Civic Center in Gering\, Nebraska\nWebsite\nPrint Catalog\nPreview Video\nSale Day Phone: 307-575-5005\nView Sale on YouTUBE\nBid Online on Cattle USA
URL:https://torringtonlivestock.com/event/wednesday-august-13th-cattle-country-video/
END:VEVENT
BEGIN:VEVENT
DTSTART;VALUE=DATE:20250812
DTEND;VALUE=DATE:20250813
DTSTAMP:20260424T200104
CREATED:20250716T163333Z
LAST-MODIFIED:20250828T153730Z
UID:4040-1754956800-1755043199@torringtonlivestock.com
SUMMARY:Tuesday\, August 12th - Cattle Country Video
DESCRIPTION:Cattle Country Video\nOregon Trail Classic\nTuesday\, August 12 & Wednesday\, August 13th\nGering Civic Center in Gering\, Nebraska\nWebsite\nPrint Catalog\nPreview Video\nSale Day Phone: 307-575-5005\nView Sale on YouTUBE\nBid Online on Cattle USA
URL:https://torringtonlivestock.com/event/tuesday-august-12th-cattle-country-video/
END:VEVENT
BEGIN:VEVENT
DTSTART;VALUE=DATE:20250808
DTEND;VALUE=DATE:20250809
DTSTAMP:20260424T200104
CREATED:20250716T162249Z
LAST-MODIFIED:20250821T142237Z
UID:4038-1754611200-1754697599@torringtonlivestock.com
SUMMARY:Friday\, August 8th - All Classes
DESCRIPTION:TORRINGTON LIVESTOCK MARKETS \nFriday\, August 8th\, 2025\n All Classes\nStarting at 9:00 am MDT with Weigh-ups\nFeeders \nPending   6 Mx Hfrs\, 750-800#\, All Shots \nLawyer Ranch   4 Mx Strs & Hfrs\, 585-625# \n****1 Str\, 1800# \nTodd Irvine   2 Strs \nEFTR LLC   1 Blk Str Calf \n  \nBreds \nGlen Portwood   13 Mx Cow Pairs\, 4-10 yr olds\, April Calves at Side (500#)\, Tagged to Match\, NOT Exposed back to Bulls \n  \nWeighups \nRed Mountain Ranch   52 Mx Cows \n****10 Mx Bulls \nCrow Valley Ranch   28 Red (3 Blk) Cows\, 1300#\, Coming  off grass \nBob Packer   25 Mx Cows \nBruce Thayer   12 Mx Cows \nNotch Peak Ranch   11 Mx Bulls \nU Cross Ranch   9 Blk/Hereford Bulls \nBrian & Linda Sidwell   8 Hereford (1 Blk) Cows \nRobert & Cindy Faulkner   8 Mx Cows \nChad/Jamie Harkins   8 Blk Cows/Bulls \nArrow Crown Angus   8 Mx Cows \nGlen Portwood   7 Mx Cows \nRon Zavorka   6 Mx Cows \nKruse Livestock   6 Hereford/Blk Angus Cows/Hfretts \nRocking L R   4 Hereford/Blk Bulls \nSharpe Ranch   4 Blk Bulls \nRod Nelson   4 Mx Bulls \nTA Ranch   4 Mx Cows \nJoss LLC   3 Hereford Cows \nWEBO Angus   3 Blk Bulls \nBob Ballew/XL Angus   3 Blk Bulls \nJim & Connie Bowen   2 Mx Cow/Bull \nTodd Irvine   2 Mx Cow/Bull \nBates Creek Cattle Co.   2 Hereford Bulls \nW H Jolley   2 Blk Cow/Bull \nScott Thayer   2 Mx Cows \nNoah’s Ark   1 Bull \nDoyle Ranch   1 Hereford Cow \nLawyer Ranch   1 Bull \nMichale/Charlott Davis   1 Red Bull \nLarry Chamberlain   1 Hereford Bull \nRyan Nelson   1 Blk Bull \nRoyce Heine   1 Blk Bull \nRed Fork Red Angus   1 Red Bull \nJustin & Julie Gentle   1 Hereford Bull \n  \n  \nMANY MORE CONSIGNMENTS BY SALE DAY \nCheck out www.torringtonlivestock.com for more consignments and to view sales and bid online!!! \nFOR MORE INFORMATION CALL 307-532-3333
URL:https://torringtonlivestock.com/event/friday-august-8th-all-classes/
END:VEVENT
BEGIN:VEVENT
DTSTART;VALUE=DATE:20250806
DTEND;VALUE=DATE:20250807
DTSTAMP:20260424T200104
CREATED:20250716T162220Z
LAST-MODIFIED:20251007T140747Z
UID:4036-1754438400-1754524799@torringtonlivestock.com
SUMMARY:Wednesday\, August 6th - Feeder Special
DESCRIPTION:TORRINGTON LIVESTOCK MARKETS \nWednesday\, August 6th 2025\nFeeder & Calf Special\nStarting at 10:00am\nFeeders \nX Lazy Three Inc.   171 Fancy Blk Strs\, 875-1000#\, Complete Modified Live Vac. Program\, No Implants\, Coming off grass\, Home Raised\nVideo Preview \nShipley Livestock   78 Blk/Bwf Hfrs\, 750-800#\, Spayed\, Complete Vac. Program\, No Implants by this Owner \nJ Reverse J   35 Blk/Rd Strs\, 800-900#\, Complete Zoetis Vac. Program\, No Implants\, Coming off grass\, Selling Early Due to Extreme Dry Conditions \n****35 Blk/Rd Hfrs\, 800-900#\, Guaranteed Open\, Complete Zoetis Vac. Program\, No Implants\, Coming off grass\, Selling early due to Extreme Dry Conditions \nLaurel Leaf   59 Blk/Bwf/Rd Strs\, 850-950#\, Complete Vac. Program\, No Implants\, Coming off grass \nJessie & Mallory Cecil   57 Mostly Red few Blk Strs\, 800-900#\, Complete Vac. Program\, Coming off grass\, Complete Mineral Program\, No Implants \nJDS Livestock   55 Red/Rwf Strs\, 1000-1050#\, 2 Rounds of Modified Live (Pyramid 5+Presponse\, Bovi-Shield Gold 5\, 7-way (2x)\, Safe-Guard\, Dectomax Injectable\, Implanted with Revalor G\, Coming off grass \nJulie & Justin Gentle   11 Red Angus/Hereford Hfrs\, 1000#\, PTO @ ranch\, Full Vac. Program\, Bangs Vac.\, Shots on August 3: Vira Shield 6 VL5\, UltraBoss Pour On\, Coming off grass\, Home Raised \nJames Hedstrom   9 Mx Strs & Hfrs\, 650#\, Complete Vac. Program \nBennett Creek Cattle Co.   8 Mx Strs\, 700#\, Complete Vac. Program\, Coming off grass\, Home Raised \nDoyle Ranch   7 Hereford Hfrs\, 700#\, Guaranteed Open\, Weaned a long time\, Shots on July 6:  7-way\, Bovi-Shield Gold 5\, Poured\, Fly Tagged\, Hay Fed \nGrace Hodges   2 Purebred Blk Angus Hfrs\, 700-800#\, Replacement Quality\, Guaranteed Open\, Complete Vac. Program\, Bangs Vac.\, No Implants\, Bunk Broke\, Been on Hay\, Cake Cubes & Grain \nDean House   1 Blk/Rd Hfr\, 800-900#\, Guaranteed Open\, Complete Zoetis Vac. Program\, No Implants\, Coming off grass \nLadd Peterson   1 Blk/Rd Hfrs\, 800-900#\, Guaranteed Open\, Complete Zoetis Vac. Program\, No Implants\, Coming off grass \n  \nCalves \nHerman Livestock   60 Mx Strs\, 550-750#\, Weaned a long time\, Shots on July 6: 7-way\, Bovi-Shield Gold 5\, Poured\, Fly Tagged\, Hay Fed \n****10 Mx Strs/Hfrs\, 500-600#\, Weaned a long time\, Shots on July 6: 7-way\, Bovi-Shield Gold 5\, Poured\, Fly Tagged\, Hay Fed\, Heifers are Guaranteed Open \nSagwich Land & Livestock   40 Sim/Angus-x Strs\, 600-625#\, Complete Modified Live Vac. Program\, 8-way\, No Implants\, Dehorn\, if necessary\, Knife Cut\, Fall Calves\, Coming off cows\, Green\, Home Raised \n****32 Sim/Angus-x Hfrs\, 600-625#\, Complete Modified Live Vac. Program\, 8-way\, No Implants\, Dehorn\, if necessary\, Fall Calves\, Coming off cows\, Green\, Home Raised \nRichard Pearson   25 Mostly Blk Strs & Hfrs\, 700#\, Shots at Birth: Calfguard\, 7-way\, Coming off cows \nWaddle Limousin Ranch   16 Limousin/Lim-Flex Blk (3 Red) Strs & Hfrs\, 550-750#\, Weaned since April 7\, 2025\, Bunk Broke\, Been on 4# of Pellet Feed\, Free Choice Millet or Grass Hay\, Heifers are Guaranteed Open\, Shots at Birth:  Vision 7\, Pre-cond. Shots (Jan. 16/2025):  Bovi-Shield Gold One Shot\, Inforce 3\, Weaning Shots: (April 7\, 2025):  Bovi-Shield Gold 5\, Vision 7 w/Somnus\, Vetrimec Pour On\, Heifers are Bangs Vac.\, No Implants\, Sept/Oct Cavles\, Home Raised \nStratton Sheep Co.   12 Corr. Strs & Hfrs\, 450-550#\, Complete Vac. Program \nMANY MORE CONSIGNMENTS BY SALE DAY \nCheck out www.torringtonlivestock.com for more consignments and to view sales and bid online!!! \nFOR MORE INFORMATION CALL 307-532-3333 \nPrint Sale Bill
URL:https://torringtonlivestock.com/event/wednesday-august-6th-feeder-special/
END:VEVENT
BEGIN:VEVENT
DTSTART;VALUE=DATE:20250801
DTEND;VALUE=DATE:20250802
DTSTAMP:20260424T200104
CREATED:20250716T162143Z
LAST-MODIFIED:20250821T142215Z
UID:4034-1754006400-1754092799@torringtonlivestock.com
SUMMARY:Friday\, August 1st - All Classes
DESCRIPTION:TORRINGTON LIVESTOCK MARKETS \nFriday\, August 1st\, 2025\n All Classes\nDUE TO FAIR WEEK WE ASK THAT YOU BRING YOUR CATTLE IN THURSDAY AS THE SALE WILL START AT 8:00 AM SHARP AND WILL FINISH APPROXIMATLEY NOON SO THAT OUR EMPLOYEES CAN ENJOY THE FAIR.\nStarting at 8:00 am MDT with Weigh-ups;\nFeeders/Calves \nDiamond D Cattle Co.   10 Yearling Rwf Bulls\, 750# \nRocking LR LLC   4 Blk Strs/Hfrs\, 575-650# \n****4 Bull Calves\, 450-500# \nScott Williams   4 Mx Strs\, 700# \n****4 Mx Hfrs\, 750#\, Exposed to Bulls since June 1 \nGooseberry Creek Ranch   4 Blk Strs/Hfr\, 675-700# \nVern Black   1 Virgin Red Sim/Angus Bull \nBaer Livestock   1 Bwf Str\, 675# \n  \nBreds \nShepard Farms   1 Mx Cow\, Mx Ages\, CF: Mx \n  \nPairs \nScott Williams   3 Mx Cow Pairs\, Mx Ages\, Steers Calves at side\, Tagged to Match\, Exposed back to Bulls since June 1 \n****2 Mx Cow Pairs\, Mx Ages\, Heifer Calves at side\, Tagged to Match\, Exposed Back to Bulls since June 1 \nVan Tassell Ranch/Norma Bruegger   3 Mx Cow Pairs\, Mx Ages \n  \nWeighups \nScott Volk   44 Mx Cows \nShepard Farms   40 Mx Cows \nVan Tassell Ranch/Norma Bruegger   32 Mx Cows \nBob Packer   20 Mx Cows \nLungren Land & Cattle   19 Mx Cows/Bulls \nGerald Sterkel   16 Mx Cows \n4-3 Land & Cattle   16 Mx Bulls \nTwin Buttes   14 Mx Cows/Bull \nBennett Creek Cattle Co.   9 Mx Cows\, Exposed to Bulls since June 1 \nGooseberry Creek Ranch   6 Blk Bulls \nIrvine Ranch   6 Mx Cows \nAndy Malm   6 Mx Bulls/Cow \nBrian & Linda Sidwell   5 Mx Cows/Bull \nCross Ranch   5 Blk Bulls \nMiller Estates   3 Mx Bulls \nSewell Ranching   3 Mx Bulls \nWEBO Angus   3 Blk Bulls \nDolores Cushman   3 Hereford Bulls \nDavid Sherrod   2 Red Bulls \nT J Hollingworth   2 Blk Bulls \nScott Williams   2 Brown Cows\, Exposed back to bulls since June 1 \nHill Land & Livestock   1 Bull \nW W Cattle   1 Blk Cow/Exposed \nShawn Seebaum   1 Blk Bull \nBruce Nelson   1 Blk Bull \nJerry Reichert   1 Cow \n  \nBaby Calves \nProducers Livestock   1 Baby Bwf Bull \n  \nCheck out www.torringtonlivestock.com for more consignments and to view sales and bid online!!! \nFOR MORE INFORMATION CALL 307-532-3333
URL:https://torringtonlivestock.com/event/friday-august-1st-all-classes/
END:VEVENT
BEGIN:VEVENT
DTSTART;VALUE=DATE:20250725
DTEND;VALUE=DATE:20250726
DTSTAMP:20260424T200104
CREATED:20250619T022529Z
LAST-MODIFIED:20250821T142153Z
UID:3998-1753401600-1753487999@torringtonlivestock.com
SUMMARY:Friday\, July 25th\, 2025 - All Classes
DESCRIPTION:TORRINGTON LIVESTOCK MARKETS \nFriday\, July 25th\, 2025\n All Classes /Feeder Special\nStarting at 8:00 am MDT with Weigh-ups;\nFeeders \nW S Inc  22 Mixed Hfrs 650-800# \nAmy Jo Farella  3 Yearling Hfrs \nBill Connelly   2 Herford Strs 625# Had All Shots \nU of W/ Laramie 1 yearling Brockel Faced Hfr 700-800# \nLisa Walker  1 yearling hfr  1-2 yr old Hfr been exposed to red angus bull June 20th \nU of W/ Laramie  1 Yearling Blk Str 700-800# \n  \nCalves \nJulie Harrison   5 Baby Calves they are 5 months old \nFred Wilson   2 Baby Calves \n  \nPairs \nU of W/ Laramie  2 Blk Pairs 3 yr olds calves tagged to match \nScott Volk   1 Pair \n  \nBreeding Bulls \nVicki Horn   1 Blk Angus Virgin Bull\, 16 months\, Complete Vac. Program\, Semen Tested on April 30\, Coming off grass\, Salt & Mineral Program\, Sired by a Ken Haas Reg. Bull\, Dam was a Reg. Cow\, Home Raised (DOB: March 17\, 2024\, BWT: 80#) \n  \nWeighups \nScott Volk   74 Open Cows \nTwin Buttes   40 Open Cows \nJeb Hanson   22 Cows & Ettes \nU of W/Laramie   20 Open cows \nM T Livestock   13 Cows \nTrue Ranches   6 Bulls \nLarry Steinle  3 Bulls \nFred & Laurie Reichert  5 Open Cows & 1 Bull \nJason Bruckner  2 Open 5 Yr Old Cows \nChapman Bros   2 Open Cows \n  \nVicki Horn   1 Bull \nAmy Jo Farella   1 Open Cow \nBill Connelley   1 Bull \nLazy B Ranch   1 Blk Bull \nMANY MORE CONSIGNMENTS BY SALE DAY \nCheck out www.torringtonlivestock.com for more consignments and to view sales and bid online!!! \nFOR MORE INFORMATION CALL 307-532-3333
URL:https://torringtonlivestock.com/event/friday-july-25th-2025-all-classes/
END:VEVENT
BEGIN:VEVENT
DTSTART;TZID=America/Detroit:20250718T080000
DTEND;TZID=America/Detroit:20250718T170000
DTSTAMP:20260424T200104
CREATED:20250619T022443Z
LAST-MODIFIED:20250723T164233Z
UID:3996-1752825600-1752858000@torringtonlivestock.com
SUMMARY:Friday\, July 18th\, 2025 - Cattle Country Video Deadline
DESCRIPTION:
URL:https://torringtonlivestock.com/event/friday-july-18th-2025-cattle-country-video-deadline/
END:VEVENT
BEGIN:VEVENT
DTSTART;VALUE=DATE:20250718
DTEND;VALUE=DATE:20250719
DTSTAMP:20260424T200104
CREATED:20250619T022350Z
LAST-MODIFIED:20250723T164215Z
UID:3994-1752796800-1752883199@torringtonlivestock.com
SUMMARY:Friday\, July 18th\, 2025 - All Classes
DESCRIPTION:TORRINGTON LIVESTOCK MARKETS \nFriday\, July 18th\, 2025\n All Classes /Feeder Special\nStarting at 8:00 am MDT with Weigh-ups;\nFeeders to Sell Approx. Noon-1:00 Pm MDT                                                            \nFeeders \nBig Creek Ranch   58 Blk/Rd Strs\, 700-900#\, Complete Vac. Program\, Coming off grass\, Home Raised \nRose Valasquez   6 Mx Strs/Hfrs\, 700-800#\, No Shots except for Strs\, Shots on 6/21: Bar Vac\, CDT Toxoid\, No  Implants\, Coming off grass\, Producer All Natural\, Home Raised \nBaer Livestock   2 Mx Strs\, 700-750# \nRodgers Ranch   1 Blk Hfr\, 800-850#\, Complete Vac. Program\, Coming off grass\, Home Raised \nX Bar Cattle   1 Blk Hfr\, 700# \nFaessler Farm   1 Bwf Str\, 675# \n  \nCalves \nWattis Ranch LLC   10 Blk Angus/Gelb-x Strs & Hfrs\, 450-550#\, Weaned 60 days\, Bunk Broke\, Been on Alfalfa Hay and COB Cake\, Pre-cond. Shots: Bovi-Shield Gold 5\, One Shot Ultra 7\, Weaning Shots:  Bovi-Shield Gold 5\, One Shot Ultra 7\, Producer All Natural\, Poured w/Cydectin \nTroy Allen   4 Mx Strs/Hfrs\, 400-475#\, Branding Shots:  7-way w/Somnus\, Vision 7\, Pinkeye \n  \nPairs \nWestern Sky Ranch   1 Dexter Cow Pair\, 5 yr old\, Bred to Black Angus Bull\, Black calf at side \nRooster Ranch   1 Cow Pair \n  \nWeighups \nBig Creek Ranch   53 Mx Cows/Hfretts/Bulls (Majority are Hfretts: 2\, 3\, 4 yr olds) \nSteve Volk   45 Mx Cows \nRockin 7   33 MX Bulls and Cows \nQ Creek Land & Cattle   19 Mx Cows/Bulls \nKenny Porter   10 Mx Hfretts \n****6 Mx Cows \nGarson Ranch   14 Blk Cows \nTroy Allen   6 Mx Cows \nXH Ranch   6 Mx Bulls/Cow \nBrett Gardner   6 Blk Cows/Bull \nRon Lockhart   6 Blk/Rd Cows \nBonander Ranch   6 Mx Cows\, Exposed \nDon Willis   5 Mx Cows \nTA Ranch   5 Mx Cows/Bulls \nRon Eisle   5 Mx Cows \nTJ Hollingsworth   4 Mx Cows \nL-F Enterprises   4 Mx Cows/Hfretts \nPJ Cattle Co.   3 Mx Bulls \nTom Dixon   3 Mx Cows \nSAREC   3 Mx Cows//Bull \nJesse & Malory Cecil   2 Red Bulls \nCJR Ranch   2 Blk Bulls \nRoyce Breeden   2 Blk Horned Bulls \nRodgers Ranch   2 Mx Bulls \nJeff Shmidl   1 Bull\, All Natural \nTravis Willis   1 Bull \nChad Gardner   1 Cow \nJustin Edwards   1 Red Bull \nTwo Creek Land & Livestock   1 Red Bull \nJoe & Annie Campbell   1 Blk Cow \nJoe Deeney   1 Bwf Cow \nWesley Rosengreen   1 Cow\, Exposed \nThree Quarter Cattle   1 Cow\, Exposed \nRooster Ranch   1 Bull \nJustin & Candice Heller   1 Cow \n  \nHorses \nNathan Wallman   14 Mx Mares\, Various Ages\, Coggins Tests are Current\, Note:  3 Mares have foaled \n  \nSplitters/Baby Calves \nFour 0 Six   1 Baby Calf \nProducer Livestock   1 Baby Calf \nMANY MORE CONSIGNMENTS BY SALE DAY \nCheck out www.torringtonlivestock.com for more consignments and to view sales and bid online!!! \nFOR MORE INFORMATION CALL 307-532-3333
URL:https://torringtonlivestock.com/event/friday-july-18th-2025-all-classes/
END:VEVENT
BEGIN:VEVENT
DTSTART;VALUE=DATE:20250711
DTEND;VALUE=DATE:20250712
DTSTAMP:20260424T200104
CREATED:20250619T022308Z
LAST-MODIFIED:20250716T164353Z
UID:3991-1752192000-1752278399@torringtonlivestock.com
SUMMARY:Friday\, July 11th\, 2025 - All Classes
DESCRIPTION:TORRINGTON LIVESTOCK MARKETS \nFriday\, July 11th\, 2025\n All Classes /Feeder Special\nStarting at 9:00 am MDT with Weigh-ups;\nFeeders to Sell Approx. Noon-1:00 Pm MDT\nFeeders \nFalls Ranch   4 Finished Blk Strs\, 1400-1600#\, Ready to go to Freezer \nSchmitt Farms   8 Finished Mostly Blk (1-2 Hereford) Hfrs\, 1400+\, Ready to go to Freezer \nSnowcap Livestock   40 Mx Hfrs\, 650-750#\, Complete Vac. Program \n****13 Mx Strs & Bulls\, 650-750#\, Complete Vac. Program \nDean & Marika Anderson   25 Red Angus/Red Angus-x Hfrs\, 500#\, Guaranteed Open\, Weaned a long time (250+ days)\, Running out on grass\, Vitalix Mineral Tubs\, Branding Shots:  Nasalgen PMH\, Vision 7 w/Spur\, Pre-cond. Shots:  Nasalgen PMH\, BVD\, Vision 7 w/Spur\, Pinkeye\, Weaning Shots:  5-way\, Vision 7 w Spur\, Pour On\, Bangs Vac.\, Spring Shots:  Vista VL5 SQ\, Vision 7 w/Spur\, Foot Rot Shot\, Pour On\, Home Raised \nKelley Cattle Co.   10 Mx Strs & Hfrs\, 700-775#\, Complete Vac. Program \nRound Top Bluffs   9 Mx Strs/Hfrs\, 400-500#\, Complete Vac. Program \nRoger Rousselle   3 Blk Angus-x Strs\, 700-800#\, Been on Alfalfa Hay\, No Shots \nGerald Sterkel   2 Mx Hfrs\, 650#\, Guaranteed Open\, Coming off grass \nDalton Keller   2 Bwf Str\, 350-400#\, Weaned 35-40 days\, Branding Shots \nC 3 Land & Livestock   2 Mx Hfrs\, 700#\, Guaranteed Open\, Coming off grass \n  \nBreeding Bulls \nBill Klein   4 Fancy Virgin Blk Angus Bulls\, Been on Hay & Silage\, Semen Tested\, Sired by KB-Generation E66 (Top Gaining Bull at Midland Bull Test) \n  \nBred Cows/Heifers \nSlipknott Ranches   80 Mx Cows\, Running Ages\, Bred to Blk Bull\, CF: Mx \nUpper Basin Livestock   8 Mx Cows\, Mx Ages\, CF: Mx \nSnowcap Livestock   1 Mx  Cow\, Mx Ages\, CF: Mx \n  \nPairs \nRound Top Bluffs   5 Mx Cow Pairs\, Mx Ages (Young)\, Young Calves at Side \n  \nWeighups \nScott Volk   90 Mx Cows \nSalt Ranch Co.   55 Mx Cows \nReed Revocable Trust   45 Mx Cows \nJP Werner & Sons   43 Mx Cows \nRosemaire & Melissa Harding   31 Mx Cows \nBryan Bruch   30 Mx Cows \nKelley Cattle Co.   24 Mx Cows/Bulls \nGerald Sterkel   13 Mx Cows \nGG Land & Livestock   12 Mx Cows \nBanner Ranch   8 Mx Cows \nCJR Ranch   5 Blk Bulls \nHoward Deselms   4 Blk/Bwf Cows \nC 3 Land & Livestock   3 Mx Bulls \nBoyd Supan   3 Mx Cows \nTRH Ranch Inc.   2 Blk Bulls \nRead Livestock   1 Blk Bull \nRoger Rouselle   1 Cow \nUniversity of Wyoming   1 Bull \nMANY MORE CONSIGNMENTS BY SALE DAY \nCheck out www.torringtonlivestock.com for more consignments and to view sales and bid online!!! \nFOR MORE INFORMATION CALL 307-532-3333 \nPrint Sale Bill
URL:https://torringtonlivestock.com/event/friday-july-11th-2025-all-classes/
LOCATION:All Classes\, 626 West Valley Rd\, Torrington\, WY\, 82240\, United States
END:VEVENT
END:VCALENDAR