BEGIN:VCALENDAR
VERSION:2.0
PRODID:-//Torrington Livestock Market - ECPv6.15.20//NONSGML v1.0//EN
CALSCALE:GREGORIAN
METHOD:PUBLISH
X-WR-CALNAME:Torrington Livestock Market
X-ORIGINAL-URL:https://torringtonlivestock.com
X-WR-CALDESC:Events for Torrington Livestock Market
REFRESH-INTERVAL;VALUE=DURATION:PT1H
X-Robots-Tag:noindex
X-PUBLISHED-TTL:PT1H
BEGIN:VTIMEZONE
TZID:America/Denver
BEGIN:DAYLIGHT
TZOFFSETFROM:-0700
TZOFFSETTO:-0600
TZNAME:MDT
DTSTART:20250309T090000
END:DAYLIGHT
BEGIN:STANDARD
TZOFFSETFROM:-0600
TZOFFSETTO:-0700
TZNAME:MST
DTSTART:20251102T080000
END:STANDARD
BEGIN:DAYLIGHT
TZOFFSETFROM:-0700
TZOFFSETTO:-0600
TZNAME:MDT
DTSTART:20260308T090000
END:DAYLIGHT
BEGIN:STANDARD
TZOFFSETFROM:-0600
TZOFFSETTO:-0700
TZNAME:MST
DTSTART:20261101T080000
END:STANDARD
BEGIN:DAYLIGHT
TZOFFSETFROM:-0700
TZOFFSETTO:-0600
TZNAME:MDT
DTSTART:20270314T090000
END:DAYLIGHT
BEGIN:STANDARD
TZOFFSETFROM:-0600
TZOFFSETTO:-0700
TZNAME:MST
DTSTART:20271107T080000
END:STANDARD
END:VTIMEZONE
BEGIN:VEVENT
DTSTART;VALUE=DATE:20260501
DTEND;VALUE=DATE:20260502
DTSTAMP:20260425T080754
CREATED:20260414T220338Z
LAST-MODIFIED:20260422T142337Z
UID:5635-1777593600-1777679999@torringtonlivestock.com
SUMMARY:Friday\, May 1st\, 2026 - All Classes
DESCRIPTION:TORRINGTON LIVESTOCK MARKETS \nFriday\, May 1st\, 2026\n All Classes\nStarting at 8:00 am MDT with Weigh-ups\n                                                                 \nWeighups \nColten Rodeman   1 Cow \n  \nThought of the Day: \nPlant Smiles\, Grow Laughter\, Harvest Love   \n  \nMANY MORE CONSIGNMENTS BY SALE DAY \nCheck out www.torringtonlivestock.com for more consignments and to view sales and bid online!!! \nFOR MORE INFORMATION CALL 307-532-3333
URL:https://torringtonlivestock.com/event/friday-may-1st-2026-all-classes/
CATEGORIES:Friday Sales
END:VEVENT
BEGIN:VEVENT
DTSTART;VALUE=DATE:20260508
DTEND;VALUE=DATE:20260509
DTSTAMP:20260425T080754
CREATED:20260414T220422Z
LAST-MODIFIED:20260414T220422Z
UID:5637-1778198400-1778284799@torringtonlivestock.com
SUMMARY:Friday\, May 8th\, 2026 - Bred/Pair Special
DESCRIPTION:
URL:https://torringtonlivestock.com/event/friday-may-8th-2026-bred-pair-special/
CATEGORIES:Friday Sales
END:VEVENT
BEGIN:VEVENT
DTSTART;VALUE=DATE:20260513
DTEND;VALUE=DATE:20260514
DTSTAMP:20260425T080754
CREATED:20260414T220643Z
LAST-MODIFIED:20260414T220643Z
UID:5639-1778630400-1778716799@torringtonlivestock.com
SUMMARY:Wednesday\, May 13th\, 2026 - Feeder Special
DESCRIPTION:
URL:https://torringtonlivestock.com/event/wednesday-may-13th-2026-feeder-special/
CATEGORIES:Wednesday Sales
END:VEVENT
BEGIN:VEVENT
DTSTART;VALUE=DATE:20260515
DTEND;VALUE=DATE:20260516
DTSTAMP:20260425T080754
CREATED:20260414T220917Z
LAST-MODIFIED:20260414T220917Z
UID:5641-1778803200-1778889599@torringtonlivestock.com
SUMMARY:Friday\, May 15th\, 2026 - All Classes
DESCRIPTION:
URL:https://torringtonlivestock.com/event/friday-may-15th-2026-all-classes/
CATEGORIES:Friday Sales
END:VEVENT
BEGIN:VEVENT
DTSTART;VALUE=DATE:20260522
DTEND;VALUE=DATE:20260523
DTSTAMP:20260425T080754
CREATED:20260414T221202Z
LAST-MODIFIED:20260414T221212Z
UID:5643-1779408000-1779494399@torringtonlivestock.com
SUMMARY:Friday\, May 22nd\, 2026 - Bred/Pair Special
DESCRIPTION:
URL:https://torringtonlivestock.com/event/friday-may-22nd-bred-pair-special/
CATEGORIES:Friday Sales
END:VEVENT
BEGIN:VEVENT
DTSTART;VALUE=DATE:20260527
DTEND;VALUE=DATE:20260528
DTSTAMP:20260425T080754
CREATED:20260414T221430Z
LAST-MODIFIED:20260414T221430Z
UID:5646-1779840000-1779926399@torringtonlivestock.com
SUMMARY:Wednesday\, May 27th\, 2026 - Feeder Special
DESCRIPTION:
URL:https://torringtonlivestock.com/event/wednesday-may-27th-2026-feeder-special/
CATEGORIES:Wednesday Sales
END:VEVENT
BEGIN:VEVENT
DTSTART;VALUE=DATE:20260529
DTEND;VALUE=DATE:20260530
DTSTAMP:20260425T080754
CREATED:20260414T221507Z
LAST-MODIFIED:20260414T221507Z
UID:5648-1780012800-1780099199@torringtonlivestock.com
SUMMARY:Friday\, May 29th\, 2026 - All Classes
DESCRIPTION:
URL:https://torringtonlivestock.com/event/friday-may-29th-2026-all-classes/
END:VEVENT
END:VCALENDAR